Workbook

Sheet Voucher_A
V1: =SUM(V3:V98) -> 114675 | W1: =SUM(W3:W98) -> 3915
A2: DOMANDA_ID_MODAST | B2: NOTE | C2: ESITO_31ago2026 | D2: ID_TIPO_RICHIEDENTE | E2: RICHIEDENTE_COGNOME | F2: RICHIEDENTE_NOME | G2: RICHIEDENTE_CODFISC | H2: BENEFICIARIO_COGNOME | I2: BENEFICIARIO_NOME | J2: BENEFICIARIO_CODFISC | K2: RICHIEDENTE_EMAIL | L2: RICHIEDENTE_TELEFONO2 | M2: STUDENTE_COGNOME | N2: STUDENTE_NOME | O2: STUDENTE_CODFISC | P2: RICHIEDENTE_IDCOMUNERESID | Q2: STUDENTE_IDCOMUNERESID | R2: ISEEVALORE | S2: ORDINE_SCUOLA | T2: FLAG_STUDCERTIF104 | U2: FLAG_STUDCERTIFDSA | V2: IMP_CONTRIB_SPETT | W2: EVENTUALE MAGGIORAZIONE DEL 30% PER DSA
A3: VOUCHER.2026.8143643 | B3: tipo indirizzo != 1 | C3: =VLOOKUP(A3,esito_ANPR_31AGO!C:G,5,FALSE()) -> tipo indirizzo = 11 | D3: 1 | E3: MURASHKINA | F3: OKSANA | G3: MRSKSN84P68Z138Y | H3: MURASHKINA | I3: OKSANA | J3: MRSKSN84P68Z138Y | K3: muroks777@icloud.com | L3: 00393478056728 | M3: MURASHKINA | N3: MARIIA | O3: MRSMRA15A59Z138Q | P3: 909 | Q3: 909 | R3: 0 | S3: 1 | T3: N | U3: N | V3: 1400
A4: VOUCHER.2026.6448578 | B4: EN122 Soggetto non registrato in ANPR | C4: =VLOOKUP(A4,esito_ANPR_31AGO!C:G,5,FALSE()) -> #N/A | D4: 1 | E4: VILLEGAS ARONE | F4: STEFHANIE ZAIDA | G4: VLLSFH90S44Z611U | H4: VILLEGAS ARONE | I4: STEFHANIE ZAIDA | J4: VLLSFH90S44Z611U | K4: stefhaniezaida@gmail.com | L4: 00393928149472 | M4: MAQUIRHUA VILLEGAS | N4: MARCIA VALENTINA | O4: MQRMCV11C50Z611D | P4: 604 | Q4: 604 | R4: 0 | S4: 3 | T4: N | U4: S | V4: 2150 | W4: =V4*30% -> 645
A5: VOUCHER.2026.5135466 | B5: tipo indirizzo != 1 | C5: =VLOOKUP(A5,esito_ANPR_31AGO!C:G,5,FALSE()) -> tipo indirizzo = 11 | D5: 1 | E5: DONG | F5: JUNMEI | G5: DNGJNM84H61Z210Y | H5: DONG | I5: JUNMEI | J5: DNGJNM84H61Z210Y | K5: pan.lina2014@gmail.com | L5: 00393335612710 | M5: PAN | N5: YIRU | O5: PNAYRI14S45L219Y | P5: 458 | Q5: 458 | R5: 3904.8 | S5: 2 | T5: N | U5: N | V5: 1650
A6: VOUCHER.2026.6107114 | B6: tipo indirizzo != 1 | C6: =VLOOKUP(A6,esito_ANPR_31AGO!C:G,5,FALSE()) -> tipo indirizzo = 10 | D6: 1 | E6: GAGO OROYA | F6: YENI HERLINDA | G6: GGRYHR77P67Z611W | H6: GAGO OROYA | I6: YENI HERLINDA | J6: GGRYHR77P67Z611W | K6: yenigago27@gmail.com | L6: 00393519075737 | M6: DABRAIM GAGO | N6: YASSMINE | O6: DBRYSM15B46F952U | P6: 1462 | Q6: 1462 | R6: 4664.41 | S6: 2 | T6: N | U6: N | V6: 1650
A7: VOUCHER.2026.8556329 | B7: tipo indirizzo != 1 | C7: =VLOOKUP(A7,esito_ANPR_31AGO!C:G,5,FALSE()) -> tipo indirizzo = 11 | D7: 1 | E7: FOGLIANO | F7: SARA | G7: FGLSRA88T53L219K | H7: FOGLIANO | I7: SARA | J7: FGLSRA88T53L219K | K7: sara.fogliano23@gmail.com | L7: 00393780647324 | M7: RUSSO | N7: EMILY JOY | O7: RSSMYJ20R71Z700Q | P7: 450 | Q7: 450 | R7: 4775.87 | S7: 1 | T7: N | U7: N | V7: 1400
A8: VOUCHER.2026.3239474 | B8: tipo indirizzo != 1 | C8: =VLOOKUP(A8,esito_ANPR_31AGO!C:G,5,FALSE()) -> tipo indirizzo = 11 | D8: 1 | E8: SCALISE | F8: FRANCESCA | G8: SCLFNC93R61L219R | H8: SCALISE | I8: FRANCESCA | J8: SCLFNC93R61L219R | K8: francyscalise_2005@libero.it | L8: 393461812738 | M8: REKKA | N8: MATTIA | O8: RKKMTT20H27L219O | P8: 330 | Q8: 330 | R8: 5857.32 | S8: 1 | T8: N | U8: N | V8: 1400
A9: VOUCHER.2026.7833278 | B9: tipo indirizzo != 1 | C9: =VLOOKUP(A9,esito_ANPR_31AGO!C:G,5,FALSE()) -> tipo indirizzo = 10 | D9: 1 | E9: DISTILO | F9: FRANCESCO | G9: DSTFNC73T15C627U | H9: DISTILO | I9: FRANCESCO | J9: DSTFNC73T15C627U | K9: fdsevo@gmail.com | L9: 00393334326930 | M9: DISTILLO | N9: VITTORIO | O9: DSTVTR14T12C627V | P9: 595 | Q9: 595 | R9: 6500.23 | S9: 2 | T9: N | U9: N | V9: 1650
A10: VOUCHER.2026.2529873 | B10: tipo indirizzo != 1 | C10: =VLOOKUP(A10,esito_ANPR_31AGO!C:G,5,FALSE()) -> tipo indirizzo = 11 | D10: 1 | E10: MISURACA | F10: MARIA LUISA | G10: MSRMLS94H50L219I | H10: MISURACA | I10: MARIA LUISA | J10: MSRMLS94H50L219I | K10: marialuisamisuraca@icloud.com | L10: 00393513456876 | M10: UNGOLO MISURACA | N10: LUDOVICA | O10: NGLLVC18P43L219J | P10: 450 | Q10: 450 | R10: 7905.76 | S10: 1 | T10: N | U10: N | V10: 1400
A11: VOUCHER.2026.3798768 | B11: tipo indirizzo != 1 | C11: =VLOOKUP(A11,esito_ANPR_31AGO!C:G,5,FALSE()) -> tipo indirizzo = 11 | D11: 1 | E11: HOROBET | F11: PETRONELA | G11: HRBPRN81H66Z129U | H11: HOROBET | I11: PETRONELA | J11: HRBPRN81H66Z129U | K11: petronelahorobet@gmail.com | L11: 00393285539476 | M11: CIRIGLIANO | N11: AUGUSTA | O11: CRGGST15S58A717U | P11: 909 | Q11: 909 | R11: 8579.56 | S11: 2 | T11: N | U11: N | V11: 1650
A12: VOUCHER.2026.5932094 | B12: tipo indirizzo != 1 | C12: =VLOOKUP(A12,esito_ANPR_31AGO!C:G,5,FALSE()) -> tipo indirizzo = 11 | D12: 1 | E12: NZEYANG NGOMSI | F12: THIERRY | G12: NZYTRR80L27Z306U | H12: NZEYANG NGOMSI | I12: THIERRY | J12: NZYTRR80L27Z306U | K12: thierryroland_80@yahoo.fr | L12: 00393280270062 | M12: NOUNDA NGOMSI MATESSA | N12: LYSA MOUNIRA | O12: NNDLSM09L60Z306N | P12: 330 | Q12: 330 | R12: 9451.71 | S12: 3 | T12: N | U12: N | V12: 2150
A13: VOUCHER.2026.3469335 | B13: tipo indirizzo != 1 | C13: =VLOOKUP(A13,esito_ANPR_31AGO!C:G,5,FALSE()) -> tipo indirizzo = 11 | D13: 1 | E13: NZEYANG NGOMSI | F13: THIERRY | G13: NZYTRR80L27Z306U | H13: NZEYANG NGOMSI | I13: THIERRY | J13: NZYTRR80L27Z306U | K13: thierryroland_80@yahoo.fr | L13: 00393280270062 | M13: NGOMSI | N13: EMMANUEL | O13: NGMMNL15H04Z306J | P13: 330 | Q13: 330 | R13: 9451.71 | S13: 2 | T13: N | U13: N | V13: 1650
A14: VOUCHER.2026.6609822 | B14: tipo indirizzo != 1 | C14: =VLOOKUP(A14,esito_ANPR_31AGO!C:G,5,FALSE()) -> tipo indirizzo = 11 | D14: 1 | E14: DOCI | F14: KRISTIANA | G14: DCOKST92T42Z100D | H14: DOCI | I14: KRISTIANA | J14: DCOKST92T42Z100D | K14: docikristiana@gmail.com | L14: 00393715422747 | M14: AITA | N14: DENISE | O14: TAIDNS20E60C751P | P14: 1470 | Q14: 1470 | R14: 9514.16 | S14: 1 | T14: N | U14: N | V14: 1400
A15: VOUCHER.2026.4387613 | B15: EN122 Soggetto non registrato in ANPR | C15: =VLOOKUP(A15,esito_ANPR_31AGO!C:G,5,FALSE()) -> #N/A | D15: 1 | E15: CHAKIDER | F15: SHAFIQUE | G15: CHKSFQ83S24Z249F | H15: CHAKIDER | I15: SHAFIQUE | J15: CHKSFQ83S24Z249F | K15: banvlachabi@gmail.com | L15: 00393272151372 | M15: MAYAN | N15: CHAKIDER | O15: MYNCKD20R28Z249C | P15: 330 | Q15: 330 | R15: 9652.23 | S15: 1 | T15: N | U15: N | V15: 1400
A16: VOUCHER.2026.7082478 | B16: tipo indirizzo != 1 | C16: =VLOOKUP(A16,esito_ANPR_31AGO!C:G,5,FALSE()) -> tipo indirizzo = 10 | D16: 1 | E16: TERRAGNO | F16: MARIANGELA | G16: TRRMNG83A50G317H | H16: TERRAGNO | I16: MARIANGELA | J16: TRRMNG83A50G317H | K16: matteoritalidia@gmail.com | L16: 00393493234594 | M16: SICILIANO | N16: LIDIA | O16: SCLLDI16A57H355B | P16: 600 | Q16: 600 | R16: 9750.59 | S16: 1 | T16: N | U16: N | V16: 1400
A17: VOUCHER.2026.9938769 | B17: tipo indirizzo != 1 | C17: =VLOOKUP(A17,esito_ANPR_31AGO!C:G,5,FALSE()) -> tipo indirizzo = 10 | D17: 1 | E17: PERDICHIZZI | F17: ROSARIA | G17: PRDRSR76T51G273K | H17: PERDICHIZZI | I17: ROSARIA | J17: PRDRSR76T51G273K | K17: rosinovara20@gmail.com | L17: 00393203153420 | M17: MORANA | N17: SARA | O17: MRNSRA11S43F952L | P17: 1462 | Q17: 1462 | R17: 9775.37 | S17: 3 | T17: N | U17: S | V17: 2150 | W17: =V17*30% -> 645
A18: VOUCHER.2026.2721178 | B18: tipo indirizzo != 1 | C18: =VLOOKUP(A18,esito_ANPR_31AGO!C:G,5,FALSE()) -> tipo indirizzo = 10 | D18: 1 | E18: ERRAMI | F18: ABDELLAH | G18: RRMBLL74D22Z330A | H18: ERRAMI | I18: ABDELLAH | J18: RRMBLL74D22Z330A | K18: abdellaherrami74@gmail.com | L18: 00393895933524 | M18: ERRAMI | N18: LOUKMAN | O18: RRMLMN12H26Z110S | P18: 377 | Q18: 377 | R18: 9891.04 | S18: 3 | T18: N | U18: N | V18: 2150
A19: VOUCHER.2026.6817075 | B19: tipo indirizzo != 1 | C19: =VLOOKUP(A19,esito_ANPR_31AGO!C:G,5,FALSE()) -> tipo indirizzo = 10 | D19: 1 | E19: VACA PURTSCHERT | F19: ANA CRISTINA | G19: VCPNRS89T44Z605G | H19: VACA PURTSCHERT | I19: ANA CRISTINA | J19: VCPNRS89T44Z605G | K19: anacrisvp4@gmail.com | L19: 00393383674471 | M19: BOLZONI | N19: GIULIA VICTORIA | O19: BLZGVC14S66Z605M | P19: 1462 | Q19: 1462 | R19: 10464.47 | S19: 2 | T19: N | U19: N | V19: 1200
A20: VOUCHER.2026.1009800 | B20: EN122 Soggetto non registrato in ANPR | C20: =VLOOKUP(A20,esito_ANPR_31AGO!C:G,5,FALSE()) -> #N/A | D20: 1 | E20: PANTHALLOOKKARAN LONAPPAN | F20: JESNA | G20: PNTJSN92S45Z222X | H20: PANTHALLOOKKARAN LONAPPAN | I20: JESNA | J20: PNTJSN92S45Z222X | K20: pljesna1990@gmail.com | L20: 00393246906848 | M20: NICE | N20: EDWIN | O20: NCIDWN15R29Z222W | P20: 330 | Q20: 330 | R20: 10934.8 | S20: 1 | T20: N | U20: N | V20: 1050
A21: VOUCHER.2026.6835649 | B21: tipo indirizzo != 1 | C21: =VLOOKUP(A21,esito_ANPR_31AGO!C:G,5,FALSE()) -> tipo indirizzo = 10 | D21: 1 | E21: GALANTE | F21: NUNZIO | G21: GLNNNZ73B11L219H | H21: GALANTE | I21: NUNZIO | J21: GLNNNZ73B11L219H | K21: nunzio.galante73@gmail.com | L21: 00393495008110 | M21: GALANTE | N21: MARIASOLE | O21: GLNMSL19T48L219J | P21: 330 | Q21: 330 | R21: 11400.38 | S21: 1 | T21: N | U21: N | V21: 1050
A22: VOUCHER.2026.1488501 | B22: tipo indirizzo != 1 | C22: =VLOOKUP(A22,esito_ANPR_31AGO!C:G,5,FALSE()) -> tipo indirizzo = 10 | D22: 1 | E22: GALANTE | F22: NUNZIO | G22: GLNNNZ73B11L219H | H22: GALANTE | I22: NUNZIO | J22: GLNNNZ73B11L219H | K22: nunzio.galante73@gmail.com | L22: 00393495008110 | M22: GALANTE | N22: FRANCESCO | O22: GLNFNC17D26L219M | P22: 330 | Q22: 330 | R22: 11400.38 | S22: 1 | T22: N | U22: N | V22: 1050
A23: VOUCHER.2026.4942463 | B23: tipo indirizzo != 1 | C23: =VLOOKUP(A23,esito_ANPR_31AGO!C:G,5,FALSE()) -> tipo indirizzo = 11 | D23: 1 | E23: ROCCA | F23: CARMELA GISELDA | G23: RCCCML66E64E479C | H23: ROCCA | I23: CARMELA GISELDA | J23: RCCCML66E64E479C | K23: rcccarmen@yahoo.it | L23: 00393402817157 | M23: SALERNO | N23: CAMILLA | O23: SLRCLL10L68L219L | P23: 330 | Q23: 330 | R23: 11473.21 | S23: 3 | T23: N | U23: N | V23: 1600
A24: VOUCHER.2026.8268833 | B24: tipo indirizzo != 1 | C24: =VLOOKUP(A24,esito_ANPR_31AGO!C:G,5,FALSE()) -> tipo indirizzo = 11 | D24: 1 | E24: FLECCHIA | F24: MARCO | G24: FLCMRC62D07L219A | H24: FLECCHIA | I24: MARCO | J24: FLCMRC62D07L219A | K24: flecchiamarco62@gmail.com | L24: 00393204654867 | M24: FLECCHIA | N24: SERENA JASMIN | O24: FLCSNJ17S57L219Z | P24: 450 | Q24: 450 | R24: 11731.46 | S24: 1 | T24: N | U24: N | V24: 1050
A25: VOUCHER.2026.7223188 | B25: tipo indirizzo != 1 | C25: =VLOOKUP(A25,esito_ANPR_31AGO!C:G,5,FALSE()) -> tipo indirizzo = 11 | D25: 1 | E25: MASTRAPASQUA | F25: SABINO | G25: MSTSBN84L05L219D | H25: MASTRAPASQUA | I25: SABINO | J25: MSTSBN84L05L219D | K25: sabbi84@libero.it | L25: 393466319735 | M25: MASTRAPASQUA | N25: MATTIA | O25: MSTMTT20P09L219G | P25: 450 | Q25: 450 | R25: 12109.58 | S25: 1 | T25: N | U25: N | V25: 1050
A26: VOUCHER.2026.2969904 | B26: tipo indirizzo != 1 | C26: =VLOOKUP(A26,esito_ANPR_31AGO!C:G,5,FALSE()) -> tipo indirizzo = 11 | D26: 1 | E26: SU | F26: MINMIN | G26: SUXMMN88E61Z210S | H26: SU | I26: MINMIN | J26: SUXMMN88E61Z210S | K26: minminsu88@gmail.com | L26: 00393318197586 | M26: CHEN | N26: JIAYI JENNIFER | O26: CHNJJN13D65L219M | P26: 330 | Q26: 330 | R26: 12164.99 | S26: 2 | T26: N | U26: N | V26: 1200
A27: VOUCHER.2026.7478301 | B27: tipo indirizzo != 1 | C27: =VLOOKUP(A27,esito_ANPR_31AGO!C:G,5,FALSE()) -> tipo indirizzo = 11 | D27: 1 | E27: CIOCOI | F27: IULIA | G27: CCILIU93C42Z129G | H27: CIOCOI | I27: IULIA | J27: CCILIU93C42Z129G | K27: Yulya_12@yahoo.com | L27: 393343150913 | M27: TELEABA | N27: EMILY | O27: TLBMLY20A58L219D | P27: 330 | Q27: 330 | R27: 12503.66 | S27: 1 | T27: N | U27: N | V27: 1050
A28: VOUCHER.2026.1845269 | B28: tipo indirizzo != 1 | C28: =VLOOKUP(A28,esito_ANPR_31AGO!C:G,5,FALSE()) -> tipo indirizzo = 11 | D28: 1 | E28: DIEGO ARANA | F28: TRACY MILAGROS | G28: DGRTCY92D41Z611O | H28: DIEGO ARANA | I28: TRACY MILAGROS | J28: DGRTCY92D41Z611O | K28: tracydiar.01@gmail.com | L28: 00393271809035 | M28: GARCIA DIEGO | N28: THIAGO JEAN PAULO | O28: GRCTGJ13H29Z611I | P28: 330 | Q28: 330 | R28: 12555.42 | S28: 2 | T28: N | U28: N | V28: 1200
A29: VOUCHER.2026.2830356 | B29: tipo indirizzo != 1 | C29: =VLOOKUP(A29,esito_ANPR_31AGO!C:G,5,FALSE()) -> tipo indirizzo = 11 | D29: 1 | E29: DIEGO ARANA | F29: TRACY MILAGROS | G29: DGRTCY92D41Z611O | H29: DIEGO ARANA | I29: TRACY MILAGROS | J29: DGRTCY92D41Z611O | K29: tracydiar.01@gmail.com | L29: 00393271809035 | M29: GARCIA DIEGO | N29: LIAM GIANLUCCA | O29: GRCLGN15T26Z611X | P29: 330 | Q29: 330 | R29: 12555.42 | S29: 2 | T29: N | U29: S | V29: 1200 | W29: =V29*30% -> 360
A30: VOUCHER.2026.2137243 | B30: tipo indirizzo != 1 | C30: =VLOOKUP(A30,esito_ANPR_31AGO!C:G,5,FALSE()) -> tipo indirizzo = 11 | D30: 1 | E30: BRUNASSO | F30: VITTORIA | G30: BRNVTR91H64E379A | H30: BRUNASSO | I30: VITTORIA | J30: BRNVTR91H64E379A | K30: vittoria.brunasso@gmail.com | L30: 00393479556686 | M30: BIONDI | N30: LORENZO LEONE | O30: BNDLNZ20E17E379R | P30: 455 | Q30: 455 | R30: 12796.88 | S30: 1 | T30: N | U30: N | V30: 1050
A31: VOUCHER.2026.1964758 | B31: tipo indirizzo != 1 | C31: =VLOOKUP(A31,esito_ANPR_31AGO!C:G,5,FALSE()) -> tipo indirizzo = 11 | D31: 1 | E31: BELLINO | F31: GIUSEPPE | G31: BLLGPP83P25L219N | H31: BELLINO | I31: GIUSEPPE | J31: BLLGPP83P25L219N | K31: bellino.beppe@gmail.com | L31: 00393349244181 | M31: BELLINO | N31: ELENA | O31: BLLLNE19A42L219D | P31: 450 | Q31: 450 | R31: 13436.7 | S31: 1 | T31: N | U31: N | V31: 1050
A32: VOUCHER.2026.1160694 | B32: tipo indirizzo != 1 | C32: =VLOOKUP(A32,esito_ANPR_31AGO!C:G,5,FALSE()) -> tipo indirizzo = 11 | D32: 1 | E32: SETTEMBRE | F32: MARIELLA | G32: STTMLL72H56L219K | H32: SETTEMBRE | I32: MARIELLA | J32: STTMLL72H56L219K | K32: mariella1606@gmail.com | L32: 00393924607193 | M32: STOLFI | N32: VITTORIA | O32: STLVTR13M49H355J | P32: 524 | Q32: 524 | R32: 13502.32 | S32: 2 | T32: N | U32: N | V32: 1200
A33: VOUCHER.2026.6116248 | B33: tipo indirizzo != 1 | C33: =VLOOKUP(A33,esito_ANPR_31AGO!C:G,5,FALSE()) -> tipo indirizzo = 10 | D33: 1 | E33: GEORGE | F33: ANNAMMA | G33: GRGNMM89H64Z222F | H33: GEORGE | I33: ANNAMMA | J33: GRGNMM89H64Z222F | K33: sinusebastian2022@gmail.com | L33: 00393755657907 | M33: SINU | N33: CRISTINA ANN | O33: SNICST15E62C722Y | P33: 458 | Q33: 458 | R33: 13665.11 | S33: 2 | T33: N | U33: N | V33: 1200
A34: VOUCHER.2026.4433926 | B34: EN122 Soggetto non registrato in ANPR | C34: =VLOOKUP(A34,esito_ANPR_31AGO!C:G,5,FALSE()) -> #N/A | D34: 1 | E34: FRUGGIERO | F34: ALESSANDRA | G34: FRGLSN81T68F952U | H34: FRUGGIERO | I34: ALESSANDRA | J34: FRGLSN81T68F952U | K34: caiomxp21@gmail.com | L34: 00393515569852 | M34: FRUGGIERO | N34: FEDERICO | O34: FRGFRC07E09F952E | P34: 1462 | Q34: 1462 | R34: 14130.19 | S34: 3 | T34: N | U34: N | V34: 1600
A35: VOUCHER.2026.6346741 | B35: tipo indirizzo != 1 | C35: =VLOOKUP(A35,esito_ANPR_31AGO!C:G,5,FALSE()) -> tipo indirizzo = 11 | D35: 1 | E35: SURACE | F35: STEFANIA | G35: SRCSFN91T54G082S | H35: SURACE | I35: STEFANIA | J35: SRCSFN91T54G082S | K35: stefanya.surace@gmail.com | L35: 00393881567317 | M35: ASCRIZZI | N35: MIRIAM | O35: SCRMRM19A63G388N | P35: 773 | Q35: 773 | R35: 14146.96 | S35: 1 | T35: N | U35: N | V35: 1050
A36: VOUCHER.2026.3586112 | B36: tipo indirizzo != 1 | C36: =VLOOKUP(A36,esito_ANPR_31AGO!C:G,5,FALSE()) -> tipo indirizzo = 10 | D36: 1 | E36: MOTTO | F36: DAVIDE | G36: MTTDVD71M31E379P | H36: MOTTO | I36: DAVIDE | J36: MTTDVD71M31E379P | K36: davidemotto71@gmail.com | L36: 00393406983636 | M36: MOTTO | N36: BEATRICE | O36: MTTBRC15P45C665T | P36: 330 | Q36: 330 | R36: 14330.35 | S36: 2 | T36: N | U36: N | V36: 1200
A37: VOUCHER.2026.8075333 | B37: tipo indirizzo != 1 | C37: =VLOOKUP(A37,esito_ANPR_31AGO!C:G,5,FALSE()) -> tipo indirizzo = 11 | D37: 1 | E37: MIJNO | F37: CHRISTIAN | G37: MJNCRS76E04Z103S | H37: MIJNO | I37: CHRISTIAN | J37: MJNCRS76E04Z103S | K37: christianmijno41@gmail.com | L37: 00393402850758 | M37: MIJNO | N37: ISABEL | O37: MJNSBL09M60L219T | P37: 330 | Q37: 330 | R37: 14725.3 | S37: 3 | T37: N | U37: N | V37: 1600
A38: VOUCHER.2026.8190345 | B38: tipo indirizzo != 1 | C38: =VLOOKUP(A38,esito_ANPR_31AGO!C:G,5,FALSE()) -> tipo indirizzo = 10 | D38: 1 | E38: COLOMBO | F38: SIMONA | G38: CLMSMN71B61F952N | H38: COLOMBO | I38: SIMONA | J38: CLMSMN71B61F952N | K38: simona.colombo0208@gmail.com | L38: 00393497799844 | M38: GARINI | N38: GUGLIELMO MARIA | O38: GRNGLL08L22F205M | P38: 1462 | Q38: 1462 | R38: 14780.92 | S38: 3 | T38: N | U38: N | V38: 1600
A39: VOUCHER.2026.8423160 | B39: tipo indirizzo != 1 | C39: =VLOOKUP(A39,esito_ANPR_31AGO!C:G,5,FALSE()) -> tipo indirizzo = 10 | D39: 1 | E39: SCHIAVONI | F39: ELISA | G39: SCHLSE81A66F952G | H39: SCHIAVONI | I39: ELISA | J39: SCHLSE81A66F952G | K39: schiavoni.elisa@yahoo.it | L39: 00393473871662 | M39: SCHIAVONI | N39: PIERSILVIO | O39: SCHPSL14D19F952I | P39: 1462 | Q39: 1462 | R39: 14908.7 | S39: 2 | T39: N | U39: S | V39: 1200 | W39: =V39*30% -> 360
A40: VOUCHER.2026.7706558 | B40: tipo indirizzo != 1 | C40: =VLOOKUP(A40,esito_ANPR_31AGO!C:G,5,FALSE()) -> tipo indirizzo = 10 | D40: 1 | E40: CAVAGLIA' | F40: MARIA CRISTINA | G40: CVGMCR72A46L219W | H40: CAVAGLIÀ | I40: MARIA CRISTINA | J40: CVGMCR72A46L219W | K40: mariacristina.cavaglia@gmail.com | L40: 00393334618430 | M40: RUSSO | N40: JACOPO | O40: RSSJCP08T10L219A | P40: 595 | Q40: 595 | R40: 15029.7 | S40: 3 | T40: N | U40: N | V40: 1600
A41: VOUCHER.2026.3280415 | B41: tipo indirizzo != 1 | C41: =VLOOKUP(A41,esito_ANPR_31AGO!C:G,5,FALSE()) -> tipo indirizzo = 10 | D41: 1 | E41: VONA | F41: PIETRO | G41: VNOPTR82C13G508W | H41: VONA | I41: PIETRO | J41: VNOPTR82C13G508W | K41: pietrovona4@gmail.com | L41: 00393495746832 | M41: VONA | N41: FRANCESCA | O41: VNOFNC16H57L219O | P41: 428 | Q41: 428 | R41: 15223.61 | S41: 1 | T41: N | U41: N | V41: 1050
A42: VOUCHER.2026.6918483 | B42: tipo indirizzo != 1 | C42: =VLOOKUP(A42,esito_ANPR_31AGO!C:G,5,FALSE()) -> tipo indirizzo = 10 | D42: 1 | E42: NWAOKORO | F42: CYNTHIA CHINOSO | G42: NWKCNT83M48Z335O | H42: NWAOKORO | I42: CYNTHIA CHINOSO | J42: NWKCNT83M48Z335O | K42: divinefavour660@ymail.com | L42: 00393881751542 | M42: OMOBUDE | N42: DANIEL OSAVBE | O42: MBDDLS13B28F952H | P42: 1462 | Q42: 1462 | R42: 15386.29 | S42: 2 | T42: N | U42: N | V42: 1200
A43: VOUCHER.2026.7634942 | B43: tipo indirizzo != 1 | C43: =VLOOKUP(A43,esito_ANPR_31AGO!C:G,5,FALSE()) -> tipo indirizzo = 10 | D43: 1 | E43: NWAOKORO | F43: CYNTHIA CHINOSO | G43: NWKCNT83M48Z335O | H43: NWAOKORO | I43: CYNTHIA CHINOSO | J43: NWKCNT83M48Z335O | K43: divinefavour660@ymail.com | L43: 00393881751542 | M43: OMOBUDE | N43: DEBORAH ESOSA | O43: MBDDRH21A50F952P | P43: 1462 | Q43: 1462 | R43: 15386.29 | S43: 1 | T43: N | U43: N | V43: 1050
A44: VOUCHER.2026.3537852 | B44: tipo indirizzo != 1 | C44: =VLOOKUP(A44,esito_ANPR_31AGO!C:G,5,FALSE()) -> tipo indirizzo = 10 | D44: 1 | E44: MARCOLIN | F44: VALERIA | G44: MRCVLR83B52A182X | H44: MARCOLIN | I44: VALERIA | J44: MRCVLR83B52A182X | K44: valy207@virgilio.it | L44: 00393483925981 | M44: DAMOSSO | N44: VITTORIA | O44: DMSVTR19B65A479S | P44: 1053 | Q44: 1053 | R44: 15790.56 | S44: 1 | T44: N | U44: N | V44: 1050
A45: VOUCHER.2026.2455501 | B45: tipo indirizzo != 1 | C45: =VLOOKUP(A45,esito_ANPR_31AGO!C:G,5,FALSE()) -> tipo indirizzo = 10 | D45: 1 | E45: CHIPANA PALOMINO | F45: KARIN ROCIO | G45: CHPKNR83P42Z611H | H45: CHIPANA PALOMINO | I45: KARIN ROCIO | J45: CHPKNR83P42Z611H | K45: karinrocio07@gmail.com | L45: 00393270630431 | M45: SARMIENTO CHIPANA | N45: ANDREA VALENTINO | O45: SRMNRV17P22F952M | P45: 1462 | Q45: 1462 | R45: 15866.33 | S45: 1 | T45: N | U45: N | V45: 1050
A46: VOUCHER.2026.7455898 | B46: tipo indirizzo != 1 | C46: =VLOOKUP(A46,esito_ANPR_31AGO!C:G,5,FALSE()) -> tipo indirizzo = 10 | D46: 1 | E46: CHIPANA PALOMINO | F46: KARIN ROCIO | G46: CHPKNR83P42Z611H | H46: CHIPANA PALOMINO | I46: KARIN ROCIO | J46: CHPKNR83P42Z611H | K46: karinrocio07@gmail.com | L46: 00393270630431 | M46: SARMIENTO CHIPANA | N46: ALONDRA CATALINA | O46: SRMLDR15R47F952W | P46: 1462 | Q46: 1462 | R46: 15866.33 | S46: 2 | T46: N | U46: N | V46: 1200
A47: VOUCHER.2026.2896729 | B47: tipo indirizzo != 1 | C47: =VLOOKUP(A47,esito_ANPR_31AGO!C:G,5,FALSE()) -> tipo indirizzo = 11 | D47: 1 | E47: CARABELU | F47: CRISTINA | G47: CRBCST80M54Z129Y | H47: CARABELU | I47: CRISTINA | J47: CRBCST80M54Z129Y | K47: carabelucristina2015@gmail.com | L47: 00393293357884 | M47: CARABELU | N47: ALESSIA | O47: CRBLSS09B44G687C | P47: 1710 | Q47: 1710 | R47: 16306.99 | S47: 3 | T47: N | U47: N | V47: 1600
A48: VOUCHER.2026.1644403 | B48: tipo indirizzo != 1 | C48: =VLOOKUP(A48,esito_ANPR_31AGO!C:G,5,FALSE()) -> tipo indirizzo = 11 | D48: 1 | E48: DE BIASIO | F48: ANNALISA | G48: DBSNLS87S51E379H | H48: DE BIASIO | I48: ANNALISA | J48: DBSNLS87S51E379H | K48: vagliodebiasio@gmail.com | L48: 00393406743390 | M48: VAGLIO | N48: LORENZO | O48: VGLLNZ14M11L219H | P48: 407 | Q48: 407 | R48: 16671.91 | S48: 2 | T48: N | U48: S | V48: 1200 | W48: =V48*30% -> 360
A49: VOUCHER.2026.2465594 | B49: tipo indirizzo != 1 | C49: =VLOOKUP(A49,esito_ANPR_31AGO!C:G,5,FALSE()) -> tipo indirizzo = 10 | D49: 1 | E49: PIOVANELLI | F49: SIMONE | G49: PVNSMN93P27D208K | H49: PIOVANELLI | I49: SIMONE | J49: PVNSMN93P27D208K | K49: piovanellisimone93@gmail.com | L49: 00393389915887 | M49: PIOVANELLI | N49: NICOLO | O49: PVNNCL18R13E379G | P49: 536 | Q49: 536 | R49: 16685.36 | S49: 1 | T49: N | U49: N | V49: 1050
A50: VOUCHER.2026.7454309 | B50: tipo indirizzo != 1 | C50: =VLOOKUP(A50,esito_ANPR_31AGO!C:G,5,FALSE()) -> tipo indirizzo = 10 | D50: 1 | E50: PAPPALARDO | F50: DOMENICA | G50: PPPDNC87B67L219D | H50: PAPPALARDO | I50: DOMENICA | J50: PPPDNC87B67L219D | K50: pappalardo.vale@libero.it | L50: 393343623213 | M50: LICHINCHI | N50: MYA | O50: LCHMYA17T46L219H | P50: 330 | Q50: 330 | R50: 17041.23 | S50: 1 | T50: N | U50: N | V50: 1050
A51: VOUCHER.2026.1039875 | B51: tipo indirizzo != 1 | C51: =VLOOKUP(A51,esito_ANPR_31AGO!C:G,5,FALSE()) -> tipo indirizzo = 11 | D51: 1 | E51: CACIUC | F51: ALVINA | G51: CCCLVN88T46Z140G | H51: CACIUC | I51: ALVINA | J51: CCCLVN88T46Z140G | K51: caciuk@mail.ru | L51: 00393891443039 | M51: DZHIOEV | N51: VICTORIA MICAELA | O51: DZHVTR15S61L219G | P51: 330 | Q51: 330 | R51: 17905.95 | S51: 2 | T51: N | U51: N | V51: 1200
A52: VOUCHER.2026.4001061 | B52: tipo indirizzo != 1 | C52: =VLOOKUP(A52,esito_ANPR_31AGO!C:G,5,FALSE()) -> tipo indirizzo = 11 | D52: 1 | E52: COMES | F52: FABIO | G52: CMSFBA69D27G187L | H52: COMES | I52: FABIO | J52: CMSFBA69D27G187L | K52: fabiocomes1969@gmail.com | L52: 00393472537837 | M52: COMES | N52: CRISTIANO | O52: CMSCST08L06A479X | P52: 1006 | Q52: 1006 | R52: 18019.72 | S52: 3 | T52: N | U52: N | V52: 1600
A53: VOUCHER.2026.3458444 | B53: tipo indirizzo != 1 | C53: =VLOOKUP(A53,esito_ANPR_31AGO!C:G,5,FALSE()) -> tipo indirizzo = 11 | D53: 1 | E53: MIOTTI | F53: MANUEL | G53: MTTMNL86P20E379I | H53: MIOTTI | I53: MANUEL | J53: MTTMNL86P20E379I | K53: manuel.miotti@gmail.com | L53: 00393348151415 | M53: MIOTTI | N53: LUCE | O53: MTTLCU20R49L219H | P53: 511 | Q53: 511 | R53: 18586.49 | S53: 1 | T53: N | U53: N | V53: 1050
A54: VOUCHER.2026.9573969 | B54: tipo indirizzo != 1 | C54: =VLOOKUP(A54,esito_ANPR_31AGO!C:G,5,FALSE()) -> tipo indirizzo = 11 | D54: 1 | E54: GALLETTA | F54: ELEONORA | G54: GLLLNR88D58L219S | H54: GALLETTA | I54: ELEONORA | J54: GLLLNR88D58L219S | K54: ele88eg@live.it | L54: 00393458388867 | M54: MAURICI | N54: NICOLE | O54: MRCNCL16R51L219W | P54: 450 | Q54: 450 | R54: 19187.23 | S54: 1 | T54: S | U54: N | V54: 1575
A55: VOUCHER.2026.9992565 | B55: tipo indirizzo != 1 | C55: =VLOOKUP(A55,esito_ANPR_31AGO!C:G,5,FALSE()) -> tipo indirizzo = 11 | D55: 1 | E55: KOKOMANI | F55: INDRIT | G55: KKMNRT77E21Z100B | H55: KOKOMANI | I55: INDRIT | J55: KKMNRT77E21Z100B | K55: giorgia.07@hotmail.com | L55: 393516334610 | M55: KOKOMANI | N55: GIORGIA | O55: KKMGRG13L47L219M | P55: 330 | Q55: 330 | R55: 19804.59 | S55: 2 | T55: N | U55: N | V55: 1200
A56: VOUCHER.2026.9055546 | B56: tipo indirizzo != 1 | C56: =VLOOKUP(A56,esito_ANPR_31AGO!C:G,5,FALSE()) -> tipo indirizzo = 11 | D56: 1 | E56: KOKOMANI | F56: INDRIT | G56: KKMNRT77E21Z100B | H56: KOKOMANI | I56: INDRIT | J56: KKMNRT77E21Z100B | K56: giorgia.07@hotmail.com | L56: 393516334610 | M56: KOKOMANI | N56: EMILIO SHAKIR | O56: KKMMSH17E12L219R | P56: 330 | Q56: 330 | R56: 19804.59 | S56: 1 | T56: N | U56: N | V56: 1050
A57: VOUCHER.2026.4376224 | B57: tipo indirizzo != 1 | C57: =VLOOKUP(A57,esito_ANPR_31AGO!C:G,5,FALSE()) -> tipo indirizzo = 10 | D57: 1 | E57: GRASSO | F57: DEBORA | G57: GRSDBR89E41B429I | H57: GRASSO | I57: DEBORA | J57: GRSDBR89E41B429I | K57: debora89grasso@gmail.com | L57: 00393804353683 | M57: PISTONE | N57: AURORA | O57: PSTRRA20T48F952I | P57: 1462 | Q57: 1462 | R57: 19857.42 | S57: 1 | T57: N | U57: N | V57: 1050
A58: VOUCHER.2026.5863018 | B58: tipo indirizzo != 1 | C58: =VLOOKUP(A58,esito_ANPR_31AGO!C:G,5,FALSE()) -> tipo indirizzo = 10 | D58: 1 | E58: MYLAPARAMPIL JOHN | F58: DAISY | G58: MYLDSY79B66Z222N | H58: MYLAPARAMPIL JOHN | I58: DAISY | J58: MYLDSY79B66Z222N | K58: joshymon540@gmail.com | L58: 00393533968072 | M58: JACOB | N58: ROSEMARY JOSHY | O58: JCBRMR14L64C722U | P58: 458 | Q58: 458 | R58: 20213.68 | S58: 2 | T58: N | U58: N | V58: 1000
A59: VOUCHER.2026.4802392 | B59: tipo indirizzo != 1 | C59: =VLOOKUP(A59,esito_ANPR_31AGO!C:G,5,FALSE()) -> tipo indirizzo = 11 | D59: 1 | E59: VINOTTO | F59: SARA | G59: VNTSRA79R65G674X | H59: VINOTTO | I59: SARA | J59: VNTSRA79R65G674X | K59: saravinotto79@gmail.com | L59: 00393341115943 | M59: MARANNANO | N59: VIRGINIA | O59: MRNVGN16R68G674Y | P59: 521 | Q59: 521 | R59: 20409.8 | S59: 1 | T59: N | U59: N | V59: 950
A60: VOUCHER.2026.5873585 | B60: tipo indirizzo != 1 | C60: =VLOOKUP(A60,esito_ANPR_31AGO!C:G,5,FALSE()) -> tipo indirizzo = 10 | D60: 1 | E60: ORLANDO | F60: MARCO | G60: RLNMRC89M07H919S | H60: ORLANDO | I60: MARCO | J60: RLNMRC89M07H919S | K60: orlando.marco@live.it | L60: 00393400573118 | M60: ORLANDO | N60: ISABEL GIULIA | O60: RLNSLG19B56F965L | P60: 756 | Q60: 756 | R60: 20627.89 | S60: 1 | T60: N | U60: N | V60: 950
A61: VOUCHER.2026.5128609 | B61: tipo indirizzo != 1 | C61: =VLOOKUP(A61,esito_ANPR_31AGO!C:G,5,FALSE()) -> tipo indirizzo = 11 | D61: 1 | E61: DE FAZIO | F61: EUGENIA CONCETTA | G61: DFZGCN78M48L219H | H61: DE FAZIO | I61: EUGENIA CONCETTA | J61: DFZGCN78M48L219H | K61: emanuelechr@gmail.com | L61: 00393485636240 | M61: ROMANO | N61: EDOARDO TOMMASO | O61: RMNDDT14T11C722K | P61: 460 | Q61: 460 | R61: 20770.25 | S61: 2 | T61: N | U61: S | V61: 1000 | W61: =V61*30% -> 300
A62: VOUCHER.2026.1463520 | B62: tipo indirizzo != 1 | C62: =VLOOKUP(A62,esito_ANPR_31AGO!C:G,5,FALSE()) -> tipo indirizzo = 10 | D62: 1 | E62: PORTALEONE | F62: GIULIANA | G62: PRTGLN74E43L219G | H62: PORTALEONE | I62: GIULIANA | J62: PRTGLN74E43L219G | K62: portagiuly@libero.it | L62: 00393382468124 | M62: MONETTI | N62: NICOLO | O62: MNTNCL10B16L219Y | P62: 458 | Q62: 458 | R62: 20903.82 | S62: 3 | T62: N | U62: N | V62: 1200
A63: VOUCHER.2026.7282620 | B63: tipo indirizzo != 1 | C63: =VLOOKUP(A63,esito_ANPR_31AGO!C:G,5,FALSE()) -> tipo indirizzo = 10 | D63: 1 | E63: IACCARINO | F63: DANILA | G63: CCRDNL82S49F839Z | H63: IACCARINO | I63: DANILA | J63: CCRDNL82S49F839Z | K63: Iaccarinodanila@gmail.com | L63: 00393451119220 | M63: VASTO | N63: MATTIA | O63: VSTMTT08S10L219S | P63: 458 | Q63: 458 | R63: 21231.82 | S63: 3 | T63: N | U63: S | V63: 1200 | W63: =V63*30% -> 360
A64: VOUCHER.2026.4375680 | B64: tipo indirizzo != 1 | C64: =VLOOKUP(A64,esito_ANPR_31AGO!C:G,5,FALSE()) -> tipo indirizzo = 11 | D64: 1 | E64: BIDIRLIU | F64: SORIN MARIUS | G64: BDRSNM78C31Z129M | H64: BIDIRLIU | I64: SORIN MARIUS | J64: BDRSNM78C31Z129M | K64: Sormabid38@yahoo.com | L64: 393917111467 | M64: BIDIRLIU | N64: KEVIN CRISTIAN | O64: BDRKNC19R29H355L | P64: 450 | Q64: 450 | R64: 21323.76 | S64: 1 | T64: N | U64: N | V64: 950
A65: VOUCHER.2026.7581372 | B65: tipo indirizzo != 1 | C65: =VLOOKUP(A65,esito_ANPR_31AGO!C:G,5,FALSE()) -> tipo indirizzo = 11 | D65: 1 | E65: QUARTA | F65: FABIO | G65: QRTFBA86S18L219H | H65: QUARTA | I65: FABIO | J65: QRTFBA86S18L219H | K65: fabioquarta.7@gmail.com | L65: 00393391272686 | M65: QUARTA | N65: ALESSANDRO | O65: QRTLSN19A30L219V | P65: 450 | Q65: 450 | R65: 21782.48 | S65: 1 | T65: N | U65: N | V65: 950
A66: VOUCHER.2026.1754775 | B66: tipo indirizzo != 1 | C66: =VLOOKUP(A66,esito_ANPR_31AGO!C:G,5,FALSE()) -> tipo indirizzo = 11 | D66: 1 | E66: MONETTA | F66: GIORGIA | G66: MNTGRG73D59E379B | H66: MONETTA | I66: GIORGIA | J66: MNTGRG73D59E379B | K66: girometta2001@gmail.com | L66: 00393465235629 | M66: FRACASSI | N66: VIOLA | O66: FRCVLI08T62E379L | P66: 1097 | Q66: 1097 | R66: 21941.78 | S66: 3 | T66: N | U66: N | V66: 1200
A67: VOUCHER.2026.7942969 | B67: tipo indirizzo != 1 | C67: =VLOOKUP(A67,esito_ANPR_31AGO!C:G,5,FALSE()) -> tipo indirizzo = 11 | D67: 1 | E67: BOGLIATTO | F67: ELISABETTA MARIA MARGHERITA | G67: BGLLBT81D53L219N | H67: BOGLIATTO | I67: ELISABETTA MARIA MARGHERITA | J67: BGLLBT81D53L219N | K67: bettybogliatto@hotmail.it | L67: 00393335352379 | M67: SILVESTRI | N67: AMELIA | O67: SLVMLA16L66L219O | P67: 450 | Q67: 450 | R67: 22316.52 | S67: 1 | T67: N | U67: N | V67: 950
A68: VOUCHER.2026.3520074 | B68: tipo indirizzo != 1 | C68: =VLOOKUP(A68,esito_ANPR_31AGO!C:G,5,FALSE()) -> tipo indirizzo = 10 | D68: 1 | E68: LASTELLA | F68: SARA | G68: LSTSRA88B41L219B | H68: LASTELLA | I68: SARA | J68: LSTSRA88B41L219B | K68: saralastella88@gmail.com | L68: 00393755250727 | M68: ZAMBOTTO | N68: MARIA DIANA | O68: ZMBMDN20S44C722T | P68: 595 | Q68: 595 | R68: 22387.73 | S68: 1 | T68: N | U68: N | V68: 950
A69: VOUCHER.2026.9866088 | B69: tipo indirizzo != 1 | C69: =VLOOKUP(A69,esito_ANPR_31AGO!C:G,5,FALSE()) -> tipo indirizzo = 10 | D69: 1 | E69: SHTYLLA | F69: MIHANIL | G69: SHTMNL88B27Z100S | H69: SHTYLLA | I69: MIHANIL | J69: SHTMNL88B27Z100S | K69: mshstudiodesign@gmail.com | L69: 00393381479999 | M69: SHTYLLA | N69: DIEGO | O69: SHTDGI13A20A182B | P69: 377 | Q69: 377 | R69: 22471.43 | S69: 2 | T69: N | U69: N | V69: 1000
A70: VOUCHER.2026.5670206 | B70: tipo indirizzo != 1 | C70: =VLOOKUP(A70,esito_ANPR_31AGO!C:G,5,FALSE()) -> tipo indirizzo = 10 | D70: 1 | E70: LICARI DI MURRO | F70: ALESSANDRA | G70: LCRLSN83P52E379U | H70: LICARI DI MURRO | I70: ALESSANDRA | J70: LCRLSN83P52E379U | K70: ale.dimurro@gmail.com | L70: 00393403403670 | M70: IULIANO | N70: MICHAEL | O70: LNIMHL15M06C665U | P70: 377 | Q70: 377 | R70: 22784.42 | S70: 2 | T70: N | U70: N | V70: 1000
A71: VOUCHER.2026.3506475 | B71: tipo indirizzo != 1 | C71: =VLOOKUP(A71,esito_ANPR_31AGO!C:G,5,FALSE()) -> tipo indirizzo = 11 | D71: 1 | E71: BOSCO | F71: LUISA | G71: BSCLSU84L71Z602P | H71: BOSCO | I71: LUISA | J71: BSCLSU84L71Z602P | K71: luisabosco84@gmail.com | L71: 00393408759063 | M71: PAROLO | N71: SOFIA | O71: PRLSFO17M49L219B | P71: 330 | Q71: 330 | R71: 22942.58 | S71: 1 | T71: N | U71: N | V71: 950
A72: VOUCHER.2026.2259520 | B72: tipo indirizzo != 1 | C72: =VLOOKUP(A72,esito_ANPR_31AGO!C:G,5,FALSE()) -> tipo indirizzo = 11 | D72: 1 | E72: LORA | F72: GIULIA | G72: LROGLI86R68G702G | H72: LORA | I72: GIULIA | J72: LROGLI86R68G702G | K72: giulia.lora30@gmail.com | L72: 393391673692 | M72: PACI | N72: LIA | O72: PCALIA19P62F335J | P72: 330 | Q72: 330 | R72: 23220.71 | S72: 1 | T72: N | U72: N | V72: 950
A73: VOUCHER.2026.7425122 | B73: tipo indirizzo != 1 | C73: =VLOOKUP(A73,esito_ANPR_31AGO!C:G,5,FALSE()) -> tipo indirizzo = 10 | D73: 1 | E73: ASSELLE | F73: MARZIA | G73: SSLMRZ73T70L219D | H73: ASSELLE | I73: MARZIA | J73: SSLMRZ73T70L219D | K73: masselle@icloud.com | L73: 00393496106958 | M73: DA RE | N73: LODOVICO | O73: DRALVC08A01L219S | P73: 595 | Q73: 595 | R73: 23314.57 | S73: 3 | T73: N | U73: N | V73: 1200
A74: VOUCHER.2026.6675998 | B74: tipo indirizzo != 1 | C74: =VLOOKUP(A74,esito_ANPR_31AGO!C:G,5,FALSE()) -> tipo indirizzo = 11 | D74: 1 | E74: NISTICO' | F74: LUIGI | G74: NSTLGU88P01C352R | H74: NISTICO' | I74: LUIGI | J74: NSTLGU88P01C352R | K74: nistico.luigi@gmail.com | L74: 393421629998 | M74: NISTICO' | N74: MATTEO LUIGI | O74: NSTMTL19E27G273V | P74: 330 | Q74: 330 | R74: 23428.55 | S74: 1 | T74: N | U74: N | V74: 950
A75: VOUCHER.2026.2501210 | B75: tipo indirizzo != 1 | C75: =VLOOKUP(A75,esito_ANPR_31AGO!C:G,5,FALSE()) -> tipo indirizzo = 11 | D75: 1 | E75: SILVESTRI | F75: CRISTINA | G75: SLVCST81D55L219T | H75: SILVESTRI | I75: CRISTINA | J75: SLVCST81D55L219T | K75: Londoneye8104@gmail.com | L75: 00393470481180 | M75: MARZANO | N75: GIORGIA | O75: MRZGRG16C57L219T | P75: 450 | Q75: 450 | R75: 23850.31 | S75: 1 | T75: N | U75: N | V75: 950
... A82: VOUCHER.2026.2819465 | B82: tipo indirizzo != 1 | C82: =VLOOKUP(A82,esito_ANPR_31AGO!C:G,5,FALSE()) -> tipo indirizzo = 10 | D82: 1 | E82: TALLONE | F82: DEBORA | G82: TLLDBR87A52B111K | H82: TALLONE | I82: DEBORA | J82: TLLDBR87A52B111K | K82: DEBORA.TALLONE@HOTMAIL.IT | L82: 00393348454462 | M82: ZOPPOLAT | N82: ADELE | O82: ZPPDLA18H45L219Y | P82: 1249 | Q82: 1249 | R82: 25209.23 | S82: 1 | T82: N | U82: N | V82: 950
A83: VOUCHER.2026.2774153 | B83: tipo indirizzo != 1 | C83: =VLOOKUP(A83,esito_ANPR_31AGO!C:G,5,FALSE()) -> tipo indirizzo = 10 | D83: 1 | E83: BIFFONI | F83: VALENTINA | G83: BFFVNT86A69G999G | H83: BIFFONI | I83: VALENTINA | J83: BFFVNT86A69G999G | K83: valebiffo@gmail.com | L83: 00393317674540 | M83: MARCONI | N83: ALESSANDRO | O83: MRCLSN14T17L219U | P83: 398 | Q83: 398 | R83: 25243.36 | S83: 2 | T83: N | U83: S | V83: 1000 | W83: =V83*30% -> 300
A84: VOUCHER.2026.3507325 | B84: tipo indirizzo != 1 | C84: =VLOOKUP(A84,esito_ANPR_31AGO!C:G,5,FALSE()) -> tipo indirizzo = 11 | D84: 1 | E84: BALASCIO | F84: CRISTINA | G84: BLSCST81T71L219F | H84: BALASCIO | I84: CRISTINA | J84: BLSCST81T71L219F | K84: CBALASCIO81@GMAIL.COM | L84: 00393283177586 | M84: MONTEMARANO | N84: GIULIA | O84: MNTGLI17B50L219K | P84: 450 | Q84: 450 | R84: 25456.23 | S84: 1 | T84: N | U84: N | V84: 950
A85: VOUCHER.2026.1213565 | B85: tipo indirizzo != 1 | C85: =VLOOKUP(A85,esito_ANPR_31AGO!C:G,5,FALSE()) -> tipo indirizzo = 11 | D85: 1 | E85: MILIA | F85: STEFANIA | G85: MLISFN86T43L219Y | H85: MILIA | I85: STEFANIA | J85: MLISFN86T43L219Y | K85: stefytwirl@yahoo.it | L85: 00393381707213 | M85: CARBONE | N85: MATTIA | O85: CRBMTT13D08L219E | P85: 450 | Q85: 450 | R85: 26010.22 | S85: 2 | T85: N | U85: N | V85: 1000
A86: VOUCHER.2026.2627223 | B86: tipo indirizzo != 1 | C86: =VLOOKUP(A86,esito_ANPR_31AGO!C:G,5,FALSE()) -> tipo indirizzo = 11 | D86: 1 | E86: MILIA | F86: STEFANIA | G86: MLISFN86T43L219Y | H86: MILIA | I86: STEFANIA | J86: MLISFN86T43L219Y | K86: stefytwirl@yahoo.it | L86: 00393381707213 | M86: CARBONE | N86: GINEVRA | O86: CRBGVR15E57L219Z | P86: 450 | Q86: 450 | R86: 26010.22 | S86: 2 | T86: N | U86: N | V86: 1000
A87: VOUCHER.2026.5519446 | B87: tipo indirizzo != 1 | C87: =VLOOKUP(A87,esito_ANPR_31AGO!C:G,5,FALSE()) -> tipo indirizzo = 11 | D87: 1 | E87: CECCARONI | F87: CHIARA | G87: CCCCHR86B46L219A | H87: CECCARONI | I87: CHIARA | J87: CCCCHR86B46L219A | K87: chiaretta2005@hotmail.it | L87: 00393481600554 | M87: CALZAVARA | N87: ALLEGRA | O87: CLZLGR19A70H355C | P87: 450 | Q87: 450 | R87: 26010.84 | S87: 1 | T87: N | U87: N | V87: 950
A88: VOUCHER.2026.5969510 | B88: tipo indirizzo != 1 | C88: =VLOOKUP(A88,esito_ANPR_31AGO!C:G,5,FALSE()) -> tipo indirizzo = 10 | D88: 1 | E88: MONCALVO | F88: SIMONE | G88: MNCSMN82R07L219N | H88: MONCALVO | I88: SIMONE | J88: MNCSMN82R07L219N | K88: simone.sti1@yahoo.it | L88: 00393337375947 | M88: MONCALVO | N88: EMANUELE | O88: MNCMNL15L13C665C | P88: 377 | Q88: 377 | R88: 26310.87 | S88: 2 | T88: N | U88: N | V88: 1000
A89: VOUCHER.2026.3473670 | B89: tipo indirizzo != 1 | C89: =VLOOKUP(A89,esito_ANPR_31AGO!C:G,5,FALSE()) -> tipo indirizzo = 10 | D89: 1 | E89: PALLARO | F89: ELENIA | G89: PLLLNE81C64F952Z | H89: PALLARO | I89: ELENIA | J89: PLLLNE81C64F952Z | K89: elenia.pallaro@libero.it | L89: 00393498486147 | M89: DE LUCA | N89: ISOTTA | O89: DLCSTT15L68F952O | P89: 1462 | Q89: 1462 | R89: 26478.03 | S89: 2 | T89: N | U89: N | V89: 1000
A90: VOUCHER.2026.4225122 | B90: tipo indirizzo != 1 | C90: =VLOOKUP(A90,esito_ANPR_31AGO!C:G,5,FALSE()) -> tipo indirizzo = 10 | D90: 1 | E90: ARBELLIA | F90: MATTEO | G90: RBLMTT82B04L669L | H90: ARBELLIA | I90: MATTEO | J90: RBLMTT82B04L669L | K90: teo4282@gmail.com | L90: 00393496782240 | M90: ARBELLIA | N90: FEDERICO | O90: RBLFRC17S11F952G | P90: 1896 | Q90: 1896 | R90: 26857.96 | S90: 1 | T90: N | U90: N | V90: 950
A91: VOUCHER.2026.6814385 | B91: CF con validita' != 1 | C91: =VLOOKUP(A91,esito_ANPR_31AGO!C:G,5,FALSE()) -> #N/A | D91: 1 | E91: HU | F91: HAISI | G91: HUXHSA95P47Z210H | H91: HU | I91: HAISI | J91: HUXHSA95P47Z210H | K91: huhaisi95@gmail.com | L91: 00393884044974 | M91: LIANG | N91: JINXI | O91: LNGJNX19M42G674B | P91: 330 | Q91: 330 | R91: 26903.57 | S91: 1 | T91: N | U91: N | V91: 950
A92: VOUCHER.2026.3907386 | B92: tipo indirizzo != 1 | C92: =VLOOKUP(A92,esito_ANPR_31AGO!C:G,5,FALSE()) -> tipo indirizzo = 11 | D92: 1 | E92: CEREDA | F92: ANTONELLA | G92: CRDNNL76L51L219N | H92: CEREDA | I92: ANTONELLA | J92: CRDNNL76L51L219N | K92: antonella.cereda@cchellenic.com | L92: 00393357631504 | M92: MARZOLLA | N92: FABIANA ROCIO | O92: MRZFNR17E63L219L | P92: 420 | Q92: 420 | R92: 26965.8 | S92: 1 | T92: N | U92: N | V92: 950
A93: VOUCHER.2026.8161267 | B93: tipo indirizzo != 1 | C93: =VLOOKUP(A93,esito_ANPR_31AGO!C:G,5,FALSE()) -> tipo indirizzo = 10 | D93: 1 | E93: MARCHELLO GALASSO | F93: PAOLO | G93: MRCPLA88L18D208H | H93: MARCHELLO GALASSO | I93: PAOLO | J93: MRCPLA88L18D208H | K93: marchello.paolo@libero.it | L93: 00393471113051 | M93: MARCHELLO GALASSO | N93: EMANUELE | O93: MRCMNL18T22E379V | P93: 428 | Q93: 428 | R93: 27120.8 | S93: 1 | T93: N | U93: N | V93: 950
A94: VOUCHER.2026.6984872 | B94: tipo indirizzo != 1 | C94: =VLOOKUP(A94,esito_ANPR_31AGO!C:G,5,FALSE()) -> tipo indirizzo = 10 | D94: 1 | E94: RAPISARDA | F94: VERONICA | G94: RPSVNC83E42D938I | H94: RAPISARDA | I94: VERONICA | J94: RPSVNC83E42D938I | K94: veronica.rapisarda83@gmail.com | L94: 00393478310831 | M94: DEPENTOR | N94: VICTOR | O94: DPNVTR17R24F952A | P94: 1820 | Q94: 1820 | R94: 27178.19 | S94: 1 | T94: N | U94: N | V94: 950
A95: VOUCHER.2026.8073249 | B95: tipo indirizzo != 1 | C95: =VLOOKUP(A95,esito_ANPR_31AGO!C:G,5,FALSE()) -> tipo indirizzo = 10 | D95: 1 | E95: CHIOLERIO | F95: ALESSANDRA | G95: CHLLSN83S54L219I | H95: CHIOLERIO | I95: ALESSANDRA | J95: CHLLSN83S54L219I | K95: alessandrachiolerio1983@gmail.com | L95: 00393497795718 | M95: BUGNI | N95: SOFIA | O95: BGNSFO16S51L219C | P95: 428 | Q95: 428 | R95: 27394 | S95: 1 | T95: N | U95: S | V95: 950 | W95: =V95*30% -> 285
A96: VOUCHER.2026.1826265 | B96: tipo indirizzo != 1 | C96: =VLOOKUP(A96,esito_ANPR_31AGO!C:G,5,FALSE()) -> tipo indirizzo = 10 | D96: 1 | E96: DA SILVA GUIMARAES | F96: JAMILLY | G96: DSLJLL85L56Z602Q | H96: DA SILVA GUIMARAES | I96: JAMILLY | J96: DSLJLL85L56Z602Q | K96: millyguima@hotmail.com | L96: 00393406928045 | M96: FARES | N96: GABRIEL | O96: FRSGRL14B10L219H | P96: 458 | Q96: 458 | R96: 27977.14 | S96: 2 | T96: N | U96: S | V96: 1000 | W96: =V96*30% -> 300
A97: VOUCHER.2026.6108933 | B97: tipo indirizzo != 1 | C97: =VLOOKUP(A97,esito_ANPR_31AGO!C:G,5,FALSE()) -> tipo indirizzo = 10 | D97: 1 | E97: BELTRAMETTI | F97: OLIVIA | G97: BLTLVO71E67L219S | H97: BELTRAMETTI | I97: OLIVIA | J97: BLTLVO71E67L219S | K97: olivia.beltrametti71@gmail.com | L97: 00393333769669 | M97: BITTNER | N97: REBECCA | O97: BTTRCC13D58L219Z | P97: 398 | Q97: 398 | R97: 29848.31 | S97: 2 | T97: N | U97: N | V97: 1000
A98: VOUCHER.2026.1731942 | B98: tipo indirizzo != 1 | C98: =VLOOKUP(A98,esito_ANPR_31AGO!C:G,5,FALSE()) -> tipo indirizzo = 11 | D98: 1 | E98: FORTUNATO | F98: VINCENZO | G98: FRTVCN84D29A509O | H98: FORTUNATO | I98: VINCENZO | J98: FRTVCN84D29A509O | K98: vin.fortunato1@gmail.com | L98: 00393491417022 | M98: FORTUNATO | N98: LUCA | O98: FRTLCU18S21L219K | P98: 450 | Q98: 450 | R98: 29909.91 | S98: 1 | T98: N | U98: N | V98: 950

Sheet Voucher_A_validi
A1: Numero domanda | B1: Esito seconda interrogazione ANPR | C1: importo contributo
A2: VOUCHER.2026.3506475 | B2: Residente in Regione Piemonte | C2: 0
A3: VOUCHER.2026.2259520 | B3: Residente in Regione Piemonte | C3: 0
A4: VOUCHER.2026.7425122 | B4: Residente in Regione Piemonte | C4: 0
A5: VOUCHER.2026.6675998 | B5: Residente in Regione Piemonte | C5: 0
A6: VOUCHER.2026.2501210 | B6: Residente in Regione Piemonte | C6: 0
A7: VOUCHER.2026.5767109 | B7: Residente in Regione Piemonte | C7: 0
A8: VOUCHER.2026.1171388 | B8: Residente in Regione Piemonte | C8: 0
A9: VOUCHER.2026.4285972 | B9: Residente in Regione Piemonte | C9: 0
A10: VOUCHER.2026.5872322 | B10: Residente in Regione Piemonte | C10: 0
A11: VOUCHER.2026.6005539 | B11: Residente in Regione Piemonte | C11: 0
A12: VOUCHER.2026.8562350 | B12: Residente in Regione Piemonte | C12: 0
A13: VOUCHER.2026.2819465 | B13: Residente in Regione Piemonte | C13: 0
... A28: VOUCHER.2026.1731942 | B28: Residente in Regione Piemonte | C28: 0

Sheet Voucher_B
V1: =SUM(V3:V2165) -> 430050 | W1: =SUBTOTAL(9,W8:W2165) -> 7230
A2: DOMANDA_ID_MODAST | B2: NOTE | C2: ESITO_31ago2026 | D2: ID_TIPO_RICHIEDENTE | E2: RICHIEDENTE_COGNOME | F2: RICHIEDENTE_NOME | G2: RICHIEDENTE_CODFISC | H2: BENEFICIARIO_COGNOME | I2: BENEFICIARIO_NOME | J2: BENEFICIARIO_CODFISC | K2: RICHIEDENTE_EMAIL | L2: RICHIEDENTE_TELEFONO2 | M2: STUDENTE_COGNOME | N2: STUDENTE_NOME | O2: STUDENTE_CODFISC | P2: RICHIEDENTE_IDCOMUNERESID | Q2: STUDENTE_IDCOMUNERESID | R2: ISEEVALORE | S2: ORDINE_SCUOLA | T2: FLAG_STUDCERTIF104 | U2: FLAG_STUDCERTIFDSA | V2: IMP_CONTRIB_SPETT | W2: EVENTUALE MAGGIORAZIONE DEL 30% PER DSA
A3: VOUCHER.2026.5024352 | B3: CF con validita' != 1 | C3: =VLOOKUP(A3,esito_ANPR_31AGO!C:G,5,FALSE()) -> #N/A | D3: 1 | E3: AQUINO AQUINO | F3: ROXANA PAMELA | G3: QNQRNP80E67Z611N | H3: AQUINO AQUINO | I3: ROXANA PAMELA | J3: QNQRNP80E67Z611N | K3: okin2312@gmail.com | L3: 00393445484035 | M3: LOPEZ AQUINO | N3: JOAQUIN ALEJANDRO | O3: LPZJNL15T23Z611V | P3: 409 | Q3: 409 | R3: 0 | S3: 1 | T3: N | U3: N | V3: 150
A4: VOUCHER.2026.4435610 | B4: EN122 Soggetto non registrato in ANPR | C4: =VLOOKUP(A4,esito_ANPR_31AGO!C:G,5,FALSE()) -> #N/A | D4: 1 | E4: MENENDEZ VERA | F4: ROXANA LIZETH | G4: MNNRNL87B67Z605T | H4: MENENDEZ VERA | I4: ROXANA LIZETH | J4: MNNRNL87B67Z605T | K4: rolizmenendez@gmail.com | L4: 00393793513780 | M4: ARIAS MENENDEZ | N4: SOPHIA ANNALISE | O4: RSMSHN15M67Z605J | P4: 1737 | Q4: 1737 | R4: 0 | S4: 1 | T4: N | U4: N | V4: 150
A5: VOUCHER.2026.3458962 | B5: EN122 Soggetto non registrato in ANPR | C5: =VLOOKUP(A5,esito_ANPR_31AGO!C:G,5,FALSE()) -> #N/A | D5: 1 | E5: MENENDEZ VERA | F5: ROXANA LIZETH | G5: MNNRNL87B67Z605T | H5: MENENDEZ VERA | I5: ROXANA LIZETH | J5: MNNRNL87B67Z605T | K5: rolizmenendez@gmail.com | L5: 00393793513780 | M5: ARIAS MENENDEZ | N5: ANAHI MAYLEEN | O5: RSMNMY17L70Z605P | P5: 1737 | Q5: 1737 | R5: 0 | S5: 1 | T5: N | U5: N | V5: 150
A6: VOUCHER.2026.2166214 | B6: EN122 Soggetto non registrato in ANPR | C6: =VLOOKUP(A6,esito_ANPR_31AGO!C:G,5,FALSE()) -> #N/A | D6: 1 | E6: MUNOZ HUAMANI | F6: YANET ROSSE | G6: MNZYTR78C51Z611D | H6: MUNOZ HUAMANI | I6: YANET ROSSE | J6: MNZYTR78C51Z611D | K6: yanetrmh1103@gmail.com | L6: 00393514709545 | M6: JUAREZ MUNOZ | N6: FLAVIA JANNETH | O6: JRZFVJ12M50Z611W | P6: 1462 | Q6: 1462 | R6: 0 | S6: 2 | T6: N | U6: N | V6: 300
A7: VOUCHER.2026.5788917 | B7: EN122 Soggetto non registrato in ANPR | C7: =VLOOKUP(A7,esito_ANPR_31AGO!C:G,5,FALSE()) -> #N/A | D7: 1 | E7: CAVALLINI HOFFMANN | F7: JANDER ROBERTO | G7: CVLJDR79D10Z602N | H7: CAVALLINI HOFFMANN | I7: JANDER ROBERTO | J7: CVLJDR79D10Z602N | K7: janderhoffmann1979@gmail.com | L7: 00393313206737 | M7: DA SILVA HOFFMANN | N7: JOSEPH IVO | O7: DSLJPH20L06Z602N | P7: 62049 | Q7: 62049 | R7: 0 | S7: 1 | T7: N | U7: N | V7: 150
A8: VOUCHER.2026.4123282 | B8: tipo indirizzo != 1 | C8: =VLOOKUP(A8,esito_ANPR_31AGO!C:G,5,FALSE()) -> tipo indirizzo = 10 | D8: 1 | E8: RIZAOUI | F8: HASSANE | G8: RZIHSN86H01Z330G | H8: RIZAOUI | I8: HASSANE | J8: RZIHSN86H01Z330G | K8: hassanerizaoui93@gmail.com | L8: 393348532642 | M8: RIZAOUI | N8: SABRINA | O8: RZISRN10S48L219I | P8: 330 | Q8: 330 | R8: 0 | S8: 3 | T8: N | U8: N | V8: 500
A9: VOUCHER.2026.5544115 | B9: tipo indirizzo != 1 | C9: =VLOOKUP(A9,esito_ANPR_31AGO!C:G,5,FALSE()) -> tipo indirizzo = 11 | D9: 1 | E9: FERRAZ DE FARIAS | F9: MARCEL | G9: FRRMCL87E25Z602F | H9: FERRAZ DE FARIAS | I9: MARCEL | J9: FRRMCL87E25Z602F | K9: marcelferraz@me.com | L9: 00393514185119 | M9: MARCOS FERRAZ | N9: CARLOS EDUARDO | O9: MRCCLS19C27Z602M | P9: 455 | Q9: 455 | R9: 0 | S9: 1 | T9: N | U9: N | V9: 150
A10: VOUCHER.2026.5043453 | B10: tipo indirizzo != 1 | C10: =VLOOKUP(A10,esito_ANPR_31AGO!C:G,5,FALSE()) -> tipo indirizzo = 10 | D10: 1 | E10: BORTOLASO | F10: FRANCESCA | G10: BRTFNC90D60F335R | H10: BORTOLASO | I10: FRANCESCA | J10: BRTFNC90D60F335R | K10: francescabortolaso.fb@gmail.com | L10: 393453003336 | M10: VILLEGAS GUERRERO | N10: LEON | O10: VLLLNE20A15L219O | P10: 330 | Q10: 330 | R10: 0 | S10: 1 | T10: N | U10: N | V10: 150
A11: VOUCHER.2026.1652932 | B11: EN122 Soggetto non registrato in ANPR | C11: =VLOOKUP(A11,esito_ANPR_31AGO!C:G,5,FALSE()) -> #N/A | D11: 1 | E11: STOICA | F11: LUDMILA | G11: STCLML90P68Z140Z | H11: STOICA | I11: LUDMILA | J11: STCLML90P68Z140Z | K11: stoicaludmila627@gmail.com | L11: 00393809064767 | M11: STOICA | N11: LAURENTIU | O11: STCLNT14H10Z140J | P11: 330 | Q11: 330 | R11: 0 | S11: 2 | T11: N | U11: N | V11: 300
A12: VOUCHER.2026.6806242 | B12: EN122 Soggetto non registrato in ANPR | C12: =VLOOKUP(A12,esito_ANPR_31AGO!C:G,5,FALSE()) -> #N/A | D12: 1 | E12: STOICA | F12: LUDMILA | G12: STCLML90P68Z140Z | H12: STOICA | I12: LUDMILA | J12: STCLML90P68Z140Z | K12: stoicaludmila627@gmail.com | L12: 00393809064767 | M12: STOICA | N12: ALEXANDRA | O12: STCLND15S69Z140O | P12: 330 | Q12: 330 | R12: 0 | S12: 1 | T12: N | U12: N | V12: 150
A13: VOUCHER.2026.5754448 | B13: tipo indirizzo != 1 | C13: =VLOOKUP(A13,esito_ANPR_31AGO!C:G,5,FALSE()) -> tipo indirizzo = 11 | D13: 1 | E13: VALENCIA CASTILLO | F13: KATTY ESTEFANY | G13: VLNKTY94M43Z611C | H13: VALENCIA CASTILLO | I13: KATTY ESTEFANY | J13: VLNKTY94M43Z611C | K13: kattyvalencia564@gmail.com | L13: 3277211338 | M13: HUAMANI VALENCIA | N13: OZTIN ANUEL | O13: HMNZNN16S20Z611N | P13: 330 | Q13: 330 | R13: 0 | S13: 1 | T13: N | U13: N | V13: 150
A14: VOUCHER.2026.3251824 | B14: tipo indirizzo != 1 | C14: =VLOOKUP(A14,esito_ANPR_31AGO!C:G,5,FALSE()) -> tipo indirizzo = 11 | D14: 1 | E14: EL OMARI | F14: WIDADE | G14: LMRWDD81S42Z330D | H14: EL OMARI | I14: WIDADE | J14: LMRWDD81S42Z330D | K14: Widadesissi84@gmail.com | L14: 00393717468207 | M14: ARRECH | N14: SIRINE | O14: RRCSRN18A42Z330T | P14: 1544 | Q14: 1544 | R14: 0 | S14: 1 | T14: N | U14: N | V14: 150
A15: VOUCHER.2026.9831135 | B15: tipo indirizzo != 1 | C15: =VLOOKUP(A15,esito_ANPR_31AGO!C:G,5,FALSE()) -> tipo indirizzo = 10 | D15: 1 | E15: CRESTA | F15: ANNARITA MARIA MADDALENA | G15: CRSNRT74B66B003V | H15: CRESTA | I15: ANNARITA MARIA MADDALENA | J15: CRSNRT74B66B003V | K15: annacresta388@gmail.com | L15: 00393405293795 | M15: GHIDINA | N15: AIDA | O15: GHDDAI11L45C665V | P15: 428 | Q15: 428 | R15: 0 | S15: 3 | T15: N | U15: N | V15: 500
A16: VOUCHER.2026.9042239 | B16: tipo indirizzo != 1 | C16: =VLOOKUP(A16,esito_ANPR_31AGO!C:G,5,FALSE()) -> tipo indirizzo = 10 | D16: 1 | E16: BORTOLASO | F16: FRANCESCA | G16: BRTFNC90D60F335R | H16: BORTOLASO | I16: FRANCESCA | J16: BRTFNC90D60F335R | K16: francescabortolaso.fb@gmail.com | L16: 393453003336 | M16: PANICCIA | N16: BEATRICE | O16: PNCBRC12T66L013L | P16: 602 | Q16: 602 | R16: 0 | S16: 3 | T16: N | U16: S | V16: 500 | W16: =V16*30% -> 150
A17: VOUCHER.2026.4353439 | B17: tipo indirizzo != 1 | C17: =VLOOKUP(A17,esito_ANPR_31AGO!C:G,5,FALSE()) -> tipo indirizzo = 11 | D17: 1 | E17: EL HIBARI | F17: SAMYA | G17: LHBSMY91E45Z3P0L | H17: EL HIBARI | I17: SAMYA | J17: LHBSMY91E45Z3P0L | K17: samyaelhibari425@gmail.com | L17: 00393516366295 | M17: ABDELKRIM | N17: SAMI | O17: BDLSMA19E17Z330L | P17: 633 | Q17: 633 | R17: 0 | S17: 1 | T17: N | U17: N | V17: 150
A18: VOUCHER.2026.5161404 | B18: tipo indirizzo != 1 | C18: =VLOOKUP(A18,esito_ANPR_31AGO!C:G,5,FALSE()) -> tipo indirizzo = 11 | D18: 1 | E18: EL HIBARI | F18: SAMYA | G18: LHBSMY91E45Z3P0L | H18: EL HIBARI | I18: SAMYA | J18: LHBSMY91E45Z3P0L | K18: samyaelhibari425@gmail.com | L18: 00393516366295 | M18: ABDELKRIM | N18: AMIR | O18: BDLMRA15S20Z330F | P18: 633 | Q18: 633 | R18: 0 | S18: 1 | T18: N | U18: N | V18: 150
A19: VOUCHER.2026.1396880 | B19: tipo indirizzo != 1 | C19: =VLOOKUP(A19,esito_ANPR_31AGO!C:G,5,FALSE()) -> tipo indirizzo = 11 | D19: 1 | E19: MARTINS DOS SANTOS | F19: FABIO HENRIQUE | G19: MRTFHN88C11Z602G | H19: MARTINS DOS SANTOS | I19: FABIO HENRIQUE | J19: MRTFHN88C11Z602G | K19: fhm.santos2819@gmail.com | L19: 00393517644693 | M19: ERNANI MARTINS DOS SANTOS | N19: NICOLLE | O19: RNNNLL11M68Z602C | P19: 773 | Q19: 773 | R19: 0 | S19: 2 | T19: N | U19: N | V19: 300
A20: VOUCHER.2026.6570059 | B20: EN122 Soggetto non registrato in ANPR | C20: =VLOOKUP(A20,esito_ANPR_31AGO!C:G,5,FALSE()) -> #N/A | D20: 1 | E20: ABANTO DEJO | F20: MEIRY GUADALUPE | G20: BNTMYG93D54Z611Z | H20: ABANTO DEJO | I20: MEIRY GUADALUPE | J20: BNTMYG93D54Z611Z | K20: dejomeiry@gmail.com | L20: 00393511549893 | M20: ABANTO DEJO | N20: JAVIERA AINARA | O20: BNTJRN17D48Z603L | P20: 330 | Q20: 330 | R20: 0 | S20: 1 | T20: N | U20: N | V20: 150
A21: VOUCHER.2026.3247558 | B21: EN122 Soggetto non registrato in ANPR | C21: =VLOOKUP(A21,esito_ANPR_31AGO!C:G,5,FALSE()) -> #N/A | D21: 3 | E21: GIACHETTI | F21: DANIELE | G21: GCHDNL58D27I701K | H21: GIACHETTI | I21: DANIELE | J21: GCHDNL58D27I701K | K21: daniele.giachetti1958@gmail.com | L21: 00393356403596 | M21: ELBAGOURY | N21: MOHAMED RASHAD NASR ELMORSHDY | O21: LBGMMD10C10Z330S | P21: 594 | Q21: 478 | R21: 0 | S21: 5 | T21: N | U21: N | V21: 500
A22: VOUCHER.2026.4340454 | B22: tipo indirizzo != 1 | C22: =VLOOKUP(A22,esito_ANPR_31AGO!C:G,5,FALSE()) -> tipo indirizzo = 10 | D22: 1 | E22: CANGA | F22: FAIK | G22: CNGFKA88R17Z100P | H22: CANGA | I22: FAIK | J22: CNGFKA88R17Z100P | K22: fati88@virgilio.it | L22: 393662766327 | M22: CANGA | N22: MASSIMO | O22: CNGMSM17S08L219P | P22: 330 | Q22: 330 | R22: 0 | S22: 1 | T22: N | U22: N | V22: 150
A23: VOUCHER.2026.2297535 | B23: EN122 Soggetto cancellato da ANPR | C23: =VLOOKUP(A23,esito_ANPR_31AGO!C:G,5,FALSE()) -> #N/A | D23: 1 | E23: BOUMAL | F23: KARIMA | G23: BMLKRM88S55Z330J | H23: BOUMAL | I23: KARIMA | J23: BMLKRM88S55Z330J | K23: karimaboumal88@hotmail.com | L23: 393532012324 | M23: RAZAK | N23: AMIRA | O23: RZKMRA11D44Z330I | P23: 1889 | Q23: 1889 | R23: 0 | S23: 3 | T23: N | U23: N | V23: 500
A24: VOUCHER.2026.1584288 | B24: EN122 Soggetto non registrato in ANPR | C24: =VLOOKUP(A24,esito_ANPR_31AGO!C:G,5,FALSE()) -> #N/A | D24: 1 | E24: KASA | F24: NERTILA | G24: KSANTL87D68Z100N | H24: KASA | I24: NERTILA | J24: KSANTL87D68Z100N | K24: nesidamarsikorra@gmail.com | L24: 00393513709991 | M24: KORRA | N24: NESIDA | O24: KRRNSD17M45Z100T | P24: 948 | Q24: 948 | R24: 0 | S24: 1 | T24: N | U24: N | V24: 150
A25: VOUCHER.2026.3316371 | B25: tipo indirizzo != 1 | C25: =VLOOKUP(A25,esito_ANPR_31AGO!C:G,5,FALSE()) -> tipo indirizzo = 4 | D25: 1 | E25: SOUZA QUEIROZ RAMOS | F25: DAHIANY | G25: SZQDNY91D59Z602I | H25: SOUZA QUEIROZ RAMOS | I25: DAHIANY | J25: SZQDNY91D59Z602I | K25: dahianysouza@gmail.com | L25: 00393445210793 | M25: RAMOS QUEIROZ | N25: STELLA | O25: RMSSLL18C66Z602O | P25: 455 | Q25: 455 | R25: 0 | S25: 1 | T25: N | U25: N | V25: 150
A26: VOUCHER.2026.5792392 | B26: EN122 Soggetto non registrato in ANPR | C26: =VLOOKUP(A26,esito_ANPR_31AGO!C:G,5,FALSE()) -> #N/A | D26: 1 | E26: KASA | F26: NERTILA | G26: KSANTL87D68Z100N | H26: KASA | I26: NERTILA | J26: KSANTL87D68Z100N | K26: nesidamarsikorra@gmail.com | L26: 00393513709991 | M26: KORRA | N26: MARSELINA | O26: KRRMSL15C59Z100U | P26: 948 | Q26: 948 | R26: 0 | S26: 2 | T26: N | U26: N | V26: 300
A27: VOUCHER.2026.9554620 | B27: EN122 Soggetto cancellato da ANPR | C27: =VLOOKUP(A27,esito_ANPR_31AGO!C:G,5,FALSE()) -> #N/A | D27: 1 | E27: BOUMAL | F27: KARIMA | G27: BMLKRM88S55Z330J | H27: BOUMAL | I27: KARIMA | J27: BMLKRM88S55Z330J | K27: karimaboumal88@hotmail.com | L27: 393532012324 | M27: RAZAK | N27: MOUSTAPHA | O27: RZKMTP15L13L219B | P27: 1889 | Q27: 1889 | R27: 0 | S27: 2 | T27: N | U27: N | V27: 300
A28: VOUCHER.2026.1160268 | B28: tipo indirizzo != 1 | C28: =VLOOKUP(A28,esito_ANPR_31AGO!C:G,5,FALSE()) -> tipo indirizzo = 10 | D28: 1 | E28: AFYF | F28: BOUZEKRI | G28: FYFBKR77A01Z330B | H28: AFYF | I28: BOUZEKRI | J28: FYFBKR77A01Z330B | K28: afyfzakka@gmail.com | L28: 00393474277748 | M28: AFYF | N28: KAWTAR | O28: FYFKTR19T56E379R | P28: 428 | Q28: 428 | R28: 0 | S28: 1 | T28: N | U28: N | V28: 150
... A97: VOUCHER.2026.7762908 | B97: tipo indirizzo != 1 | C97: =VLOOKUP(A97,esito_ANPR_31AGO!C:G,5,FALSE()) -> tipo indirizzo = 11 | D97: 4 | E97: EL ZIANI | F97: JAMILA | G97: LZNJML69A41Z330W | H97: BARHAZ | I97: IMANE | J97: BRHMNI88L42Z330U | K97: Abderrazakelfa@gmail.com | L97: 00393520151225 | M97: EL FAKIR | N97: ROAYA | O97: LFKRYO18M71Z330F | P97: 62049 | Q97: 62049 | R97: 0 | S97: 1 | T97: N | U97: N | V97: 150
A98: VOUCHER.2026.1281938 | B98: tipo indirizzo != 1 | C98: =VLOOKUP(A98,esito_ANPR_31AGO!C:G,5,FALSE()) -> tipo indirizzo = 11 | D98: 1 | E98: TAOUI | F98: FATIMA ZAHRA | G98: TAOFMZ92A67Z330A | H98: TAOUI | I98: FATIMA ZAHRA | J98: TAOFMZ92A67Z330A | K98: fatimazahrataoui92@gmail.com | L98: 393381223010 | M98: ABDELHAQ | N98: MOHAMED | O98: BDLMMD15H27L2M9A | P98: 330 | Q98: 330 | R98: 0 | S98: 2 | T98: N | U98: S | V98: 300 | W98: =V98*30% -> 90
A99: VOUCHER.2026.1622714 | B99: tipo indirizzo != 1 | C99: =VLOOKUP(A99,esito_ANPR_31AGO!C:G,5,FALSE()) -> tipo indirizzo = 11 | D99: 4 | E99: EL ZIANI | F99: JAMILA | G99: LZNJML69A41Z330W | H99: BARHAZ | I99: IMANE | J99: BRHMNI88L42Z330U | K99: Abderrazakelfa@gmail.com | L99: 00393520151225 | M99: EL FAKIR | N99: RIM | O99: LFKRMI14M48Z330F | P99: 62049 | Q99: 62049 | R99: 0 | S99: 2 | T99: N | U99: N | V99: 300
A100: VOUCHER.2026.8630789 | B100: tipo indirizzo != 1 | C100: =VLOOKUP(A100,esito_ANPR_31AGO!C:G,5,FALSE()) -> tipo indirizzo = 11 | D100: 1 | E100: MARTINS DOS SANTOS | F100: FABIO HENRIQUE | G100: MRTFHN88C11Z602G | H100: MARTINS DOS SANTOS | I100: FABIO HENRIQUE | J100: MRTFHN88C11Z602G | K100: fhm.santos2819@gmail.com | L100: 00393517644693 | M100: ERNANI MARTINS DOS SANTOS | N100: TAFERSON HENRIQUE | O100: RNNTRS14E19Z602K | P100: 773 | Q100: 773 | R100: 0 | S100: 2 | T100: N | U100: N | V100: 300
A101: VOUCHER.2026.7881901 | B101: tipo indirizzo != 1 | C101: =VLOOKUP(A101,esito_ANPR_31AGO!C:G,5,FALSE()) -> tipo indirizzo = 11 | D101: 1 | E101: TAOUI | F101: FATIMA ZAHRA | G101: TAOFMZ92A67Z330A | H101: TAOUI | I101: FATIMA ZAHRA | J101: TAOFMZ92A67Z330A | K101: fatimazahrataoui92@gmail.com | L101: 393381223010 | M101: ABDELHAQ | N101: ISLAM | O101: BDLSLM19A08L219E | P101: 330 | Q101: 330 | R101: 0 | S101: 1 | T101: N | U101: N | V101: 150
A102: VOUCHER.2026.5486550 | B102: tipo indirizzo != 1 | C102: =VLOOKUP(A102,esito_ANPR_31AGO!C:G,5,FALSE()) -> tipo indirizzo = 10 | D102: 1 | E102: EDOS | F102: FAITH | G102: DSEFTH84M71Z335A | H102: EDOS | I102: FAITH | J102: DSEFTH84M71Z335A | K102: faith.edos31@gmail.com | L102: 00393384434465 | M102: AJAYI | N102: TRACY OVBDKHIAN | O102: JYATCY14A59Z335R | P102: 595 | Q102: 595 | R102: 0 | S102: 2 | T102: N | U102: N | V102: 300
A103: VOUCHER.2026.2794772 | B103: tipo indirizzo != 1 | C103: =VLOOKUP(A103,esito_ANPR_31AGO!C:G,5,FALSE()) -> tipo indirizzo = 10 | D103: 1 | E103: EDOS | F103: FAITH | G103: DSEFTH84M71Z335A | H103: EDOS | I103: FAITH | J103: DSEFTH84M71Z335A | K103: faith.edos31@gmail.com | L103: 00393384434465 | M103: AJAYI | N103: TREASURE ODION | O103: JYATSR14A59Z335R | P103: 595 | Q103: 595 | R103: 0 | S103: 2 | T103: N | U103: N | V103: 300
A104: VOUCHER.2026.9458802 | B104: tipo indirizzo != 1 | C104: =VLOOKUP(A104,esito_ANPR_31AGO!C:G,5,FALSE()) -> tipo indirizzo = 11 | D104: 1 | E104: CESAR MARIOTTO | F104: THIAGO | G104: CSRTHG80M15Z602N | H104: CESAR MARIOTTO | I104: THIAGO | J104: CSRTHG80M15Z602N | K104: tcmariotto@gmail.com | L104: 00393933395737 | M104: ENGLER MARIOTTO | N104: DAVI | O104: NGLDVA12P28Z602K | P104: 455 | Q104: 455 | R104: 0 | S104: 3 | T104: N | U104: N | V104: 500
A105: VOUCHER.2026.2590740 | B105: tipo indirizzo != 1 | C105: =VLOOKUP(A105,esito_ANPR_31AGO!C:G,5,FALSE()) -> tipo indirizzo = 11 | D105: 1 | E105: MAYORGA MORAN | F105: KATIA JEANNETTE | G105: MYRKJN87H63Z506V | H105: MAYORGA MORAN | I105: KATIA JEANNETTE | J105: MYRKJN87H63Z506V | K105: jeannettemayorga87@gmail.com | L105: 00393516951250 | M105: GUILLEN MAYORGA | N105: ANDERSON MOISES | O105: GLLNRS11M04Z506U | P105: 330 | Q105: 330 | R105: 0 | S105: 5 | T105: N | U105: N | V105: 500
A106: VOUCHER.2026.3572604 | B106: tipo indirizzo != 1 | C106: =VLOOKUP(A106,esito_ANPR_31AGO!C:G,5,FALSE()) -> tipo indirizzo = 11 | D106: 1 | E106: AYACH | F106: MOSTAFA | G106: YCHMTF71A01Z330Z | H106: AYACH | I106: MOSTAFA | J106: YCHMTF71A01Z330Z | K106: ayachmostafa147@gmail.com | L106: 00393270426463 | M106: AYACH | N106: ANAS | O106: YCHNSA17L14Z330V | P106: 848 | Q106: 848 | R106: 0 | S106: 1 | T106: N | U106: N | V106: 150
A107: VOUCHER.2026.6030432 | B107: tipo indirizzo != 1 | C107: =VLOOKUP(A107,esito_ANPR_31AGO!C:G,5,FALSE()) -> tipo indirizzo = 11 | D107: 1 | E107: MABROUK | F107: HAIFA | G107: MBRHFA93H65Z352T | H107: MABROUK | I107: HAIFA | J107: MBRHFA93H65Z352T | K107: mabroukhaifa111@gmail.com | L107: 00393509860607 | M107: HAZGUI | N107: YOUSSEF | O107: HZGYSF20S12Z352H | P107: 1808 | Q107: 1808 | R107: 0 | S107: 1 | T107: N | U107: N | V107: 150
A108: VOUCHER.2026.8389418 | B108: tipo indirizzo != 1 | C108: =VLOOKUP(A108,esito_ANPR_31AGO!C:G,5,FALSE()) -> tipo indirizzo = 11 | D108: 1 | E108: RODRIGUEZ LOPEZ | F108: OSCARINA GABRIELA | G108: RDRSRN94S59Z614P | H108: RODRIGUEZ LOPEZ | I108: OSCARINA GABRIELA | J108: RDRSRN94S59Z614P | K108: karina24918@gmail.com | L108: 3792221994 | M108: MARTINEZ RODRIGUEZ | N108: JOEL GABRIEL | O108: MRTJGB10D09Z614W | P108: 330 | Q108: 330 | R108: 0 | S108: 3 | T108: N | U108: N | V108: 500
A109: VOUCHER.2026.3450257 | B109: tipo indirizzo != 1 | C109: =VLOOKUP(A109,esito_ANPR_31AGO!C:G,5,FALSE()) -> tipo indirizzo = 10 | D109: 1 | E109: AFYF | F109: BOUZEKRI | G109: FYFBKR77A01Z330B | H109: AFYF | I109: BOUZEKRI | J109: FYFBKR77A01Z330B | K109: afyfzakka@gmail.com | L109: 00393474277748 | M109: AFYF | N109: DOUAE | O109: FYFDOU14C61Z330F | P109: 428 | Q109: 428 | R109: 0 | S109: 2 | T109: N | U109: N | V109: 300
A110: VOUCHER.2026.9515855 | B110: tipo indirizzo != 1 | C110: =VLOOKUP(A110,esito_ANPR_31AGO!C:G,5,FALSE()) -> tipo indirizzo = 10 | D110: 1 | E110: AFYF | F110: BOUZEKRI | G110: FYFBKR77A01Z330B | H110: AFYF | I110: BOUZEKRI | J110: FYFBKR77A01Z330B | K110: afyfzakka@gmail.com | L110: 00393474277748 | M110: AFYF | N110: MOHAMED AMINE | O110: FYFMMD09D27Z330Z | P110: 428 | Q110: 428 | R110: 0 | S110: 3 | T110: N | U110: N | V110: 500
... A126: VOUCHER.2026.4211353 | B126: tipo indirizzo != 1 | C126: =VLOOKUP(A126,esito_ANPR_31AGO!C:G,5,FALSE()) -> tipo indirizzo = 11 | D126: 1 | E126: SANJINES VARGAS | F126: CLAUDIA FABIOLA | G126: SNJCDF87M60Z601V | H126: SANJINES VARGAS | I126: CLAUDIA FABIOLA | J126: SNJCDF87M60Z601V | K126: claudiasanjines0@gmail.com | L126: 00393277011954 | M126: CHALOUP SANJINES | N126: JOSHUA | O126: CHLJSH11S18Z601N | P126: 1396 | Q126: 1396 | R126: 0 | S126: 5 | T126: N | U126: N | V126: 500
A127: VOUCHER.2026.4005149 | B127: tipo indirizzo != 1 | C127: =VLOOKUP(A127,esito_ANPR_31AGO!C:G,5,FALSE()) -> tipo indirizzo = 10 | D127: 1 | E127: ZAHLOUL | F127: RIHAM | G127: ZHLRHM89E50Z330D | H127: ZAHLOUL | I127: RIHAM | J127: ZHLRHM89E50Z330D | K127: zahloulriham@gmail.com | L127: 393509173787 | M127: EL MAHI | N127: ARON | O127: LMHRNA19M03L219M | P127: 330 | Q127: 330 | R127: 0 | S127: 1 | T127: S | U127: N | V127: 225
A128: VOUCHER.2026.7573649 | B128: CF con validita' != 1 | C128: =VLOOKUP(A128,esito_ANPR_31AGO!C:G,5,FALSE()) -> #N/A | D128: 1 | E128: COMANICI | F128: MARIA-LOREDANA | G128: CMNMLR88S61Z129H | H128: COMANICI | I128: MARIA-LOREDANA | J128: CMNMLR88S61Z129H | K128: lorelabeba@gmail.com | L128: 00393516214189 | M128: ROSELLO COMANICI | N128: MARIA DE LA ESPERANZA | O128: RSLMDL10E70Z131B | P128: 330 | Q128: 330 | R128: 0 | S128: 3 | T128: N | U128: N | V128: 500
A129: VOUCHER.2026.4524882 | B129: EN122 Soggetto non registrato in ANPR | C129: =VLOOKUP(A129,esito_ANPR_31AGO!C:G,5,FALSE()) -> #N/A | D129: 1 | E129: PEREZ | F129: DIEGO WALTER | G129: PRZDWL92H16Z600U | H129: PEREZ | I129: DIEGO WALTER | J129: PRZDWL92H16Z600U | K129: diegowalterperez100@gmail.com | L129: 3447433983 | M129: PEREZ | N129: HANNAH EMMA | O129: PRZHNH14A43Z600E | P129: 330 | Q129: 330 | R129: 0 | S129: 2 | T129: N | U129: N | V129: 300
A130: VOUCHER.2026.8296673 | B130: EN122 Soggetto non registrato in ANPR | C130: =VLOOKUP(A130,esito_ANPR_31AGO!C:G,5,FALSE()) -> #N/A | D130: 1 | E130: CHAVEZ JAUREGUI | F130: LIZBETH | G130: CHVLBT86T67Z611Z | H130: CHAVEZ JAUREGUI | I130: LIZBETH | J130: CHVLBT86T67Z611Z | K130: chavezlizbeth698@gmail.com | L130: 00393889047370 | M130: MOSCOSO CHAVEZ | N130: LIZ FERNANDA | O130: MSCLFR08P46Z611Y | P130: 348 | Q130: 348 | R130: 0 | S130: 3 | T130: N | U130: N | V130: 500
A131: VOUCHER.2026.4098482 | B131: EN122 Soggetto non registrato in ANPR | C131: =VLOOKUP(A131,esito_ANPR_31AGO!C:G,5,FALSE()) -> #N/A | D131: 1 | E131: MUNOZ HUAMANI | F131: YANET ROSSE | G131: MNZYTR78C51Z611D | H131: MUNOZ HUAMANI | I131: YANET ROSSE | J131: MNZYTR78C51Z611D | K131: yanetrmh1103@gmail.com | L131: 00393514709545 | M131: JUAREZ MUNOZ | N131: AYSEL ALEJANDRA | O131: JRZYLL14S60Z611I | P131: 1462 | Q131: 1462 | R131: 0 | S131: 2 | T131: N | U131: N | V131: 300
A132: VOUCHER.2026.3075882 | B132: tipo indirizzo != 1 | C132: =VLOOKUP(A132,esito_ANPR_31AGO!C:G,5,FALSE()) -> tipo indirizzo = 11 | D132: 1 | E132: CASTELLUCCIA | F132: GIUSEPPINA | G132: CSTGPP83H63Z112O | H132: CASTELLUCCIA | I132: GIUSEPPINA | J132: CSTGPP83H63Z112O | K132: giusycastelluccia8@gmail.com | L132: 3441185201 | M132: SPANO' | N132: ALESSANDRO | O132: SPNLSN12L02L219C | P132: 595 | Q132: 595 | R132: 0 | S132: 5 | T132: S | U132: N | V132: 750
A133: VOUCHER.2026.5654077 | B133: EN122 Soggetto non registrato in ANPR | C133: =VLOOKUP(A133,esito_ANPR_31AGO!C:G,5,FALSE()) -> #N/A | D133: 1 | E133: CAPCHA GOICOCHEA | F133: LUCIA WENDY | G133: CPCLWN89M48Z611Z | H133: CAPCHA GOICOCHEA | I133: LUCIA WENDY | J133: CPCLWN89M48Z611Z | K133: goicochea08lucia@gmail.com | L133: 00393312210395 | M133: ASSADO CAPCHA | N133: CAMILA LUCIA | O133: SSDCLL10B68Z611Q | P133: 330 | Q133: 330 | R133: 0 | S133: 3 | T133: N | U133: N | V133: 500
A134: VOUCHER.2026.3849342 | B134: tipo indirizzo != 1 | C134: =VLOOKUP(A134,esito_ANPR_31AGO!C:G,5,FALSE()) -> tipo indirizzo = 10 | D134: 1 | E134: AHMETOVIC | F134: MARIJANA | G134: HMTMJN86R63Z149D | H134: AHMETOVIC | I134: MARIJANA | J134: HMTMJN86R63Z149D | K134: guendalinapipo@gmail.com | L134: 00393274049865 | M134: AHMETOVIC' | N134: GUENDALINA | O134: HMTGDL18A59L219K | P134: 330 | Q134: 330 | R134: 0.01 | S134: 1 | T134: N | U134: N | V134: 150
A135: VOUCHER.2026.9679329 | B135: tipo indirizzo != 1 | C135: =VLOOKUP(A135,esito_ANPR_31AGO!C:G,5,FALSE()) -> tipo indirizzo = 10 | D135: 1 | E135: AHMETOVIC | F135: MARIJANA | G135: HMTMJN86R63Z149D | H135: AHMETOVIC | I135: MARIJANA | J135: HMTMJN86R63Z149D | K135: guendalinapipo@gmail.com | L135: 00393274049865 | M135: AHMETOVIC' | N135: STRANIERO | O135: HMTSRN16H06L219C | P135: 330 | Q135: 330 | R135: 0.01 | S135: 1 | T135: N | U135: N | V135: 150
A136: VOUCHER.2026.1333567 | B136: tipo indirizzo != 1 | C136: =VLOOKUP(A136,esito_ANPR_31AGO!C:G,5,FALSE()) -> tipo indirizzo = 11 | D136: 1 | E136: GERVASI | F136: ROBERTA | G136: GRVRRT86E42H355F | H136: GERVASI | I136: ROBERTA | J136: GRVRRT86E42H355F | K136: robertagervasi1986@gmail.com | L136: 00393345628503 | M136: CAPECE | N136: REGINA | O136: CPCRGN19P51L219V | P136: 450 | Q136: 450 | R136: 0.01 | S136: 1 | T136: N | U136: N | V136: 150
A137: VOUCHER.2026.3286362 | B137: tipo indirizzo != 1 | C137: =VLOOKUP(A137,esito_ANPR_31AGO!C:G,5,FALSE()) -> tipo indirizzo = 10 | D137: 1 | E137: AHMETOVIC | F137: MARIJANA | G137: HMTMJN86R63Z149D | H137: AHMETOVIC | I137: MARIJANA | J137: HMTMJN86R63Z149D | K137: guendalinapipo@gmail.com | L137: 00393274049865 | M137: AHMETOVIC' | N137: LUCIA | O137: HMTLCU14R63L219M | P137: 330 | Q137: 330 | R137: 0.01 | S137: 2 | T137: N | U137: N | V137: 300
A138: VOUCHER.2026.1716431 | B138: tipo indirizzo != 1 | C138: =VLOOKUP(A138,esito_ANPR_31AGO!C:G,5,FALSE()) -> tipo indirizzo = 11 | D138: 1 | E138: GERVASI | F138: ROBERTA | G138: GRVRRT86E42H355F | H138: GERVASI | I138: ROBERTA | J138: GRVRRT86E42H355F | K138: robertagervasi1986@gmail.com | L138: 00393345628503 | M138: CAPECE | N138: SAMUEL ANTONIO | O138: CPCSLN11R07L219U | P138: 450 | Q138: 450 | R138: 0.01 | S138: 3 | T138: N | U138: N | V138: 500
... A145: VOUCHER.2026.2508724 | B145: tipo indirizzo != 1 | C145: =VLOOKUP(A145,esito_ANPR_31AGO!C:G,5,FALSE()) -> tipo indirizzo = 10 | D145: 1 | E145: HUSEJNOVIC | F145: VALENTINO | G145: HSJVNT89M10L219U | H145: HUSEJNOVIC | I145: VALENTINO | J145: HSJVNT89M10L219U | K145: desi_.155@icloud.com | L145: 393204184610 | M145: HUSEJNOVIC | N145: DESIDERIA | O145: HSJDDR09A55L219U | P145: 330 | Q145: 330 | R145: 47.41 | S145: 5 | T145: N | U145: N | V145: 500
A146: VOUCHER.2026.1782749 | B146: tipo indirizzo != 1 | C146: =VLOOKUP(A146,esito_ANPR_31AGO!C:G,5,FALSE()) -> tipo indirizzo = 11 | D146: 1 | E146: ARMAS | F146: ANNA PAOLA | G146: RMSNPL74D70H856L | H146: ARMAS | I146: ANNA PAOLA | J146: RMSNPL74D70H856L | K146: armasannapaola@gmail.com | L146: 00393491356930 | M146: CECCHETTO | N146: FILIPPO | O146: CCCFPP14E31L219L | P146: 543 | Q146: 543 | R146: 86.31 | S146: 2 | T146: N | U146: S | V146: 300 | W146: =V146*30% -> 90
A147: VOUCHER.2026.4636245 | B147: tipo indirizzo != 1 | C147: =VLOOKUP(A147,esito_ANPR_31AGO!C:G,5,FALSE()) -> tipo indirizzo = 11 | D147: 1 | E147: EL BOUSSIRY | F147: SANAE | G147: LBSSNA77H62Z330N | H147: EL BOUSSIRY | I147: SANAE | J147: LBSSNA77H62Z330N | K147: sanaboss06@outlook.com | L147: 00393716713561 | M147: ALAMI | N147: ILYASS | O147: LMALSS10M29B300E | P147: 1907 | Q147: 1907 | R147: 98.39 | S147: 3 | T147: N | U147: N | V147: 500
A148: VOUCHER.2026.6882803 | B148: EN122 Soggetto non registrato in ANPR | C148: =VLOOKUP(A148,esito_ANPR_31AGO!C:G,5,FALSE()) -> #N/A | D148: 1 | E148: MAYHUIRE SALAS | F148: EDWARD | G148: MYHDRD85D10Z611R | H148: MAYHUIRE SALAS | I148: EDWARD | J148: MYHDRD85D10Z611R | K148: edulas20@gmail.com | L148: 00393804763357 | M148: MAYHUIRE BARAZORDA | N148: BRIHANA MARA | O148: MYHBHN10D54Z611W | P148: 1889 | Q148: 1889 | R148: 109.29 | S148: 3 | T148: N | U148: N | V148: 500
A149: VOUCHER.2026.7082776 | B149: EN122 Soggetto non registrato in ANPR | C149: =VLOOKUP(A149,esito_ANPR_31AGO!C:G,5,FALSE()) -> #N/A | D149: 1 | E149: MAYHUIRE SALAS | F149: EDWARD | G149: MYHDRD85D10Z611R | H149: MAYHUIRE SALAS | I149: EDWARD | J149: MYHDRD85D10Z611R | K149: edulas20@gmail.com | L149: 00393804763357 | M149: MAYHUIRE PENA | N149: MATHIU YAED | O149: MYHMHY17R08Z611F | P149: 1889 | Q149: 1889 | R149: 109.29 | S149: 1 | T149: N | U149: N | V149: 150
A150: VOUCHER.2026.6879603 | B150: tipo indirizzo != 1 | C150: =VLOOKUP(A150,esito_ANPR_31AGO!C:G,5,FALSE()) -> tipo indirizzo = 10 | D150: 1 | E150: GERONIMO | F150: JOBEN ANN DELINA | G150: GRNJNN85T46Z216P | H150: GERONIMO | I150: JOBEN ANN DELINA | J150: GRNJNN85T46Z216P | K150: jhojie06@yahoo.it | L150: 00393276761902 | M150: GERONIMO | N150: FREDERICK WILLEN | O150: GRNFDR08P20C722S | P150: 458 | Q150: 458 | R150: 137.26 | S150: 3 | T150: N | U150: N | V150: 500
A151: VOUCHER.2026.6073952 | B151: tipo indirizzo != 1 | C151: =VLOOKUP(A151,esito_ANPR_31AGO!C:G,5,FALSE()) -> tipo indirizzo = 10 | D151: 1 | E151: GERONIMO | F151: JOBEN ANN DELINA | G151: GRNJNN85T46Z216P | H151: GERONIMO | I151: JOBEN ANN DELINA | J151: GRNJNN85T46Z216P | K151: jhojie06@yahoo.it | L151: 00393276761902 | M151: DOMENDEN | N151: ALEXIS CHLOE | O151: DMNLSC11R48L219E | P151: 458 | Q151: 458 | R151: 137.26 | S151: 3 | T151: N | U151: N | V151: 500
A152: VOUCHER.2026.7585133 | B152: EN122 Soggetto non registrato in ANPR | C152: =VLOOKUP(A152,esito_ANPR_31AGO!C:G,5,FALSE()) -> #N/A | D152: 1 | E152: PALMIERI RONCAGLIOLO | F152: LUIGI | G152: PLMLGU78C12Z611Z | H152: PALMIERI RONCAGLIOLO | I152: LUIGI | J152: PLMLGU78C12Z611Z | K152: luigipalmieri1978@gmail.com | L152: 00393446291348 | M152: PALMIERI PLAZA | N152: LUCA NICOLA | O152: PLMLNC08A10Z611O | P152: 445 | Q152: 445 | R152: 149.92 | S152: 3 | T152: N | U152: N | V152: 500
A153: VOUCHER.2026.8368922 | B153: EN122 Soggetto non registrato in ANPR | C153: =VLOOKUP(A153,esito_ANPR_31AGO!C:G,5,FALSE()) -> #N/A | D153: 1 | E153: PALMIERI RONCAGLIOLO | F153: LUIGI | G153: PLMLGU78C12Z611Z | H153: PALMIERI RONCAGLIOLO | I153: LUIGI | J153: PLMLGU78C12Z611Z | K153: luigipalmieri1978@gmail.com | L153: 00393446291348 | M153: PALMIERI PLAZA | N153: GAETANO | O153: PLMGTN12L31Z611L | P153: 445 | Q153: 445 | R153: 149.92 | S153: 2 | T153: N | U153: N | V153: 300
A154: VOUCHER.2026.9224752 | B154: EN122 Soggetto non registrato in ANPR | C154: =VLOOKUP(A154,esito_ANPR_31AGO!C:G,5,FALSE()) -> #N/A | D154: 1 | E154: FERREIRA SOARES SILVA | F154: TAINARA CRISTINA | G154: FRRTRC96B45Z602A | H154: FERREIRA SOARES SILVA | I154: TAINARA CRISTINA | J154: FRRTRC96B45Z602A | K154: tainarasoares401@gmail.com | L154: 393517713847 | M154: SOARES TEIXEIRA SILVA | N154: MARIA EDUARDA | O154: SRSMDR10B62Z602D | P154: 330 | Q154: 330 | R154: 174.42 | S154: 3 | T154: N | U154: N | V154: 500
A155: VOUCHER.2026.8997047 | B155: EN122 Soggetto non registrato in ANPR | C155: =VLOOKUP(A155,esito_ANPR_31AGO!C:G,5,FALSE()) -> #N/A | D155: 1 | E155: FERREIRA SOARES SILVA | F155: TAINARA CRISTINA | G155: FRRTRC96B45Z602A | H155: FERREIRA SOARES SILVA | I155: TAINARA CRISTINA | J155: FRRTRC96B45Z602A | K155: tainarasoares401@gmail.com | L155: 393517713847 | M155: SOARES TEIXEIRA SILVA | N155: REBECCA EMANUELLY | O155: SRSRCC18P68Z602Q | P155: 330 | Q155: 330 | R155: 174.42 | S155: 1 | T155: N | U155: N | V155: 150
A156: VOUCHER.2026.3822201 | B156: EN122 Soggetto non registrato in ANPR | C156: =VLOOKUP(A156,esito_ANPR_31AGO!C:G,5,FALSE()) -> #N/A | D156: 1 | E156: BELAID | F156: AFEF | G156: BLDFFA79A62Z352M | H156: BELAID | I156: AFEF | J156: BLDFFA79A62Z352M | K156: belaidafef9@gmail.com | L156: 00393509572689 | M156: GAZZEH | N156: MOHAMED TAIEB | O156: GZZMMD15C14Z352C | P156: 1462 | Q156: 1462 | R156: 175.64 | S156: 2 | T156: N | U156: N | V156: 300
A157: VOUCHER.2026.8138084 | B157: EN122 Soggetto non registrato in ANPR | C157: =VLOOKUP(A157,esito_ANPR_31AGO!C:G,5,FALSE()) -> #N/A | D157: 1 | E157: BELAID | F157: AFEF | G157: BLDFFA79A62Z352M | H157: BELAID | I157: AFEF | J157: BLDFFA79A62Z352M | K157: belaidafef9@gmail.com | L157: 00393509572689 | M157: GAZZEH | N157: RANA | O157: GZZRNA13E55Z352Q | P157: 1462 | Q157: 1462 | R157: 175.64 | S157: 2 | T157: N | U157: N | V157: 300
A158: VOUCHER.2026.9177828 | B158: tipo indirizzo != 1 | C158: =VLOOKUP(A158,esito_ANPR_31AGO!C:G,5,FALSE()) -> tipo indirizzo = 11 | D158: 1 | E158: OMOBUDE | F158: FAITH | G158: MBDFTH98B64Z335O | H158: OMOBUDE | I158: FAITH | J158: MBDFTH98B64Z335O | K158: faithomobude3@gmail.com | L158: 00393286827135 | M158: OMOBUDE | N158: PRAISE | O158: MBDPRS17T09Z112K | P158: 330 | Q158: 330 | R158: 209.61 | S158: 1 | T158: N | U158: N | V158: 150
... A170: VOUCHER.2026.1508612 | B170: tipo indirizzo != 1 | C170: =VLOOKUP(A170,esito_ANPR_31AGO!C:G,5,FALSE()) -> tipo indirizzo = 10 | D170: 1 | E170: DEMELAS | F170: MARIA IGNAZIA | G170: DMLMGN79L43L219M | H170: DEMELAS | I170: MARIA IGNAZIA | J170: DMLMGN79L43L219M | K170: maria980509@libero.it | L170: 3204465640 | M170: MATELLICA | N170: MATTIA | O170: MTLMTT09T29L219P | P170: 330 | Q170: 330 | R170: 388.47 | S170: 5 | T170: S | U170: N | V170: 750
A171: VOUCHER.2026.1905432 | B171: tipo indirizzo != 1 | C171: =VLOOKUP(A171,esito_ANPR_31AGO!C:G,5,FALSE()) -> tipo indirizzo = 10 | D171: 1 | E171: DEMELAS | F171: MARIA IGNAZIA | G171: DMLMGN79L43L219M | H171: DEMELAS | I171: MARIA IGNAZIA | J171: DMLMGN79L43L219M | K171: maria980509@libero.it | L171: 3204465640 | M171: CAPUANO | N171: ALBERTO | O171: CPNLRT12R23L219F | P171: 330 | Q171: 330 | R171: 388.47 | S171: 5 | T171: N | U171: S | V171: 500 | W171: =V171*30% -> 150
A172: VOUCHER.2026.9394088 | B172: tipo indirizzo != 1 | C172: =VLOOKUP(A172,esito_ANPR_31AGO!C:G,5,FALSE()) -> tipo indirizzo = 10 | D172: 1 | E172: DEMELAS | F172: MARIA IGNAZIA | G172: DMLMGN79L43L219M | H172: DEMELAS | I172: MARIA IGNAZIA | J172: DMLMGN79L43L219M | K172: maria980509@libero.it | L172: 3204465640 | M172: OTTOBRINI | N172: AURORA | O172: TTBRRA20M51L219U | P172: 330 | Q172: 330 | R172: 388.47 | S172: 1 | T172: N | U172: S | V172: 150 | W172: =V172*30% -> 45
A173: VOUCHER.2026.4787431 | B173: tipo indirizzo != 1 | C173: =VLOOKUP(A173,esito_ANPR_31AGO!C:G,5,FALSE()) -> tipo indirizzo = 4 | D173: 1 | E173: DE JESUS | F173: ANDREI RICARDO | G173: DJSNRR92L13Z602Q | H173: DE JESUS | I173: ANDREI RICARDO | J173: DJSNRR92L13Z602Q | K173: andreirjesus@gmail.com | L173: 00393314805764 | M173: DE JESUS | N173: GIORGIO SALVATORE | O173: DJSGGS18P17Z602L | P173: 62049 | Q173: 62049 | R173: 397.12 | S173: 1 | T173: N | U173: N | V173: 150
A174: VOUCHER.2026.3788404 | B174: tipo indirizzo != 1 | C174: =VLOOKUP(A174,esito_ANPR_31AGO!C:G,5,FALSE()) -> tipo indirizzo = 11 | D174: 1 | E174: ZANGHI | F174: NICOLETTA | G174: ZNGNLT87P48L727E | H174: ZANGHI | I174: NICOLETTA | J174: ZNGNLT87P48L727E | K174: nicoletta872018@libero.it | L174: 00393895960681 | M174: DI MAGGIO | N174: ERICK | O174: DMGRCK16T02L219Z | P174: 621 | Q174: 621 | R174: 409.55 | S174: 1 | T174: N | U174: N | V174: 150
A175: VOUCHER.2026.2952075 | B175: tipo indirizzo != 1 | C175: =VLOOKUP(A175,esito_ANPR_31AGO!C:G,5,FALSE()) -> tipo indirizzo = 11 | D175: 1 | E175: ZANGHI | F175: NICOLETTA | G175: ZNGNLT87P48L727E | H175: ZANGHI | I175: NICOLETTA | J175: ZNGNLT87P48L727E | K175: nicoletta872018@libero.it | L175: 00393895960681 | M175: DI MAGGIO | N175: ANNA | O175: DMGNNA18E43L219D | P175: 621 | Q175: 621 | R175: 409.55 | S175: 1 | T175: N | U175: N | V175: 150
A176: VOUCHER.2026.2048374 | B176: EN122 Soggetto non registrato in ANPR | C176: =VLOOKUP(A176,esito_ANPR_31AGO!C:G,5,FALSE()) -> #N/A | D176: 1 | E176: JARMOUNI | F176: EZZOHRA | G176: JRMZHR89M65Z330I | H176: JARMOUNI | I176: EZZOHRA | J176: JRMZHR89M65Z330I | K176: zahrajarmouni89@gmail.com | L176: 00393248180524 | M176: HAJBANE | N176: JANNAT | O176: HJBJNT13R51Z330W | P176: 330 | Q176: 330 | R176: 424.46 | S176: 2 | T176: N | U176: N | V176: 300
A177: VOUCHER.2026.6923333 | B177: EN122 Soggetto non registrato in ANPR | C177: =VLOOKUP(A177,esito_ANPR_31AGO!C:G,5,FALSE()) -> #N/A | D177: 1 | E177: BAZAN DAVILA | F177: ISAIAS | G177: BZNSSI96L21Z611B | H177: BAZAN DAVILA | I177: ISAIAS | J177: BZNSSI96L21Z611B | K177: unico.isa.8@gmail.com | L177: 00393298959374 | M177: BAZAN ALAYO | N177: SOPHIA EUNICE | O177: BZNSHN19D41Z611Y | P177: 330 | Q177: 330 | R177: 430.25 | S177: 1 | T177: N | U177: N | V177: 150
A178: VOUCHER.2026.9815443 | B178: tipo indirizzo != 1 | C178: =VLOOKUP(A178,esito_ANPR_31AGO!C:G,5,FALSE()) -> tipo indirizzo = 11 | D178: 1 | E178: MANTOAN | F178: MICHELA | G178: MNTMHL78T43E379S | H178: MANTOAN | I178: MICHELA | J178: MNTMHL78T43E379S | K178: michelamantoan@yahoo.it | L178: 00393512577361 | M178: GNAN | N178: LETIZIA | O178: GNNLTZ14H70L219J | P178: 455 | Q178: 455 | R178: 446.57 | S178: 2 | T178: N | U178: N | V178: 300
A179: VOUCHER.2026.8007637 | B179: tipo indirizzo != 1 | C179: =VLOOKUP(A179,esito_ANPR_31AGO!C:G,5,FALSE()) -> tipo indirizzo = 11 | D179: 1 | E179: MANTOAN | F179: MICHELA | G179: MNTMHL78T43E379S | H179: MANTOAN | I179: MICHELA | J179: MNTMHL78T43E379S | K179: michelamantoan@yahoo.it | L179: 00393512577361 | M179: GNAN | N179: ANDREA | O179: GNNNDR10P25E379M | P179: 455 | Q179: 455 | R179: 446.57 | S179: 5 | T179: N | U179: N | V179: 500
A180: VOUCHER.2026.7499956 | B180: tipo indirizzo != 1 | C180: =VLOOKUP(A180,esito_ANPR_31AGO!C:G,5,FALSE()) -> tipo indirizzo = 10 | D180: 1 | E180: ALCARO | F180: DANIELA | G180: LCRDNL79P48L219I | H180: ALCARO | I180: DANIELA | J180: LCRDNL79P48L219I | K180: alcarodaniela@gmail.com | L180: 00393391297456 | M180: CIMMARUSTI | N180: GABRIEL | O180: CMMGRL14T08L219F | P180: 330 | Q180: 330 | R180: 496.28 | S180: 2 | T180: N | U180: N | V180: 300
A181: VOUCHER.2026.8052920 | B181: tipo indirizzo != 1 | C181: =VLOOKUP(A181,esito_ANPR_31AGO!C:G,5,FALSE()) -> tipo indirizzo = 10 | D181: 1 | E181: ALCARO | F181: DANIELA | G181: LCRDNL79P48L219I | H181: ALCARO | I181: DANIELA | J181: LCRDNL79P48L219I | K181: alcarodaniela@gmail.com | L181: 00393391297456 | M181: CIMMARUSTI | N181: MANUEL | O181: CMMMNL10M04L219N | P181: 330 | Q181: 330 | R181: 496.28 | S181: 5 | T181: N | U181: N | V181: 500
A182: VOUCHER.2026.3672380 | B182: tipo indirizzo != 1 | C182: =VLOOKUP(A182,esito_ANPR_31AGO!C:G,5,FALSE()) -> tipo indirizzo = 11 | D182: 1 | E182: MAIJI | F182: BOUCHRA | G182: MJABHR75B68Z330Q | H182: MAIJI | I182: BOUCHRA | J182: MJABHR75B68Z330Q | K182: maiji.bouchra@gmail.com | L182: 00393792422688 | M182: JIBRANE | N182: GHITA | O182: JBRGHT09R50Z330C | P182: 455 | Q182: 455 | R182: 529.61 | S182: 3 | T182: N | U182: N | V182: 500
A183: VOUCHER.2026.5369404 | B183: tipo indirizzo != 1 | C183: =VLOOKUP(A183,esito_ANPR_31AGO!C:G,5,FALSE()) -> tipo indirizzo = 10 | D183: 1 | E183: ZEKAJ | F183: BLERINA | G183: ZKJBRN87B65Z100R | H183: ZEKAJ | I183: BLERINA | J183: ZKJBRN87B65Z100R | K183: ina-25@live.com | L183: 00393483526221 | M183: KORCARI | N183: KOEL | O183: KRCKLO15P11F335L | P183: 450 | Q183: 450 | R183: 556.84 | S183: 2 | T183: N | U183: N | V183: 300
A184: VOUCHER.2026.3406279 | B184: tipo indirizzo != 1 | C184: =VLOOKUP(A184,esito_ANPR_31AGO!C:G,5,FALSE()) -> tipo indirizzo = 11 | D184: 1 | E184: GJORGJEVIC | F184: ZLATICA | G184: GJRZTC94B46G713S | H184: GJORGJEVIC | I184: ZLATICA | J184: GJRZTC94B46G713S | K184: zlaticagjorgjevic94@gmail.com | L184: 00393703003664 | M184: STOJANOVIC | N184: STEFANY ELISABETH | O184: STJSFN13T69L219W | P184: 1396 | Q184: 1396 | R184: 625.18 | S184: 2 | T184: N | U184: N | V184: 300
... A209: VOUCHER.2026.4959299 | B209: tipo indirizzo != 1 | C209: =VLOOKUP(A209,esito_ANPR_31AGO!C:G,5,FALSE()) -> tipo indirizzo = 10 | D209: 1 | E209: MARQUES MOREIRA | F209: JULIANA MARIA | G209: MRQJNM86D46Z602W | H209: MARQUES MOREIRA | I209: JULIANA MARIA | J209: MRQJNM86D46Z602W | K209: ju.marques1986@hotmail.com | L209: 00393287932484 | M209: MOREIRA MARQUES | N209: DAVI | O209: MRRDVA20M16Z602K | P209: 413 | Q209: 413 | R209: 1016.26 | S209: 1 | T209: N | U209: N | V209: 150
A210: VOUCHER.2026.4080861 | B210: tipo indirizzo != 1 | C210: =VLOOKUP(A210,esito_ANPR_31AGO!C:G,5,FALSE()) -> tipo indirizzo = 10 | D210: 1 | E210: MARQUES MOREIRA | F210: JULIANA MARIA | G210: MRQJNM86D46Z602W | H210: MARQUES MOREIRA | I210: JULIANA MARIA | J210: MRQJNM86D46Z602W | K210: ju.marques1986@hotmail.com | L210: 00393287932484 | M210: MOREIRA MARQUES | N210: MARIA JULIA | O210: MRRMJL17P58Z602K | P210: 413 | Q210: 413 | R210: 1016.26 | S210: 1 | T210: N | U210: S | V210: 150 | W210: =V210*30% -> 45
A211: VOUCHER.2026.1330514 | B211: tipo indirizzo != 1 | C211: =VLOOKUP(A211,esito_ANPR_31AGO!C:G,5,FALSE()) -> tipo indirizzo = 11 | D211: 1 | E211: TANASE | F211: SORINA-MIRELA | G211: TNSSNM93P70Z129Q | H211: TANASE | I211: SORINA-MIRELA | J211: TNSSNM93P70Z129Q | K211: mirela.tanase21@yahoo.com | L211: 00393487137814 | M211: TANAS E | N211: DIANA STEFANIA | O211: TNSDST18R50Z129N | P211: 909 | Q211: 909 | R211: 1119.11 | S211: 1 | T211: N | U211: N | V211: 150
A212: VOUCHER.2026.2340660 | B212: tipo indirizzo != 1 | C212: =VLOOKUP(A212,esito_ANPR_31AGO!C:G,5,FALSE()) -> tipo indirizzo = 10 | D212: 1 | E212: MUSSO | F212: SONIA | G212: MSSSNO92A65C627X | H212: MUSSO | I212: SONIA | J212: MSSSNO92A65C627X | K212: soniamusso6@gmail.com | L212: 00393806483763 | M212: YMERI | N212: ALESSIA | O212: YMRLSS13M59C627M | P212: 377 | Q212: 377 | R212: 1140.88 | S212: 2 | T212: N | U212: S | V212: 300 | W212: =V212*30% -> 90
A213: VOUCHER.2026.6074088 | B213: tipo indirizzo != 1 | C213: =VLOOKUP(A213,esito_ANPR_31AGO!C:G,5,FALSE()) -> tipo indirizzo = 10 | D213: 1 | E213: RONQUILLO | F213: VERONICA | G213: RNQVNC71S70Z514A | H213: RONQUILLO | I213: VERONICA | J213: RNQVNC71S70Z514A | K213: vronquillo98@gmail.com | L213: 00393457960496 | M213: BASLA | N213: MARIAELENA | O213: BSLMLN11P47B041E | P213: 1896 | Q213: 1896 | R213: 1157.66 | S213: 3 | T213: S | U213: N | V213: 750
A214: VOUCHER.2026.6442891 | B214: tipo indirizzo != 1 | C214: =VLOOKUP(A214,esito_ANPR_31AGO!C:G,5,FALSE()) -> tipo indirizzo = 10 | D214: 1 | E214: SANDU | F214: CIPRIAN IOAN | G214: SNDCRN80A04Z129C | H214: SANDU | I214: CIPRIAN IOAN | J214: SNDCRN80A04Z129C | K214: sanduciprianioan@gmail.com | L214: 00393533114823 | M214: SANDU | N214: CLAUDIU IOAN | O214: SNDCDN14A17C665J | P214: 595 | Q214: 595 | R214: 1169.77 | S214: 2 | T214: S | U214: N | V214: 450
A215: VOUCHER.2026.8491383 | B215: tipo indirizzo != 1 | C215: =VLOOKUP(A215,esito_ANPR_31AGO!C:G,5,FALSE()) -> tipo indirizzo = 10 | D215: 1 | E215: PEDONE | F215: ROSALIA JESSICA | G215: PDNRLJ90R54L219H | H215: PEDONE | I215: ROSALIA JESSICA | J215: PDNRLJ90R54L219H | K215: pedonejessica674@gmail.com | L215: 00393515530866 | M215: CUTRI | N215: IVAN DOMENICO | O215: CTRVDM09P20L219W | P215: 330 | Q215: 330 | R215: 1219.67 | S215: 5 | T215: N | U215: S | V215: 500 | W215: =V215*30% -> 150
A216: VOUCHER.2026.6622102 | B216: tipo indirizzo != 1 | C216: =VLOOKUP(A216,esito_ANPR_31AGO!C:G,5,FALSE()) -> tipo indirizzo = 10 | D216: 1 | E216: PEDONE | F216: ROSALIA JESSICA | G216: PDNRLJ90R54L219H | H216: PEDONE | I216: ROSALIA JESSICA | J216: PDNRLJ90R54L219H | K216: pedonejessica674@gmail.com | L216: 00393515530866 | M216: FERLISI | N216: SOFIA | O216: FRLSFO18H57L219I | P216: 330 | Q216: 330 | R216: 1219.67 | S216: 1 | T216: N | U216: N | V216: 150
A217: VOUCHER.2026.5808645 | B217: tipo indirizzo != 1 | C217: =VLOOKUP(A217,esito_ANPR_31AGO!C:G,5,FALSE()) -> tipo indirizzo = 11 | D217: 1 | E217: EL BOUKHARI | F217: NAIMA | G217: LBKNMA72S45Z330S | H217: EL BOUKHARI | I217: NAIMA | J217: LBKNMA72S45Z330S | K217: nadinejinane.naima@gmail.com | L217: 00393270732079 | M217: BOUGTOB | N217: NADINE | O217: BGTNDN11M58I470R | P217: 1396 | Q217: 1396 | R217: 1273.13 | S217: 3 | T217: N | U217: N | V217: 500
A218: VOUCHER.2026.9320951 | B218: tipo indirizzo != 1 | C218: =VLOOKUP(A218,esito_ANPR_31AGO!C:G,5,FALSE()) -> tipo indirizzo = 11 | D218: 1 | E218: EL BOUKHARI | F218: NAIMA | G218: LBKNMA72S45Z330S | H218: EL BOUKHARI | I218: NAIMA | J218: LBKNMA72S45Z330S | K218: nadinejinane.naima@gmail.com | L218: 00393270732079 | M218: BOUGTOB | N218: JINANE | O218: BGTJNN14P55I470I | P218: 1396 | Q218: 1396 | R218: 1273.13 | S218: 2 | T218: N | U218: N | V218: 300
A219: VOUCHER.2026.4391565 | B219: tipo indirizzo != 1 | C219: =VLOOKUP(A219,esito_ANPR_31AGO!C:G,5,FALSE()) -> tipo indirizzo = 11 | D219: 1 | E219: PACE | F219: VITTORIA | G219: PCAVTR91E50L219D | H219: PACE | I219: VITTORIA | J219: PCAVTR91E50L219D | K219: vikypace2810@gmail.com | L219: 00393447505593 | M219: CALAMIA | N219: CHLOE | O219: CLMCHL20E71E379U | P219: 491 | Q219: 491 | R219: 1349.51 | S219: 1 | T219: N | U219: N | V219: 150
A220: VOUCHER.2026.2082512 | B220: tipo indirizzo != 1 | C220: =VLOOKUP(A220,esito_ANPR_31AGO!C:G,5,FALSE()) -> tipo indirizzo = 10 | D220: 1 | E220: SALAS GAYOSO | F220: NAY RUT | G220: SLSNRT86D64Z611H | H220: SALAS GAYOSO | I220: NAY RUT | J220: SLSNRT86D64Z611H | K220: sgayosorut@gmail.com | L220: 00393805805675 | M220: HURTADO SALAS | N220: ISAI RONALD | O220: HRTSNL13E07Z611L | P220: 428 | Q220: 428 | R220: 1376.85 | S220: 2 | T220: N | U220: N | V220: 300
A221: VOUCHER.2026.7571779 | B221: tipo indirizzo != 1 | C221: =VLOOKUP(A221,esito_ANPR_31AGO!C:G,5,FALSE()) -> tipo indirizzo = 10 | D221: 1 | E221: SALAS GAYOSO | F221: NAY RUT | G221: SLSNRT86D64Z611H | H221: SALAS GAYOSO | I221: NAY RUT | J221: SLSNRT86D64Z611H | K221: sgayosorut@gmail.com | L221: 00393805805675 | M221: HURTADO SALAS | N221: DANIEL IKER | O221: HRTDLK10D20Z611M | P221: 428 | Q221: 428 | R221: 1376.85 | S221: 3 | T221: N | U221: N | V221: 500
A222: VOUCHER.2026.3000948 | B222: tipo indirizzo != 1 | C222: =VLOOKUP(A222,esito_ANPR_31AGO!C:G,5,FALSE()) -> tipo indirizzo = 10 | D222: 1 | E222: SALAS GAYOSO | F222: NAY RUT | G222: SLSNRT86D64Z611H | H222: SALAS GAYOSO | I222: NAY RUT | J222: SLSNRT86D64Z611H | K222: sgayosorut@gmail.com | L222: 00393805805675 | M222: HURTADO SALAS | N222: PHILLIP XANDERS | O222: HRTPLL16D18Z611W | P222: 428 | Q222: 428 | R222: 1376.85 | S222: 1 | T222: N | U222: N | V222: 150
A223: VOUCHER.2026.9945862 | B223: EN122 Soggetto cancellato da ANPR | C223: =VLOOKUP(A223,esito_ANPR_31AGO!C:G,5,FALSE()) -> #N/A | D223: 1 | E223: ALAKUS | F223: MEHMET | G223: LKSMMT90C20Z243P | H223: ALAKUS | I223: MEHMET | J223: LKSMMT90C20Z243P | K223: mehmetdevrim6327@gmail.com | L223: 00393801447124 | M223: ALAKUS | N223: IRMAK DEVRIM | O223: LKSRKD14S56Z243V | P223: 330 | Q223: 330 | R223: 1379.41 | S223: 2 | T223: N | U223: N | V223: 300
A224: VOUCHER.2026.7465564 | B224: EN122 Soggetto cancellato da ANPR | C224: =VLOOKUP(A224,esito_ANPR_31AGO!C:G,5,FALSE()) -> #N/A | D224: 1 | E224: ALAKUS | F224: MEHMET | G224: LKSMMT90C20Z243P | H224: ALAKUS | I224: MEHMET | J224: LKSMMT90C20Z243P | K224: mehmetdevrim6327@gmail.com | L224: 00393801447124 | M224: ALAKUS | N224: MIRAN | O224: LKSMRN12A23Z243I | P224: 330 | Q224: 330 | R224: 1379.41 | S224: 2 | T224: N | U224: N | V224: 300
...

Sheet sql
A1: SELECT atd.DOMANDA_ID_MODAST , ata.NOTE, atd.ID_TIPO_RICHIEDENTE , atd.RICHIEDENTE_COGNOME , atd.RICHIEDENTE_NOME , atd.RICHIEDENTE_CODFISC ,atd.BENEFICIARIO_COGNOME , atd.BENEFICIARIO_NOME, atd.BENEFICIARIO_CODFISC, atd.RICHIEDENTE_EMAIL , atd.RICHIEDENTE_TELEFONO2 , atd.STUDENTE_COGNOME , atd.STUDENTE_NOME, atd.STUDENTE_CODFISC , atd.RICHIEDENTE_IDCOMUNERESID , atd.STUDENTE_IDCOMUNERESID , atd.ISEEVALORE , ads.ID_ORDINE_SCUOLA, atd.FLAG_STUDCERTIF104 , atd.FLAG_STUDCERTIFDSA FROM ASTUGD_T_DOM_GRAD_NA atdgn , ASTUMU_T_DOMANDA atd , ASTUMU_D_SCUOLA ads , ASTUMU_T_ANPR ata WHERE atdgn.DOMANDA_NUMPROG = atd.DOMANDA_NUMPROG AND atd.SCUOLAATTUALE_ID = ads.ID_SCUOLA AND atd.STUDENTE_CODFISC = ata.STUDENTE_CODFISC AND atd.DATA_FINE IS NULL AND atd.ID_ANNOSCOLASTICO =19 AND atdgn.ID_ANNOSCOLASTICO = 19 AND atdgn.ID_GRADUATORIA = 16 AND atdgn.note = 'Residenza studente non confermata in Anagrafe Nazionale' AND atdgn.ID_TIPO_CONTRIBUTO = 5 ORDER BY atd.ISEEVALORE

Sheet esito_ANPR_31AGO
A1: STUDENTE_CODFISC | B1: ID_ANNOSCOLASTICO | C1: DOMANDA_ID_MODAST | D1: FLAG_INTERROGAZIONE | E1: RESID_COD_ISTAT_COMUNE | F1: RESID_COD_ISTAT_REGIONE | G1: NOTE | H1: DATA_MODIFICA
A2: BCHMVC12E71A124U | B2: 19 | C2: VOUCHER.2026.4114909 | D2: S | E2: 005053 | F2: 01 | G2: tipo indirizzo = 10 | H2: 2026-08-31 12:07:32.000
A3: BCHNSR11H28F351N | B3: 19 | C3: VOUCHER.2026.7291291 | D3: S | E3: 001272 | F3: 01 | G3: tipo indirizzo = 10 | H3: 2026-08-31 12:07:33.000
A4: BCHRYN09P05F351M | B4: 19 | C4: VOUCHER.2026.2478489 | D4: S | E4: 001272 | F4: 01 | G4: tipo indirizzo = 10 | H4: 2026-08-31 12:07:33.000
A5: BBKKLD18R63H163R | B5: 19 | C5: VOUCHER.2026.4295664 | D5: S | E5: 006174 | F5: 01 | G5: tipo indirizzo = 11 | H5: 2026-08-31 12:07:33.000
A6: BBKYAA20L43M088K | B6: 19 | C6: VOUCHER.2026.3073590 | D6: S | E6: 006174 | F6: 01 | G6: tipo indirizzo = 11 | H6: 2026-08-31 12:07:33.000
A7: BBNFMZ18S64C665K | B7: 19 | C7: VOUCHER.2026.2549753 | D7: S | E7: 001265 | F7: 01 | G7: tipo indirizzo = 10 | H7: 2026-08-31 12:07:33.000
A8: BBNLAI12E23Z330T | B8: 19 | C8: VOUCHER.2026.9571910 | D8: S | E8: 001265 | F8: 01 | G8: tipo indirizzo = 10 | H8: 2026-08-31 12:07:33.000
A9: BBNYMN16R50F952C | B9: 19 | C9: VOUCHER.2026.3022148 | D9: S | E9: 003106 | F9: 01 | G9: tipo indirizzo = 10 | H9: 2026-08-31 12:07:34.000
A10: BCCLNZ15S06D969Q | B10: 19 | C10: VOUCHER.2026.8879918 | D10: S | E10: 006081 | F10: 01 | G10: tipo indirizzo = 10 | H10: 2026-08-31 12:07:34.000
A11: BGHRTJ16A41Z330G | B11: 19 | C11: VOUCHER.2026.2380896 | D11: S | E11: 006174 | F11: 01 | G11: tipo indirizzo = 11 | H11: 2026-08-31 12:07:34.000
A12: BGTJNN14P55I470I | B12: 19 | C12: VOUCHER.2026.9320951 | D12: S | E12: 004215 | F12: 01 | G12: tipo indirizzo = 11 | H12: 2026-08-31 12:07:34.000
... A92: BSSJSH12L24L219J | B92: 19 | C92: VOUCHER.2026.7387735 | D92: S | E92: 001265 | F92: 01 | G92: tipo indirizzo = 10 | H92: 2026-08-31 12:07:44.000
A93: BSSYBA12A20Z330S | B93: 19 | C93: VOUCHER.2026.6496936 | D93: S | G93: tipo indirizzo = 4 | H93: 2026-08-31 12:07:44.000
A94: BSTLXA20D14L219Y | B94: 19 | C94: VOUCHER.2026.8567273 | D94: S | E94: 001272 | F94: 01 | G94: tipo indirizzo = 10 | H94: 2026-08-31 12:07:45.000
A95: BRRCLO18P43C722P | B95: 19 | C95: VOUCHER.2026.9266400 | D95: S | E95: 001033 | F95: 01 | G95: tipo indirizzo = 11 | H95: 2026-08-31 12:07:45.000
A96: BRRGRT14P70L219H | B96: 19 | C96: VOUCHER.2026.1244956 | D96: S | E96: 001120 | F96: 01 | G96: tipo indirizzo = 11 | H96: 2026-08-31 12:07:45.000
A97: BRRLCA09L51I470H | B97: 19 | C97: VOUCHER.2026.3029557 | D97: S | E97: 004085 | F97: 01 | G97: tipo indirizzo = 11 | H97: 2026-08-31 12:07:45.000
A98: BRRLHE16E67L219D | B98: 19 | C98: VOUCHER.2026.5202125 | D98: S | E98: 001265 | F98: 01 | G98: tipo indirizzo = 10 | H98: 2026-08-31 12:07:45.000
A99: BRRRNY14M14H355U | B99: 19 | C99: VOUCHER.2026.4201301 | D99: S | E99: 001120 | F99: 01 | G99: tipo indirizzo = 11 | H99: 2026-08-31 12:07:45.000
A100: BVOMHS20B09E379O | B100: 19 | C100: VOUCHER.2026.9853951 | D100: S | E100: 001266 | F100: 01 | G100: tipo indirizzo = 10 | H100: 2026-08-31 12:07:45.000
A101: BVOMIA15S70E379X | B101: 19 | C101: VOUCHER.2026.9733263 | D101: S | E101: 001266 | F101: 01 | G101: tipo indirizzo = 10 | H101: 2026-08-31 12:07:45.000
A102: BZZDKN16C19H355B | B102: 19 | C102: VOUCHER.2026.2871249 | D102: S | E102: 001120 | F102: 01 | G102: tipo indirizzo = 11 | H102: 2026-08-31 12:07:46.000
A103: BZZDLN13D28H355B | B103: 19 | C103: VOUCHER.2026.9767376 | D103: S | E103: 001120 | F103: 01 | G103: tipo indirizzo = 11 | H103: 2026-08-31 12:07:46.000
A104: BRTCRS15A57Z318J | B104: 19 | C104: VOUCHER.2026.9732126 | D104: S | E104: 001120 | F104: 01 | G104: tipo indirizzo = 11 | H104: 2026-08-31 12:07:46.000
A105: BRTGLI08T64A479U | B105: 19 | C105: VOUCHER.2026.8227060 | D105: S | E105: 005053 | F105: 01 | G105: tipo indirizzo = 10 | H105: 2026-08-31 12:07:46.000
... A255: DMANNF12L50C722S | B255: 19 | C255: VOUCHER.2026.5907845 | D255: S | E255: 001128 | F255: 01 | G255: tipo indirizzo = 10 | H255: 2026-08-31 12:08:06.000
A256: DLMVTR08S26Z602P | B256: 19 | C256: VOUCHER.2026.7774595 | D256: S | G256: tipo indirizzo = 4 | H256: 2026-08-31 12:08:06.000
A257: DLPGRL15P28I470W | B257: 19 | C257: VOUCHER.2026.2555112 | D257: S | E257: 001156 | F257: 01 | G257: tipo indirizzo = 11 | H257: 2026-08-31 12:08:06.000
A258: DLPMGH19E53A479S | B258: 19 | C258: VOUCHER.2026.5890819 | D258: S | E258: 005005 | F258: 01 | G258: tipo indirizzo = 11 | H258: 2026-08-31 12:08:07.000
A259: DLPSLG17P03A479Z | B259: 19 | C259: VOUCHER.2026.2412777 | D259: S | E259: 005005 | F259: 01 | G259: tipo indirizzo = 11 | H259: 2026-08-31 12:08:07.000
A260: DMBMMM13R58Z313G | B260: 19 | C260: VOUCHER.2026.5187963 | D260: S | E260: 001024 | F260: 01 | G260: tipo indirizzo = 11 | H260: 2026-08-31 12:08:07.000
A261: DRNTMS16D09Z602W | B261: 19 | C261: VOUCHER.2026.6402276 | D261: S | E261: 001191 | F261: 01 | G261: tipo indirizzo = 11 | H261: 2026-08-31 12:08:07.000
A262: DLLSML07C22F952V | B262: 19 | C262: VOUCHER.2026.7103459 | D262: S | E262: 003106 | F262: 01 | G262: tipo indirizzo = 10 | H262: 2026-08-31 12:08:07.000
A263: FLXNEO20M43F335R | B263: 19 | C263: VOUCHER.2026.8319888 | D263: S | E263: 001265 | F263: 01 | G263: tipo indirizzo = 11 | H263: 2026-08-31 12:08:07.000
A264: FMGRCL15B45C751P | B264: 19 | C264: VOUCHER.2026.1420903 | D264: S | E264: 003154 | F264: 01 | G264: tipo indirizzo = 10 | H264: 2026-08-31 12:08:07.000
A265: FNABSM09D42L219M | B265: 19 | C265: VOUCHER.2026.8017018 | D265: S | E265: 001272 | F265: 01 | G265: tipo indirizzo = 11 | H265: 2026-08-31 12:08:07.000
A266: FNAMHD10R21L219D | B266: 19 | C266: VOUCHER.2026.5092501 | D266: S | E266: 001272 | F266: 01 | G266: tipo indirizzo = 11 | H266: 2026-08-31 12:08:07.000
A267: FRBGRG11C59L219Q | B267: 19 | C267: VOUCHER.2026.2200042 | D267: S | E267: 001120 | F267: 01 | G267: tipo indirizzo = 11 | H267: 2026-08-31 12:08:08.000
A268: FRCBRC18C41L219X | B268: 19 | C268: VOUCHER.2026.5115107 | D268: S | E268: 001217 | F268: 01 | G268: tipo indirizzo = 10 | H268: 2026-08-31 12:08:08.000
... A330: DPISYN15P01L219M | B330: 19 | C330: VOUCHER.2026.7735949 | D330: S | E330: 001272 | F330: 01 | G330: tipo indirizzo = 10 | H330: 2026-08-31 12:08:17.000
A331: DJSGGS18P17Z602L | B331: 19 | C331: VOUCHER.2026.4787431 | D331: S | G331: tipo indirizzo = 4 | H331: 2026-08-31 12:08:17.000
A332: FJVDDV14M02Z611B | B332: 19 | C332: VOUCHER.2026.6689100 | D332: S | E332: 096075 | F332: 01 | G332: tipo indirizzo = 11 | H332: 2026-08-31 12:08:17.000
A333: DPLLSN13H17C722W | B333: 19 | C333: VOUCHER.2026.5620009 | D333: S | E333: 001128 | F333: 01 | G333: tipo indirizzo = 10 | H333: 2026-08-31 12:08:17.000
A334: DPLMTT16M16C722H | B334: 19 | C334: VOUCHER.2026.9289840 | D334: S | E334: 001128 | F334: 01 | G334: tipo indirizzo = 10 | H334: 2026-08-31 12:08:17.000
A335: DPNMRA08D16A859J | B335: 19 | C335: VOUCHER.2026.1176243 | D335: S | E335: 096002 | F335: 01 | G335: tipo indirizzo = 10 | H335: 2026-08-31 12:08:17.000
A336: DPNVTR17R24F952A | B336: 19 | C336: VOUCHER.2026.6984872 | D336: S | E336: 002061 | F336: 01 | G336: tipo indirizzo = 10 | H336: 2026-08-31 12:08:17.000
A337: DLCNMO09D64B041C | B337: 19 | C337: VOUCHER.2026.3644551 | D337: S | E337: 002061 | F337: 01 | G337: tipo indirizzo = 10 | H337: 2026-08-31 12:08:18.000
A338: FLCFNC13M24A182X | B338: 19 | C338: VOUCHER.2026.7292646 | D338: S | E338: 006068 | F338: 01 | G338: tipo indirizzo = 11 | H338: 2026-08-31 12:08:18.000
A339: FLCRRA15D49G820P | B339: 19 | C339: VOUCHER.2026.4466514 | D339: S | E339: 004025 | F339: 01 | G339: tipo indirizzo = 10 | H339: 2026-08-31 12:08:18.000
A340: FLCSNJ17S57L219Z | B340: 19 | C340: VOUCHER.2026.8268833 | D340: S | E340: 001120 | F340: 01 | G340: tipo indirizzo = 11 | H340: 2026-08-31 12:08:18.000
A341: DDTNLS12H13H355O | B341: 19 | C341: VOUCHER.2026.8898608 | D341: S | E341: 001120 | F341: 01 | G341: tipo indirizzo = 11 | H341: 2026-08-31 12:08:18.000
A342: DEIVTR18B47G820J | B342: 19 | C342: VOUCHER.2026.7377770 | D342: S | E342: 096047 | F342: 01 | G342: tipo indirizzo = 11 | H342: 2026-08-31 12:08:18.000
A343: DFEHJR10A55C665R | B343: 19 | C343: VOUCHER.2026.7061388 | D343: S | E343: 001120 | F343: 01 | G343: tipo indirizzo = 1 | H343: 2026-08-31 12:08:18.000
... A419: CRPNLS10C05B019Y | B419: 19 | C419: VOUCHER.2026.8861004 | D419: S | E419: 002061 | F419: 01 | G419: tipo indirizzo = 10 | H419: 2026-08-31 12:08:28.000
A420: CVLLNZ09H14L219F | B420: 19 | C420: VOUCHER.2026.1014403 | D420: S | G420: tipo indirizzo = 4 | H420: 2026-08-31 12:08:28.000
A421: CVLSFN08T02G674J | B421: 19 | C421: VOUCHER.2026.9008844 | D421: S | E421: 001120 | F421: 01 | G421: tipo indirizzo = 11 | H421: 2026-08-31 12:08:28.000
A422: CLNRNI08C59L219D | B422: 19 | C422: VOUCHER.2026.8361106 | D422: S | E422: 001047 | F422: 01 | G422: tipo indirizzo = 10 | H422: 2026-08-31 12:08:28.000
A423: CLNTMS11E03L219Q | B423: 19 | C423: VOUCHER.2026.7974344 | D423: S | E423: 001047 | F423: 01 | G423: tipo indirizzo = 10 | H423: 2026-08-31 12:08:28.000
A424: CNCLSS12R22F335F | B424: 19 | C424: VOUCHER.2026.5295383 | D424: S | E424: 001265 | F424: 01 | G424: tipo indirizzo = 10 | H424: 2026-08-31 12:08:29.000
A425: CLZYKN12T16Z611V | B425: 19 | C425: VOUCHER.2026.8934033 | D425: S | E425: 003106 | F425: 01 | G425: tipo indirizzo = 10 | H425: 2026-08-31 12:08:29.000
A426: CMBGRT20L61L219Z | B426: 19 | C426: VOUCHER.2026.6735854 | D426: S | E426: 001120 | F426: 01 | G426: tipo indirizzo = 11 | H426: 2026-08-31 12:08:29.000
A427: CMBLSN18M15L219B | B427: 19 | C427: VOUCHER.2026.8742781 | D427: S | E427: 001120 | F427: 01 | G427: tipo indirizzo = 11 | H427: 2026-08-31 12:08:29.000
A428: CMMMNL10M04L219N | B428: 19 | C428: VOUCHER.2026.8052920 | D428: S | E428: 001272 | F428: 01 | G428: tipo indirizzo = 10 | H428: 2026-08-31 12:08:29.000
A429: CMNLNZ15S05F351K | B429: 19 | C429: VOUCHER.2026.4954745 | D429: S | E429: 004210 | F429: 01 | G429: tipo indirizzo = 10 | H429: 2026-08-31 12:08:29.000
A430: CNFLFL20H29L219T | B430: 19 | C430: VOUCHER.2026.1114197 | D430: S | E430: 001272 | F430: 01 | G430: tipo indirizzo = 11 | H430: 2026-08-31 12:08:29.000
A431: CNGCST17H60L219F | B431: 19 | C431: VOUCHER.2026.7932851 | D431: S | E431: 001265 | F431: 01 | G431: tipo indirizzo = 10 | H431: 2026-08-31 12:08:29.000
A432: CNGMBR19R55L219F | B432: 19 | C432: VOUCHER.2026.1179302 | D432: S | E432: 001272 | F432: 01 | G432: tipo indirizzo = 10 | H432: 2026-08-31 12:08:30.000
... A686: GDNGVR19E52L219H | B686: 19 | C686: VOUCHER.2026.2212459 | D686: S | E686: 001260 | F686: 01 | G686: tipo indirizzo = 11 | H686: 2026-08-31 12:09:05.000
A687: GDTDVA14E29Z602W | B687: 19 | C687: VOUCHER.2026.7991377 | D687: S | G687: tipo indirizzo = 4 | H687: 2026-08-31 12:09:05.000
A688: GDTGHR19C05Z602O | B688: 19 | C688: VOUCHER.2026.7287895 | D688: S | G688: tipo indirizzo = 4 | H688: 2026-08-31 12:09:06.000
A689: DLZMTS13P56A859A | B689: 19 | C689: VOUCHER.2026.4626915 | D689: S | E689: 001125 | F689: 01 | G689: tipo indirizzo = 11 | H689: 2026-08-31 12:09:06.000
A690: DSNSFO13S51C722G | B690: 19 | C690: VOUCHER.2026.4351666 | D690: S | E690: 001128 | F690: 01 | G690: tipo indirizzo = 10 | H690: 2026-08-31 12:09:06.000
A691: FRCSFN09S57C665D | B691: 19 | C691: VOUCHER.2026.2959122 | D691: S | E691: 001082 | F691: 01 | G691: tipo indirizzo = 11 | H691: 2026-08-31 12:09:06.000
A692: FRCVEA11A42E379L | B692: 19 | C692: VOUCHER.2026.1619690 | D692: S | E692: 001210 | F692: 01 | G692: tipo indirizzo = 11 | H692: 2026-08-31 12:09:06.000
A693: DTMDNL10A30C665P | B693: 19 | C693: VOUCHER.2026.9702758 | D693: S | E693: 001265 | F693: 01 | G693: tipo indirizzo = 10 | H693: 2026-08-31 12:09:06.000
A694: DTMMHL14R68C665B | B694: 19 | C694: VOUCHER.2026.1548144 | D694: S | E694: 001265 | F694: 01 | G694: tipo indirizzo = 10 | H694: 2026-08-31 12:09:06.000
A695: DTTBTL10D54Z343A | B695: 19 | C695: VOUCHER.2026.5267127 | D695: S | E695: 004056 | F695: 01 | G695: tipo indirizzo = 10 | H695: 2026-08-31 12:09:06.000
A696: HMDBDR15R01G820Y | B696: 19 | C696: VOUCHER.2026.1169662 | D696: S | E696: 096020 | F696: 01 | G696: tipo indirizzo = 11 | H696: 2026-08-31 12:09:07.000
A697: HMDDWD14C01Z236R | B697: 19 | C697: VOUCHER.2026.9759483 | D697: S | E697: 004082 | F697: 01 | G697: tipo indirizzo = 11 | H697: 2026-08-31 12:09:07.000
A698: DPILDJ17R04L219A | B698: 19 | C698: VOUCHER.2026.7009064 | D698: S | E698: 001272 | F698: 01 | G698: tipo indirizzo = 10 | H698: 2026-08-31 12:09:07.000
A699: FJVVLR17E47Z611W | B699: 19 | C699: VOUCHER.2026.3810533 | D699: S | E699: 096075 | F699: 01 | G699: tipo indirizzo = 11 | H699: 2026-08-31 12:09:07.000
A700: FKDDRD08D18Z602V | B700: 19 | C700: VOUCHER.2026.7768684 | D700: S | E700: 001120 | F700: 01 | G700: tipo indirizzo = 11 | H700: 2026-08-31 12:09:07.000
... A907: LFTRNP12C21C665Q | B907: 19 | C907: VOUCHER.2026.6214921 | D907: S | E907: 001047 | F907: 01 | G907: tipo indirizzo = 10 | H907: 2026-08-31 12:09:38.000
A908: LFTYDI14A09B885Z | B908: 19 | C908: VOUCHER.2026.8779287 | D908: S | G908: tipo indirizzo = 4 | H908: 2026-08-31 12:09:39.000
A909: LMNLRA17L59C665Y | B909: 19 | C909: VOUCHER.2026.9015932 | D909: S | E909: 001047 | F909: 01 | G909: tipo indirizzo = 10 | H909: 2026-08-31 12:09:39.000
A910: LOXDSC15B55I470E | B910: 19 | C910: VOUCHER.2026.8880172 | D910: S | E910: 001191 | F910: 01 | G910: tipo indirizzo = 11 | H910: 2026-08-31 12:09:39.000
A911: LOXFLL10M10Z343W | B911: 19 | C911: VOUCHER.2026.6745110 | D911: S | E911: 001191 | F911: 01 | G911: tipo indirizzo = 11 | H911: 2026-08-31 12:09:39.000
A912: LOXKDM20D02L219X | B912: 19 | C912: VOUCHER.2026.5017020 | D912: S | E912: 001191 | F912: 01 | G912: tipo indirizzo = 11 | H912: 2026-08-31 12:09:39.000
A913: LPIMNL10B22C722K | B913: 19 | C913: VOUCHER.2026.4125438 | D913: S | E913: 001265 | F913: 01 | G913: tipo indirizzo = 10 | H913: 2026-08-31 12:09:39.000
A914: LKBJDA16T23A182U | B914: 19 | C914: VOUCHER.2026.7039179 | D914: S | E914: 006174 | F914: 01 | G914: tipo indirizzo = 11 | H914: 2026-08-31 12:09:39.000
A915: LBLWMI15R67Z330Z | B915: 19 | C915: VOUCHER.2026.7992957 | D915: S | E915: 001139 | F915: 01 | G915: tipo indirizzo = 11 | H915: 2026-08-31 12:09:40.000
A916: LKHSRI19H47B019G | B916: 19 | C916: VOUCHER.2026.1330988 | D916: S | E916: 002061 | F916: 01 | G916: tipo indirizzo = 10 | H916: 2026-08-31 12:09:40.000
A917: LKHWDA10E01Z330B | B917: 19 | C917: VOUCHER.2026.5703360 | D917: S | E917: 004215 | F917: 01 | G917: tipo indirizzo = 11 | H917: 2026-08-31 12:09:40.000
A918: KSNYHR14C19Z138U | B918: 19 | C918: VOUCHER.2026.8517489 | D918: S | E918: 002156 | F918: 01 | G918: tipo indirizzo = 11 | H918: 2026-08-31 12:09:40.000
A919: LGHWLA13D65B019C | B919: 19 | C919: VOUCHER.2026.4999404 | D919: S | E919: 003154 | F919: 01 | G919: tipo indirizzo = 10 | H919: 2026-08-31 12:09:40.000
A920: LPRMRM15A43G273X | B920: 19 | C920: VOUCHER.2026.9559687 | D920: S | E920: 001120 | F920: 01 | G920: tipo indirizzo = 11 | H920: 2026-08-31 12:09:40.000
... A1061: LFTDMA18M03C665J | B1061: 19 | C1061: VOUCHER.2026.9878984 | D1061: S | E1061: 001047 | F1061: 01 | G1061: tipo indirizzo = 10 | H1061: 2026-08-31 12:09:59.000
A1062: LFTJNT20B69B885O | B1062: 19 | C1062: VOUCHER.2026.9649459 | D1062: S | G1062: tipo indirizzo = 4 | H1062: 2026-08-31 12:09:59.000
A1063: LMMRYN15E15Z330W | B1063: 19 | C1063: VOUCHER.2026.9963385 | D1063: S | E1063: 001265 | F1063: 01 | G1063: tipo indirizzo = 10 | H1063: 2026-08-31 12:09:59.000
...

Sheet Foglio2
A1: ID_DOMANDA | B1: DOMANDA_ID_MODAST | C1: IMPORTO_CONTRIBUTO | D1: ID_TIPO_CONTRIBUTO | E1: ID_STATO_CONTRIBUTO
A2: 1520245 | B2: VOUCHER.2026.8812883 | C2: 100 | D2: 6 | E2: 4
A3: 1520252 | B3: VOUCHER.2026.4866255 | C3: 300 | D3: 6 | E3: 4
A4: 1534765 | B4: VOUCHER.2026.2478489 | C4: 500 | D4: 6 | E4: 4
A5: 1534816 | B5: VOUCHER.2026.1498882 | C5: 300 | D5: 6 | E5: 4
A6: 1534962 | B6: VOUCHER.2026.5863018 | C6: 1000 | D6: 5 | E6: 4
A7: 1535018 | B7: VOUCHER.2026.6434684 | C7: 300 | D7: 6 | E7: 4
A8: 1540859 | B8: VOUCHER.2026.2550258 | C8: 300 | D8: 6 | E8: 4
A9: 1540914 | B9: VOUCHER.2026.3490052 | C9: 200 | D9: 6 | E9: 4
A10: 1540915 | B10: VOUCHER.2026.8796050 | C10: 100 | D10: 6 | E10: 4
A11: 1541010 | B11: VOUCHER.2026.2393542 | C11: 300 | D11: 6 | E11: 4
A12: 1541019 | B12: VOUCHER.2026.6207890 | C12: 300 | D12: 6 | E12: 4
... A204: 1533505 | B204: VOUCHER.2026.6185980 | C204: 150 | D204: 6 | E204: 4
A205: 1537057 | B205: VOUCHER.2026.1108148 | D205: 6 | E205: 4
A206: 1537087 | B206: VOUCHER.2026.3120214 | C206: 50 | D206: 6 | E206: 4
A207: 1537101 | B207: VOUCHER.2026.5613571 | C207: 100 | D207: 6 | E207: 4
A208: 1537131 | B208: VOUCHER.2026.2048374 | C208: 300 | D208: 6 | E208: 4
A209: 1537139 | B209: VOUCHER.2026.8074573 | C209: 300 | D209: 6 | E209: 4
A210: 1537165 | B210: VOUCHER.2026.7738192 | C210: 100 | D210: 6 | E210: 4
A211: 1537185 | B211: VOUCHER.2026.1645412 | C211: 150 | D211: 6 | E211: 4
A212: 1537205 | B212: VOUCHER.2026.2368298 | C212: 200 | D212: 6 | E212: 4
A213: 1537241 | B213: VOUCHER.2026.4283751 | C213: 50 | D213: 6 | E213: 4
A214: 1537286 | B214: VOUCHER.2026.3348914 | C214: 100 | D214: 6 | E214: 4
A215: 1537299 | B215: VOUCHER.2026.6268780 | C215: 200 | D215: 6 | E215: 4
A216: 1537344 | B216: VOUCHER.2026.4619061 | C216: 450 | D216: 6 | E216: 4
A217: 1537354 | B217: VOUCHER.2026.4498067 | C217: 100 | D217: 6 | E217: 4
... A234: 1516765 | B234: VOUCHER.2026.4012914 | C234: 200 | D234: 6 | E234: 4
A235: 1516783 | B235: VOUCHER.2026.2301327 | D235: 6 | E235: 4
A236: 1516791 | B236: VOUCHER.2026.1123007 | C236: 450 | D236: 6 | E236: 4
A237: 1516825 | B237: VOUCHER.2026.7566836 | C237: 200 | D237: 6 | E237: 4
A238: 1516830 | B238: VOUCHER.2026.3153625 | C238: 100 | D238: 6 | E238: 4
A239: 1537494 | B239: VOUCHER.2026.6538887 | C239: 150 | D239: 6 | E239: 4
A240: 1537530 | B240: VOUCHER.2026.9943314 | C240: 100 | D240: 6 | E240: 4
A241: 1537550 | B241: VOUCHER.2026.7802319 | C241: 300 | D241: 6 | E241: 4
A242: 1537562 | B242: VOUCHER.2026.2554313 | C242: 300 | D242: 6 | E242: 4
A243: 1537641 | B243: VOUCHER.2026.3239474 | C243: 1400 | D243: 5 | E243: 4
A244: 1537690 | B244: VOUCHER.2026.8643284 | C244: 150 | D244: 6 | E244: 4
A245: 1537740 | B245: VOUCHER.2026.4959299 | C245: 150 | D245: 6 | E245: 4
A246: 1511259 | B246: VOUCHER.2026.8393372 | C246: 50 | D246: 6 | E246: 4
A247: 1511362 | B247: VOUCHER.2026.7108115 | C247: 50 | D247: 6 | E247: 4
... A411: 1533736 | B411: VOUCHER.2026.8832163 | C411: 300 | D411: 6 | E411: 4
A412: 1533754 | B412: VOUCHER.2026.8121846 | D412: 6 | E412: 4
A413: 1533757 | B413: VOUCHER.2026.5369118 | C413: 100 | D413: 6 | E413: 4
A414: 1533790 | B414: VOUCHER.2026.6564588 | C414: 200 | D414: 6 | E414: 4
A415: 1533844 | B415: VOUCHER.2026.1905616 | C415: 200 | D415: 6 | E415: 4
A416: 1533854 | B416: VOUCHER.2026.7078760 | C416: 200 | D416: 6 | E416: 4
A417: 1533885 | B417: VOUCHER.2026.4896607 | C417: 300 | D417: 6 | E417: 4
A418: 1533889 | B418: VOUCHER.2026.2653261 | C418: 300 | D418: 6 | E418: 4
A419: 1533916 | B419: VOUCHER.2026.8466761 | C419: 200 | D419: 6 | E419: 4
A420: 1533926 | B420: VOUCHER.2026.8373248 | C420: 100 | D420: 6 | E420: 4
A421: 1533948 | B421: VOUCHER.2026.9262353 | C421: 100 | D421: 6 | E421: 4
A422: 1539772 | B422: VOUCHER.2026.2346769 | C422: 300 | D422: 6 | E422: 4
A423: 1539806 | B423: VOUCHER.2026.1748221 | C423: 200 | D423: 6 | E423: 4
A424: 1539862 | B424: VOUCHER.2026.2952075 | C424: 150 | D424: 6 | E424: 4
... A454: 1534216 | B454: VOUCHER.2026.3322473 | C454: 50 | D454: 6 | E454: 4
A455: 1534228 | B455: VOUCHER.2026.3862642 | D455: 6 | E455: 4
A456: 1534238 | B456: VOUCHER.2026.7405339 | C456: 300 | D456: 6 | E456: 4
A457: 1534266 | B457: VOUCHER.2026.3989171 | C457: 200 | D457: 6 | E457: 4
A458: 1534268 | B458: VOUCHER.2026.6709405 | C458: 300 | D458: 6 | E458: 4
A459: 1534319 | B459: VOUCHER.2026.3204427 | C459: 100 | D459: 6 | E459: 4
A460: 1540109 | B460: VOUCHER.2026.1804322 | C460: 100 | D460: 6 | E460: 4
A461: 1540245 | B461: VOUCHER.2026.8268142 | C461: 500 | D461: 6 | E461: 4
A462: 1540260 | B462: VOUCHER.2026.7797348 | C462: 200 | D462: 6 | E462: 4
A463: 1540295 | B463: VOUCHER.2026.8225202 | C463: 100 | D463: 6 | E463: 4
A464: 1540352 | B464: VOUCHER.2026.5486550 | C464: 300 | D464: 6 | E464: 4
A465: 1540373 | B465: VOUCHER.2026.6966916 | C465: 150 | D465: 6 | E465: 4
A466: 1540383 | B466: VOUCHER.2026.5340739 | C466: 100 | D466: 6 | E466: 4
A467: 1540404 | B467: VOUCHER.2026.6945526 | C467: 200 | D467: 6 | E467: 4
... A1260: 1577908 | B1260: VOUCHER.2026.3286362 | C1260: 300 | D1260: 6 | E1260: 4
A1261: 1577984 | B1261: VOUCHER.2026.5361201 | D1261: 6 | E1261: 4
A1262: 1578002 | B1262: VOUCHER.2026.5872322 | C1262: 1200 | D1262: 5 | E1262: 4
A1263: 1578018 | B1263: VOUCHER.2026.2361890 | C1263: 300 | D1263: 6 | E1263: 4
A1264: 1578033 | B1264: VOUCHER.2026.7742604 | C1264: 200 | D1264: 6 | E1264: 4
A1265: 1581634 | B1265: VOUCHER.2026.5519446 | C1265: 950 | D1265: 5 | E1265: 4
A1266: 1581667 | B1266: VOUCHER.2026.8236778 | C1266: 100 | D1266: 6 | E1266: 4
A1267: 1581715 | B1267: VOUCHER.2026.7082478 | C1267: 1400 | D1267: 5 | E1267: 4
A1268: 1581720 | B1268: VOUCHER.2026.3919427 | C1268: 200 | D1268: 6 | E1268: 4
A1269: 1581755 | B1269: VOUCHER.2026.2830356 | C1269: 1200 | D1269: 5 | E1269: 4
A1270: 1581757 | B1270: VOUCHER.2026.1755979 | C1270: 100 | D1270: 6 | E1270: 4
A1271: 1581813 | B1271: VOUCHER.2026.8861004 | C1271: 450 | D1271: 6 | E1271: 4
A1272: 1581930 | B1272: VOUCHER.2026.4031539 | C1272: 200 | D1272: 6 | E1272: 4
A1273: 1581950 | B1273: VOUCHER.2026.9308785 | C1273: 300 | D1273: 6 | E1273: 4
... A1596: 1594699 | B1596: VOUCHER.2026.4080861 | C1596: 150 | D1596: 6 | E1596: 4
A1597: 1594735 | B1597: VOUCHER.2026.2752148 | D1597: 6 | E1597: 4
A1598: 1594788 | B1598: VOUCHER.2026.2163571 | C1598: 200 | D1598: 6 | E1598: 4
A1599: 1594824 | B1599: VOUCHER.2026.3024314 | C1599: 100 | D1599: 6 | E1599: 4
A1600: 1594842 | B1600: VOUCHER.2026.6291889 | C1600: 100 | D1600: 6 | E1600: 4
A1601: 1594863 | B1601: VOUCHER.2026.9372273 | C1601: 150 | D1601: 6 | E1601: 4
A1602: 1601018 | B1602: VOUCHER.2026.4822643 | C1602: 750 | D1602: 6 | E1602: 4
A1603: 1601144 | B1603: VOUCHER.2026.6678398 | C1603: 200 | D1603: 6 | E1603: 4
A1604: 1601152 | B1604: VOUCHER.2026.9756967 | C1604: 200 | D1604: 6 | E1604: 4
A1605: 1601194 | B1605: VOUCHER.2026.4662707 | C1605: 50 | D1605: 6 | E1605: 4
A1606: 1601202 | B1606: VOUCHER.2026.1200501 | C1606: 50 | D1606: 6 | E1606: 4
A1607: 1601211 | B1607: VOUCHER.2026.5345538 | C1607: 200 | D1607: 6 | E1607: 4
A1608: 1589918 | B1608: VOUCHER.2026.9633291 | C1608: 100 | D1608: 6 | E1608: 4
A1609: 1589955 | B1609: VOUCHER.2026.8576071 | C1609: 200 | D1609: 6 | E1609: 4
... A2260: 1605805 | B2260: VOUCHER.2026.7539031 | C2260: 150 | D2260: 6 | E2260: 4

Sheet Foglio3
B1: contributo_calcolato | C1: DOMANDA_ID_MODAST | D1: SCUOLAATTUALE_ID | E1: ID_ORDINE_SCUOLA | F1: ID_TIPO_SCUOLA | G1: ISEEVALORE | H1: FLAG_STUDCERTIF104
A2: VOUCHER.2026.1108148 | B2: 500 | C2: VOUCHER.2026.1108148 | D2: 54690 | E2: 3 | F2: 1 | G2: 2260 | H2: N
A3: VOUCHER.2026.2301327 | B3: 300 | C3: VOUCHER.2026.2301327 | D3: 55640 | E3: 3 | F3: 1 | G3: 8967.48 | H3: N
A4: VOUCHER.2026.2752148 | B4: 300 | C4: VOUCHER.2026.2752148 | D4: 54698 | E4: 3 | F4: 1 | G4: 7074.81 | H4: N
A5: VOUCHER.2026.3862642 | B5: 150 | C5: VOUCHER.2026.3862642 | D5: 55778 | E5: 1 | F5: 1 | G5: 889.71 | H5: N
A6: VOUCHER.2026.5361201 | B6: 100 | C6: VOUCHER.2026.5361201 | D6: 54581 | E6: 1 | F6: 1 | G6: 5653.86 | H6: N
A7: VOUCHER.2026.8121846 | B7: 200 | C7: VOUCHER.2026.8121846 | D7: 55800 | E7: 2 | F7: 1 | G7: 7976.42 | H7: N
