Workbook

Sheet Voucher_A
V1: =SUM(V3:V98) -> 114675 | W1: =SUM(W3:W98) -> 3915
A2: DOMANDA_ID_MODAST | B2: NOTE | C2: ESITO_31ago2026 | D2: ID_TIPO_RICHIEDENTE | E2: RICHIEDENTE_COGNOME | F2: RICHIEDENTE_NOME | G2: RICHIEDENTE_CODFISC | H2: BENEFICIARIO_COGNOME | I2: BENEFICIARIO_NOME | J2: BENEFICIARIO_CODFISC | K2: RICHIEDENTE_EMAIL | L2: RICHIEDENTE_TELEFONO2 | M2: STUDENTE_COGNOME | N2: STUDENTE_NOME | O2: STUDENTE_CODFISC | P2: RICHIEDENTE_IDCOMUNERESID | Q2: STUDENTE_IDCOMUNERESID | R2: ISEEVALORE | S2: ORDINE_SCUOLA | T2: FLAG_STUDCERTIF104 | U2: FLAG_STUDCERTIFDSA | V2: IMP_CONTRIB_SPETT | W2: EVENTUALE MAGGIORAZIONE DEL 30% PER DSA
A3: VOUCHER.2026.8143643 | B3: tipo indirizzo != 1 | C3: =VLOOKUP(A3,esito_ANPR_31AGO!C:G,5,FALSE()) -> tipo indirizzo = 11 | D3: 1 | E3: MURASHKINA | F3: OKSANA | G3: MRSKSN84P68Z138Y | H3: MURASHKINA | I3: OKSANA | J3: MRSKSN84P68Z138Y | K3: muroks777@icloud.com | L3: 00393478056728 | M3: MURASHKINA | N3: MARIIA | O3: MRSMRA15A59Z138Q | P3: 909 | Q3: 909 | R3: 0 | S3: 1 | T3: N | U3: N | V3: 1400
A4: VOUCHER.2026.6448578 | B4: EN122 Soggetto non registrato in ANPR | C4: =VLOOKUP(A4,esito_ANPR_31AGO!C:G,5,FALSE()) -> #N/A | D4: 1 | E4: VILLEGAS ARONE | F4: STEFHANIE ZAIDA | G4: VLLSFH90S44Z611U | H4: VILLEGAS ARONE | I4: STEFHANIE ZAIDA | J4: VLLSFH90S44Z611U | K4: stefhaniezaida@gmail.com | L4: 00393928149472 | M4: MAQUIRHUA VILLEGAS | N4: MARCIA VALENTINA | O4: MQRMCV11C50Z611D | P4: 604 | Q4: 604 | R4: 0 | S4: 3 | T4: N | U4: S | V4: 2150 | W4: =V4*30% -> 645
A5: VOUCHER.2026.5135466 | B5: tipo indirizzo != 1 | C5: =VLOOKUP(A5,esito_ANPR_31AGO!C:G,5,FALSE()) -> tipo indirizzo = 11 | D5: 1 | E5: DONG | F5: JUNMEI | G5: DNGJNM84H61Z210Y | H5: DONG | I5: JUNMEI | J5: DNGJNM84H61Z210Y | K5: pan.lina2014@gmail.com | L5: 00393335612710 | M5: PAN | N5: YIRU | O5: PNAYRI14S45L219Y | P5: 458 | Q5: 458 | R5: 3904.8 | S5: 2 | T5: N | U5: N | V5: 1650
A6: VOUCHER.2026.6107114 | B6: tipo indirizzo != 1 | C6: =VLOOKUP(A6,esito_ANPR_31AGO!C:G,5,FALSE()) -> tipo indirizzo = 10 | D6: 1 | E6: GAGO OROYA | F6: YENI HERLINDA | G6: GGRYHR77P67Z611W | H6: GAGO OROYA | I6: YENI HERLINDA | J6: GGRYHR77P67Z611W | K6: yenigago27@gmail.com | L6: 00393519075737 | M6: DABRAIM GAGO | N6: YASSMINE | O6: DBRYSM15B46F952U | P6: 1462 | Q6: 1462 | R6: 4664.41 | S6: 2 | T6: N | U6: N | V6: 1650
A7: VOUCHER.2026.8556329 | B7: tipo indirizzo != 1 | C7: =VLOOKUP(A7,esito_ANPR_31AGO!C:G,5,FALSE()) -> tipo indirizzo = 11 | D7: 1 | E7: FOGLIANO | F7: SARA | G7: FGLSRA88T53L219K | H7: FOGLIANO | I7: SARA | J7: FGLSRA88T53L219K | K7: sara.fogliano23@gmail.com | L7: 00393780647324 | M7: RUSSO | N7: EMILY JOY | O7: RSSMYJ20R71Z700Q | P7: 450 | Q7: 450 | R7: 4775.87 | S7: 1 | T7: N | U7: N | V7: 1400
A8: VOUCHER.2026.3239474 | B8: tipo indirizzo != 1 | C8: =VLOOKUP(A8,esito_ANPR_31AGO!C:G,5,FALSE()) -> tipo indirizzo = 11 | D8: 1 | E8: SCALISE | F8: FRANCESCA | G8: SCLFNC93R61L219R | H8: SCALISE | I8: FRANCESCA | J8: SCLFNC93R61L219R | K8: francyscalise_2005@libero.it | L8: 393461812738 | M8: REKKA | N8: MATTIA | O8: RKKMTT20H27L219O | P8: 330 | Q8: 330 | R8: 5857.32 | S8: 1 | T8: N | U8: N | V8: 1400
A9: VOUCHER.2026.7833278 | B9: tipo indirizzo != 1 | C9: =VLOOKUP(A9,esito_ANPR_31AGO!C:G,5,FALSE()) -> tipo indirizzo = 10 | D9: 1 | E9: DISTILO | F9: FRANCESCO | G9: DSTFNC73T15C627U | H9: DISTILO | I9: FRANCESCO | J9: DSTFNC73T15C627U | K9: fdsevo@gmail.com | L9: 00393334326930 | M9: DISTILLO | N9: VITTORIO | O9: DSTVTR14T12C627V | P9: 595 | Q9: 595 | R9: 6500.23 | S9: 2 | T9: N | U9: N | V9: 1650
A10: VOUCHER.2026.2529873 | B10: tipo indirizzo != 1 | C10: =VLOOKUP(A10,esito_ANPR_31AGO!C:G,5,FALSE()) -> tipo indirizzo = 11 | D10: 1 | E10: MISURACA | F10: MARIA LUISA | G10: MSRMLS94H50L219I | H10: MISURACA | I10: MARIA LUISA | J10: MSRMLS94H50L219I | K10: marialuisamisuraca@icloud.com | L10: 00393513456876 | M10: UNGOLO MISURACA | N10: LUDOVICA | O10: NGLLVC18P43L219J | P10: 450 | Q10: 450 | R10: 7905.76 | S10: 1 | T10: N | U10: N | V10: 1400
A11: VOUCHER.2026.3798768 | B11: tipo indirizzo != 1 | C11: =VLOOKUP(A11,esito_ANPR_31AGO!C:G,5,FALSE()) -> tipo indirizzo = 11 | D11: 1 | E11: HOROBET | F11: PETRONELA | G11: HRBPRN81H66Z129U | H11: HOROBET | I11: PETRONELA | J11: HRBPRN81H66Z129U | K11: petronelahorobet@gmail.com | L11: 00393285539476 | M11: CIRIGLIANO | N11: AUGUSTA | O11: CRGGST15S58A717U | P11: 909 | Q11: 909 | R11: 8579.56 | S11: 2 | T11: N | U11: N | V11: 1650
A12: VOUCHER.2026.5932094 | B12: tipo indirizzo != 1 | C12: =VLOOKUP(A12,esito_ANPR_31AGO!C:G,5,FALSE()) -> tipo indirizzo = 11 | D12: 1 | E12: NZEYANG NGOMSI | F12: THIERRY | G12: NZYTRR80L27Z306U | H12: NZEYANG NGOMSI | I12: THIERRY | J12: NZYTRR80L27Z306U | K12: thierryroland_80@yahoo.fr | L12: 00393280270062 | M12: NOUNDA NGOMSI MATESSA | N12: LYSA MOUNIRA | O12: NNDLSM09L60Z306N | P12: 330 | Q12: 330 | R12: 9451.71 | S12: 3 | T12: N | U12: N | V12: 2150
A13: VOUCHER.2026.3469335 | B13: tipo indirizzo != 1 | C13: =VLOOKUP(A13,esito_ANPR_31AGO!C:G,5,FALSE()) -> tipo indirizzo = 11 | D13: 1 | E13: NZEYANG NGOMSI | F13: THIERRY | G13: NZYTRR80L27Z306U | H13: NZEYANG NGOMSI | I13: THIERRY | J13: NZYTRR80L27Z306U | K13: thierryroland_80@yahoo.fr | L13: 00393280270062 | M13: NGOMSI | N13: EMMANUEL | O13: NGMMNL15H04Z306J | P13: 330 | Q13: 330 | R13: 9451.71 | S13: 2 | T13: N | U13: N | V13: 1650
A14: VOUCHER.2026.6609822 | B14: tipo indirizzo != 1 | C14: =VLOOKUP(A14,esito_ANPR_31AGO!C:G,5,FALSE()) -> tipo indirizzo = 11 | D14: 1 | E14: DOCI | F14: KRISTIANA | G14: DCOKST92T42Z100D | H14: DOCI | I14: KRISTIANA | J14: DCOKST92T42Z100D | K14: docikristiana@gmail.com | L14: 00393715422747 | M14: AITA | N14: DENISE | O14: TAIDNS20E60C751P | P14: 1470 | Q14: 1470 | R14: 9514.16 | S14: 1 | T14: N | U14: N | V14: 1400
A15: VOUCHER.2026.4387613 | B15: EN122 Soggetto non registrato in ANPR | C15: =VLOOKUP(A15,esito_ANPR_31AGO!C:G,5,FALSE()) -> #N/A | D15: 1 | E15: CHAKIDER | F15: SHAFIQUE | G15: CHKSFQ83S24Z249F | H15: CHAKIDER | I15: SHAFIQUE | J15: CHKSFQ83S24Z249F | K15: banvlachabi@gmail.com | L15: 00393272151372 | M15: MAYAN | N15: CHAKIDER | O15: MYNCKD20R28Z249C | P15: 330 | Q15: 330 | R15: 9652.23 | S15: 1 | T15: N | U15: N | V15: 1400
A16: VOUCHER.2026.7082478 | B16: tipo indirizzo != 1 | C16: =VLOOKUP(A16,esito_ANPR_31AGO!C:G,5,FALSE()) -> tipo indirizzo = 10 | D16: 1 | E16: TERRAGNO | F16: MARIANGELA | G16: TRRMNG83A50G317H | H16: TERRAGNO | I16: MARIANGELA | J16: TRRMNG83A50G317H | K16: matteoritalidia@gmail.com | L16: 00393493234594 | M16: SICILIANO | N16: LIDIA | O16: SCLLDI16A57H355B | P16: 600 | Q16: 600 | R16: 9750.59 | S16: 1 | T16: N | U16: N | V16: 1400
A17: VOUCHER.2026.9938769 | B17: tipo indirizzo != 1 | C17: =VLOOKUP(A17,esito_ANPR_31AGO!C:G,5,FALSE()) -> tipo indirizzo = 10 | D17: 1 | E17: PERDICHIZZI | F17: ROSARIA | G17: PRDRSR76T51G273K | H17: PERDICHIZZI | I17: ROSARIA | J17: PRDRSR76T51G273K | K17: rosinovara20@gmail.com | L17: 00393203153420 | M17: MORANA | N17: SARA | O17: MRNSRA11S43F952L | P17: 1462 | Q17: 1462 | R17: 9775.37 | S17: 3 | T17: N | U17: S | V17: 2150 | W17: =V17*30% -> 645
A18: VOUCHER.2026.2721178 | B18: tipo indirizzo != 1 | C18: =VLOOKUP(A18,esito_ANPR_31AGO!C:G,5,FALSE()) -> tipo indirizzo = 10 | D18: 1 | E18: ERRAMI | F18: ABDELLAH | G18: RRMBLL74D22Z330A | H18: ERRAMI | I18: ABDELLAH | J18: RRMBLL74D22Z330A | K18: abdellaherrami74@gmail.com | L18: 00393895933524 | M18: ERRAMI | N18: LOUKMAN | O18: RRMLMN12H26Z110S | P18: 377 | Q18: 377 | R18: 9891.04 | S18: 3 | T18: N | U18: N | V18: 2150
A19: VOUCHER.2026.6817075 | B19: tipo indirizzo != 1 | C19: =VLOOKUP(A19,esito_ANPR_31AGO!C:G,5,FALSE()) -> tipo indirizzo = 10 | D19: 1 | E19: VACA PURTSCHERT | F19: ANA CRISTINA | G19: VCPNRS89T44Z605G | H19: VACA PURTSCHERT | I19: ANA CRISTINA | J19: VCPNRS89T44Z605G | K19: anacrisvp4@gmail.com | L19: 00393383674471 | M19: BOLZONI | N19: GIULIA VICTORIA | O19: BLZGVC14S66Z605M | P19: 1462 | Q19: 1462 | R19: 10464.47 | S19: 2 | T19: N | U19: N | V19: 1200
A20: VOUCHER.2026.1009800 | B20: EN122 Soggetto non registrato in ANPR | C20: =VLOOKUP(A20,esito_ANPR_31AGO!C:G,5,FALSE()) -> #N/A | D20: 1 | E20: PANTHALLOOKKARAN LONAPPAN | F20: JESNA | G20: PNTJSN92S45Z222X | H20: PANTHALLOOKKARAN LONAPPAN | I20: JESNA | J20: PNTJSN92S45Z222X | K20: pljesna1990@gmail.com | L20: 00393246906848 | M20: NICE | N20: EDWIN | O20: NCIDWN15R29Z222W | P20: 330 | Q20: 330 | R20: 10934.8 | S20: 1 | T20: N | U20: N | V20: 1050
A21: VOUCHER.2026.6835649 | B21: tipo indirizzo != 1 | C21: =VLOOKUP(A21,esito_ANPR_31AGO!C:G,5,FALSE()) -> tipo indirizzo = 10 | D21: 1 | E21: GALANTE | F21: NUNZIO | G21: GLNNNZ73B11L219H | H21: GALANTE | I21: NUNZIO | J21: GLNNNZ73B11L219H | K21: nunzio.galante73@gmail.com | L21: 00393495008110 | M21: GALANTE | N21: MARIASOLE | O21: GLNMSL19T48L219J | P21: 330 | Q21: 330 | R21: 11400.38 | S21: 1 | T21: N | U21: N | V21: 1050
A22: VOUCHER.2026.1488501 | B22: tipo indirizzo != 1 | C22: =VLOOKUP(A22,esito_ANPR_31AGO!C:G,5,FALSE()) -> tipo indirizzo = 10 | D22: 1 | E22: GALANTE | F22: NUNZIO | G22: GLNNNZ73B11L219H | H22: GALANTE | I22: NUNZIO | J22: GLNNNZ73B11L219H | K22: nunzio.galante73@gmail.com | L22: 00393495008110 | M22: GALANTE | N22: FRANCESCO | O22: GLNFNC17D26L219M | P22: 330 | Q22: 330 | R22: 11400.38 | S22: 1 | T22: N | U22: N | V22: 1050
A23: VOUCHER.2026.4942463 | B23: tipo indirizzo != 1 | C23: =VLOOKUP(A23,esito_ANPR_31AGO!C:G,5,FALSE()) -> tipo indirizzo = 11 | D23: 1 | E23: ROCCA | F23: CARMELA GISELDA | G23: RCCCML66E64E479C | H23: ROCCA | I23: CARMELA GISELDA | J23: RCCCML66E64E479C | K23: rcccarmen@yahoo.it | L23: 00393402817157 | M23: SALERNO | N23: CAMILLA | O23: SLRCLL10L68L219L | P23: 330 | Q23: 330 | R23: 11473.21 | S23: 3 | T23: N | U23: N | V23: 1600
A24: VOUCHER.2026.8268833 | B24: tipo indirizzo != 1 | C24: =VLOOKUP(A24,esito_ANPR_31AGO!C:G,5,FALSE()) -> tipo indirizzo = 11 | D24: 1 | E24: FLECCHIA | F24: MARCO | G24: FLCMRC62D07L219A | H24: FLECCHIA | I24: MARCO | J24: FLCMRC62D07L219A | K24: flecchiamarco62@gmail.com | L24: 00393204654867 | M24: FLECCHIA | N24: SERENA JASMIN | O24: FLCSNJ17S57L219Z | P24: 450 | Q24: 450 | R24: 11731.46 | S24: 1 | T24: N | U24: N | V24: 1050
A25: VOUCHER.2026.7223188 | B25: tipo indirizzo != 1 | C25: =VLOOKUP(A25,esito_ANPR_31AGO!C:G,5,FALSE()) -> tipo indirizzo = 11 | D25: 1 | E25: MASTRAPASQUA | F25: SABINO | G25: MSTSBN84L05L219D | H25: MASTRAPASQUA | I25: SABINO | J25: MSTSBN84L05L219D | K25: sabbi84@libero.it | L25: 393466319735 | M25: MASTRAPASQUA | N25: MATTIA | O25: MSTMTT20P09L219G | P25: 450 | Q25: 450 | R25: 12109.58 | S25: 1 | T25: N | U25: N | V25: 1050
A26: VOUCHER.2026.2969904 | B26: tipo indirizzo != 1 | C26: =VLOOKUP(A26,esito_ANPR_31AGO!C:G,5,FALSE()) -> tipo indirizzo = 11 | D26: 1 | E26: SU | F26: MINMIN | G26: SUXMMN88E61Z210S | H26: SU | I26: MINMIN | J26: SUXMMN88E61Z210S | K26: minminsu88@gmail.com | L26: 00393318197586 | M26: CHEN | N26: JIAYI JENNIFER | O26: CHNJJN13D65L219M | P26: 330 | Q26: 330 | R26: 12164.99 | S26: 2 | T26: N | U26: N | V26: 1200
A27: VOUCHER.2026.7478301 | B27: tipo indirizzo != 1 | C27: =VLOOKUP(A27,esito_ANPR_31AGO!C:G,5,FALSE()) -> tipo indirizzo = 11 | D27: 1 | E27: CIOCOI | F27: IULIA | G27: CCILIU93C42Z129G | H27: CIOCOI | I27: IULIA | J27: CCILIU93C42Z129G | K27: Yulya_12@yahoo.com | L27: 393343150913 | M27: TELEABA | N27: EMILY | O27: TLBMLY20A58L219D | P27: 330 | Q27: 330 | R27: 12503.66 | S27: 1 | T27: N | U27: N | V27: 1050
A28: VOUCHER.2026.1845269 | B28: tipo indirizzo != 1 | C28: =VLOOKUP(A28,esito_ANPR_31AGO!C:G,5,FALSE()) -> tipo indirizzo = 11 | D28: 1 | E28: DIEGO ARANA | F28: TRACY MILAGROS | G28: DGRTCY92D41Z611O | H28: DIEGO ARANA | I28: TRACY MILAGROS | J28: DGRTCY92D41Z611O | K28: tracydiar.01@gmail.com | L28: 00393271809035 | M28: GARCIA DIEGO | N28: THIAGO JEAN PAULO | O28: GRCTGJ13H29Z611I | P28: 330 | Q28: 330 | R28: 12555.42 | S28: 2 | T28: N | U28: N | V28: 1200
A29: VOUCHER.2026.2830356 | B29: tipo indirizzo != 1 | C29: =VLOOKUP(A29,esito_ANPR_31AGO!C:G,5,FALSE()) -> tipo indirizzo = 11 | D29: 1 | E29: DIEGO ARANA | F29: TRACY MILAGROS | G29: DGRTCY92D41Z611O | H29: DIEGO ARANA | I29: TRACY MILAGROS | J29: DGRTCY92D41Z611O | K29: tracydiar.01@gmail.com | L29: 00393271809035 | M29: GARCIA DIEGO | N29: LIAM GIANLUCCA | O29: GRCLGN15T26Z611X | P29: 330 | Q29: 330 | R29: 12555.42 | S29: 2 | T29: N | U29: S | V29: 1200 | W29: =V29*30% -> 360
A30: VOUCHER.2026.2137243 | B30: tipo indirizzo != 1 | C30: =VLOOKUP(A30,esito_ANPR_31AGO!C:G,5,FALSE()) -> tipo indirizzo = 11 | D30: 1 | E30: BRUNASSO | F30: VITTORIA | G30: BRNVTR91H64E379A | H30: BRUNASSO | I30: VITTORIA | J30: BRNVTR91H64E379A | K30: vittoria.brunasso@gmail.com | L30: 00393479556686 | M30: BIONDI | N30: LORENZO LEONE | O30: BNDLNZ20E17E379R | P30: 455 | Q30: 455 | R30: 12796.88 | S30: 1 | T30: N | U30: N | V30: 1050
A31: VOUCHER.2026.1964758 | B31: tipo indirizzo != 1 | C31: =VLOOKUP(A31,esito_ANPR_31AGO!C:G,5,FALSE()) -> tipo indirizzo = 11 | D31: 1 | E31: BELLINO | F31: GIUSEPPE | G31: BLLGPP83P25L219N | H31: BELLINO | I31: GIUSEPPE | J31: BLLGPP83P25L219N | K31: bellino.beppe@gmail.com | L31: 00393349244181 | M31: BELLINO | N31: ELENA | O31: BLLLNE19A42L219D | P31: 450 | Q31: 450 | R31: 13436.7 | S31: 1 | T31: N | U31: N | V31: 1050
A32: VOUCHER.2026.1160694 | B32: tipo indirizzo != 1 | C32: =VLOOKUP(A32,esito_ANPR_31AGO!C:G,5,FALSE()) -> tipo indirizzo = 11 | D32: 1 | E32: SETTEMBRE | F32: MARIELLA | G32: STTMLL72H56L219K | H32: SETTEMBRE | I32: MARIELLA | J32: STTMLL72H56L219K | K32: mariella1606@gmail.com | L32: 00393924607193 | M32: STOLFI | N32: VITTORIA | O32: STLVTR13M49H355J | P32: 524 | Q32: 524 | R32: 13502.32 | S32: 2 | T32: N | U32: N | V32: 1200
A33: VOUCHER.2026.6116248 | B33: tipo indirizzo != 1 | C33: =VLOOKUP(A33,esito_ANPR_31AGO!C:G,5,FALSE()) -> tipo indirizzo = 10 | D33: 1 | E33: GEORGE | F33: ANNAMMA | G33: GRGNMM89H64Z222F | H33: GEORGE | I33: ANNAMMA | J33: GRGNMM89H64Z222F | K33: sinusebastian2022@gmail.com | L33: 00393755657907 | M33: SINU | N33: CRISTINA ANN | O33: SNICST15E62C722Y | P33: 458 | Q33: 458 | R33: 13665.11 | S33: 2 | T33: N | U33: N | V33: 1200
A34: VOUCHER.2026.4433926 | B34: EN122 Soggetto non registrato in ANPR | C34: =VLOOKUP(A34,esito_ANPR_31AGO!C:G,5,FALSE()) -> #N/A | D34: 1 | E34: FRUGGIERO | F34: ALESSANDRA | G34: FRGLSN81T68F952U | H34: FRUGGIERO | I34: ALESSANDRA | J34: FRGLSN81T68F952U | K34: caiomxp21@gmail.com | L34: 00393515569852 | M34: FRUGGIERO | N34: FEDERICO | O34: FRGFRC07E09F952E | P34: 1462 | Q34: 1462 | R34: 14130.19 | S34: 3 | T34: N | U34: N | V34: 1600
A35: VOUCHER.2026.6346741 | B35: tipo indirizzo != 1 | C35: =VLOOKUP(A35,esito_ANPR_31AGO!C:G,5,FALSE()) -> tipo indirizzo = 11 | D35: 1 | E35: SURACE | F35: STEFANIA | G35: SRCSFN91T54G082S | H35: SURACE | I35: STEFANIA | J35: SRCSFN91T54G082S | K35: stefanya.surace@gmail.com | L35: 00393881567317 | M35: ASCRIZZI | N35: MIRIAM | O35: SCRMRM19A63G388N | P35: 773 | Q35: 773 | R35: 14146.96 | S35: 1 | T35: N | U35: N | V35: 1050
A36: VOUCHER.2026.3586112 | B36: tipo indirizzo != 1 | C36: =VLOOKUP(A36,esito_ANPR_31AGO!C:G,5,FALSE()) -> tipo indirizzo = 10 | D36: 1 | E36: MOTTO | F36: DAVIDE | G36: MTTDVD71M31E379P | H36: MOTTO | I36: DAVIDE | J36: MTTDVD71M31E379P | K36: davidemotto71@gmail.com | L36: 00393406983636 | M36: MOTTO | N36: BEATRICE | O36: MTTBRC15P45C665T | P36: 330 | Q36: 330 | R36: 14330.35 | S36: 2 | T36: N | U36: N | V36: 1200
A37: VOUCHER.2026.8075333 | B37: tipo indirizzo != 1 | C37: =VLOOKUP(A37,esito_ANPR_31AGO!C:G,5,FALSE()) -> tipo indirizzo = 11 | D37: 1 | E37: MIJNO | F37: CHRISTIAN | G37: MJNCRS76E04Z103S | H37: MIJNO | I37: CHRISTIAN | J37: MJNCRS76E04Z103S | K37: christianmijno41@gmail.com | L37: 00393402850758 | M37: MIJNO | N37: ISABEL | O37: MJNSBL09M60L219T | P37: 330 | Q37: 330 | R37: 14725.3 | S37: 3 | T37: N | U37: N | V37: 1600
A38: VOUCHER.2026.8190345 | B38: tipo indirizzo != 1 | C38: =VLOOKUP(A38,esito_ANPR_31AGO!C:G,5,FALSE()) -> tipo indirizzo = 10 | D38: 1 | E38: COLOMBO | F38: SIMONA | G38: CLMSMN71B61F952N | H38: COLOMBO | I38: SIMONA | J38: CLMSMN71B61F952N | K38: simona.colombo0208@gmail.com | L38: 00393497799844 | M38: GARINI | N38: GUGLIELMO MARIA | O38: GRNGLL08L22F205M | P38: 1462 | Q38: 1462 | R38: 14780.92 | S38: 3 | T38: N | U38: N | V38: 1600
A39: VOUCHER.2026.8423160 | B39: tipo indirizzo != 1 | C39: =VLOOKUP(A39,esito_ANPR_31AGO!C:G,5,FALSE()) -> tipo indirizzo = 10 | D39: 1 | E39: SCHIAVONI | F39: ELISA | G39: SCHLSE81A66F952G | H39: SCHIAVONI | I39: ELISA | J39: SCHLSE81A66F952G | K39: schiavoni.elisa@yahoo.it | L39: 00393473871662 | M39: SCHIAVONI | N39: PIERSILVIO | O39: SCHPSL14D19F952I | P39: 1462 | Q39: 1462 | R39: 14908.7 | S39: 2 | T39: N | U39: S | V39: 1200 | W39: =V39*30% -> 360
A40: VOUCHER.2026.7706558 | B40: tipo indirizzo != 1 | C40: =VLOOKUP(A40,esito_ANPR_31AGO!C:G,5,FALSE()) -> tipo indirizzo = 10 | D40: 1 | E40: CAVAGLIA' | F40: MARIA CRISTINA | G40: CVGMCR72A46L219W | H40: CAVAGLIÀ | I40: MARIA CRISTINA | J40: CVGMCR72A46L219W | K40: mariacristina.cavaglia@gmail.com | L40: 00393334618430 | M40: RUSSO | N40: JACOPO | O40: RSSJCP08T10L219A | P40: 595 | Q40: 595 | R40: 15029.7 | S40: 3 | T40: N | U40: N | V40: 1600
...

Sheet Voucher_A_validi
A1: Numero domanda | B1: Esito seconda interrogazione ANPR | C1: importo contributo
A2: VOUCHER.2026.3506475 | B2: Residente in Regione Piemonte | C2: 0
A3: VOUCHER.2026.2259520 | B3: Residente in Regione Piemonte | C3: 0
A4: VOUCHER.2026.7425122 | B4: Residente in Regione Piemonte | C4: 0
A5: VOUCHER.2026.6675998 | B5: Residente in Regione Piemonte | C5: 0
A6: VOUCHER.2026.2501210 | B6: Residente in Regione Piemonte | C6: 0
A7: VOUCHER.2026.5767109 | B7: Residente in Regione Piemonte | C7: 0
A8: VOUCHER.2026.1171388 | B8: Residente in Regione Piemonte | C8: 0
A9: VOUCHER.2026.4285972 | B9: Residente in Regione Piemonte | C9: 0
A10: VOUCHER.2026.5872322 | B10: Residente in Regione Piemonte | C10: 0
A11: VOUCHER.2026.6005539 | B11: Residente in Regione Piemonte | C11: 0
A12: VOUCHER.2026.8562350 | B12: Residente in Regione Piemonte | C12: 0
A13: VOUCHER.2026.2819465 | B13: Residente in Regione Piemonte | C13: 0
... A28: VOUCHER.2026.1731942 | B28: Residente in Regione Piemonte | C28: 0

Sheet Voucher_B
V1: =SUM(V3:V2165) -> 430050 | W1: =SUBTOTAL(9,W8:W2165) -> 7230
A2: DOMANDA_ID_MODAST | B2: NOTE | C2: ESITO_31ago2026 | D2: ID_TIPO_RICHIEDENTE | E2: RICHIEDENTE_COGNOME | F2: RICHIEDENTE_NOME | G2: RICHIEDENTE_CODFISC | H2: BENEFICIARIO_COGNOME | I2: BENEFICIARIO_NOME | J2: BENEFICIARIO_CODFISC | K2: RICHIEDENTE_EMAIL | L2: RICHIEDENTE_TELEFONO2 | M2: STUDENTE_COGNOME | N2: STUDENTE_NOME | O2: STUDENTE_CODFISC | P2: RICHIEDENTE_IDCOMUNERESID | Q2: STUDENTE_IDCOMUNERESID | R2: ISEEVALORE | S2: ORDINE_SCUOLA | T2: FLAG_STUDCERTIF104 | U2: FLAG_STUDCERTIFDSA | V2: IMP_CONTRIB_SPETT | W2: EVENTUALE MAGGIORAZIONE DEL 30% PER DSA
A3: VOUCHER.2026.5024352 | B3: CF con validita' != 1 | C3: =VLOOKUP(A3,esito_ANPR_31AGO!C:G,5,FALSE()) -> #N/A | D3: 1 | E3: AQUINO AQUINO | F3: ROXANA PAMELA | G3: QNQRNP80E67Z611N | H3: AQUINO AQUINO | I3: ROXANA PAMELA | J3: QNQRNP80E67Z611N | K3: okin2312@gmail.com | L3: 00393445484035 | M3: LOPEZ AQUINO | N3: JOAQUIN ALEJANDRO | O3: LPZJNL15T23Z611V | P3: 409 | Q3: 409 | R3: 0 | S3: 1 | T3: N | U3: N | V3: 150
A4: VOUCHER.2026.4435610 | B4: EN122 Soggetto non registrato in ANPR | C4: =VLOOKUP(A4,esito_ANPR_31AGO!C:G,5,FALSE()) -> #N/A | D4: 1 | E4: MENENDEZ VERA | F4: ROXANA LIZETH | G4: MNNRNL87B67Z605T | H4: MENENDEZ VERA | I4: ROXANA LIZETH | J4: MNNRNL87B67Z605T | K4: rolizmenendez@gmail.com | L4: 00393793513780 | M4: ARIAS MENENDEZ | N4: SOPHIA ANNALISE | O4: RSMSHN15M67Z605J | P4: 1737 | Q4: 1737 | R4: 0 | S4: 1 | T4: N | U4: N | V4: 150
A5: VOUCHER.2026.3458962 | B5: EN122 Soggetto non registrato in ANPR | C5: =VLOOKUP(A5,esito_ANPR_31AGO!C:G,5,FALSE()) -> #N/A | D5: 1 | E5: MENENDEZ VERA | F5: ROXANA LIZETH | G5: MNNRNL87B67Z605T | H5: MENENDEZ VERA | I5: ROXANA LIZETH | J5: MNNRNL87B67Z605T | K5: rolizmenendez@gmail.com | L5: 00393793513780 | M5: ARIAS MENENDEZ | N5: ANAHI MAYLEEN | O5: RSMNMY17L70Z605P | P5: 1737 | Q5: 1737 | R5: 0 | S5: 1 | T5: N | U5: N | V5: 150
A6: VOUCHER.2026.2166214 | B6: EN122 Soggetto non registrato in ANPR | C6: =VLOOKUP(A6,esito_ANPR_31AGO!C:G,5,FALSE()) -> #N/A | D6: 1 | E6: MUNOZ HUAMANI | F6: YANET ROSSE | G6: MNZYTR78C51Z611D | H6: MUNOZ HUAMANI | I6: YANET ROSSE | J6: MNZYTR78C51Z611D | K6: yanetrmh1103@gmail.com | L6: 00393514709545 | M6: JUAREZ MUNOZ | N6: FLAVIA JANNETH | O6: JRZFVJ12M50Z611W | P6: 1462 | Q6: 1462 | R6: 0 | S6: 2 | T6: N | U6: N | V6: 300
A7: VOUCHER.2026.5788917 | B7: EN122 Soggetto non registrato in ANPR | C7: =VLOOKUP(A7,esito_ANPR_31AGO!C:G,5,FALSE()) -> #N/A | D7: 1 | E7: CAVALLINI HOFFMANN | F7: JANDER ROBERTO | G7: CVLJDR79D10Z602N | H7: CAVALLINI HOFFMANN | I7: JANDER ROBERTO | J7: CVLJDR79D10Z602N | K7: janderhoffmann1979@gmail.com | L7: 00393313206737 | M7: DA SILVA HOFFMANN | N7: JOSEPH IVO | O7: DSLJPH20L06Z602N | P7: 62049 | Q7: 62049 | R7: 0 | S7: 1 | T7: N | U7: N | V7: 150
A8: VOUCHER.2026.4123282 | B8: tipo indirizzo != 1 | C8: =VLOOKUP(A8,esito_ANPR_31AGO!C:G,5,FALSE()) -> tipo indirizzo = 10 | D8: 1 | E8: RIZAOUI | F8: HASSANE | G8: RZIHSN86H01Z330G | H8: RIZAOUI | I8: HASSANE | J8: RZIHSN86H01Z330G | K8: hassanerizaoui93@gmail.com | L8: 393348532642 | M8: RIZAOUI | N8: SABRINA | O8: RZISRN10S48L219I | P8: 330 | Q8: 330 | R8: 0 | S8: 3 | T8: N | U8: N | V8: 500
A9: VOUCHER.2026.5544115 | B9: tipo indirizzo != 1 | C9: =VLOOKUP(A9,esito_ANPR_31AGO!C:G,5,FALSE()) -> tipo indirizzo = 11 | D9: 1 | E9: FERRAZ DE FARIAS | F9: MARCEL | G9: FRRMCL87E25Z602F | H9: FERRAZ DE FARIAS | I9: MARCEL | J9: FRRMCL87E25Z602F | K9: marcelferraz@me.com | L9: 00393514185119 | M9: MARCOS FERRAZ | N9: CARLOS EDUARDO | O9: MRCCLS19C27Z602M | P9: 455 | Q9: 455 | R9: 0 | S9: 1 | T9: N | U9: N | V9: 150
A10: VOUCHER.2026.5043453 | B10: tipo indirizzo != 1 | C10: =VLOOKUP(A10,esito_ANPR_31AGO!C:G,5,FALSE()) -> tipo indirizzo = 10 | D10: 1 | E10: BORTOLASO | F10: FRANCESCA | G10: BRTFNC90D60F335R | H10: BORTOLASO | I10: FRANCESCA | J10: BRTFNC90D60F335R | K10: francescabortolaso.fb@gmail.com | L10: 393453003336 | M10: VILLEGAS GUERRERO | N10: LEON | O10: VLLLNE20A15L219O | P10: 330 | Q10: 330 | R10: 0 | S10: 1 | T10: N | U10: N | V10: 150
A11: VOUCHER.2026.1652932 | B11: EN122 Soggetto non registrato in ANPR | C11: =VLOOKUP(A11,esito_ANPR_31AGO!C:G,5,FALSE()) -> #N/A | D11: 1 | E11: STOICA | F11: LUDMILA | G11: STCLML90P68Z140Z | H11: STOICA | I11: LUDMILA | J11: STCLML90P68Z140Z | K11: stoicaludmila627@gmail.com | L11: 00393809064767 | M11: STOICA | N11: LAURENTIU | O11: STCLNT14H10Z140J | P11: 330 | Q11: 330 | R11: 0 | S11: 2 | T11: N | U11: N | V11: 300
A12: VOUCHER.2026.6806242 | B12: EN122 Soggetto non registrato in ANPR | C12: =VLOOKUP(A12,esito_ANPR_31AGO!C:G,5,FALSE()) -> #N/A | D12: 1 | E12: STOICA | F12: LUDMILA | G12: STCLML90P68Z140Z | H12: STOICA | I12: LUDMILA | J12: STCLML90P68Z140Z | K12: stoicaludmila627@gmail.com | L12: 00393809064767 | M12: STOICA | N12: ALEXANDRA | O12: STCLND15S69Z140O | P12: 330 | Q12: 330 | R12: 0 | S12: 1 | T12: N | U12: N | V12: 150
A13: VOUCHER.2026.5754448 | B13: tipo indirizzo != 1 | C13: =VLOOKUP(A13,esito_ANPR_31AGO!C:G,5,FALSE()) -> tipo indirizzo = 11 | D13: 1 | E13: VALENCIA CASTILLO | F13: KATTY ESTEFANY | G13: VLNKTY94M43Z611C | H13: VALENCIA CASTILLO | I13: KATTY ESTEFANY | J13: VLNKTY94M43Z611C | K13: kattyvalencia564@gmail.com | L13: 3277211338 | M13: HUAMANI VALENCIA | N13: OZTIN ANUEL | O13: HMNZNN16S20Z611N | P13: 330 | Q13: 330 | R13: 0 | S13: 1 | T13: N | U13: N | V13: 150
A14: VOUCHER.2026.3251824 | B14: tipo indirizzo != 1 | C14: =VLOOKUP(A14,esito_ANPR_31AGO!C:G,5,FALSE()) -> tipo indirizzo = 11 | D14: 1 | E14: EL OMARI | F14: WIDADE | G14: LMRWDD81S42Z330D | H14: EL OMARI | I14: WIDADE | J14: LMRWDD81S42Z330D | K14: Widadesissi84@gmail.com | L14: 00393717468207 | M14: ARRECH | N14: SIRINE | O14: RRCSRN18A42Z330T | P14: 1544 | Q14: 1544 | R14: 0 | S14: 1 | T14: N | U14: N | V14: 150
A15: VOUCHER.2026.9831135 | B15: tipo indirizzo != 1 | C15: =VLOOKUP(A15,esito_ANPR_31AGO!C:G,5,FALSE()) -> tipo indirizzo = 10 | D15: 1 | E15: CRESTA | F15: ANNARITA MARIA MADDALENA | G15: CRSNRT74B66B003V | H15: CRESTA | I15: ANNARITA MARIA MADDALENA | J15: CRSNRT74B66B003V | K15: annacresta388@gmail.com | L15: 00393405293795 | M15: GHIDINA | N15: AIDA | O15: GHDDAI11L45C665V | P15: 428 | Q15: 428 | R15: 0 | S15: 3 | T15: N | U15: N | V15: 500
A16: VOUCHER.2026.9042239 | B16: tipo indirizzo != 1 | C16: =VLOOKUP(A16,esito_ANPR_31AGO!C:G,5,FALSE()) -> tipo indirizzo = 10 | D16: 1 | E16: BORTOLASO | F16: FRANCESCA | G16: BRTFNC90D60F335R | H16: BORTOLASO | I16: FRANCESCA | J16: BRTFNC90D60F335R | K16: francescabortolaso.fb@gmail.com | L16: 393453003336 | M16: PANICCIA | N16: BEATRICE | O16: PNCBRC12T66L013L | P16: 602 | Q16: 602 | R16: 0 | S16: 3 | T16: N | U16: S | V16: 500 | W16: =V16*30% -> 150
A17: VOUCHER.2026.4353439 | B17: tipo indirizzo != 1 | C17: =VLOOKUP(A17,esito_ANPR_31AGO!C:G,5,FALSE()) -> tipo indirizzo = 11 | D17: 1 | E17: EL HIBARI | F17: SAMYA | G17: LHBSMY91E45Z3P0L | H17: EL HIBARI | I17: SAMYA | J17: LHBSMY91E45Z3P0L | K17: samyaelhibari425@gmail.com | L17: 00393516366295 | M17: ABDELKRIM | N17: SAMI | O17: BDLSMA19E17Z330L | P17: 633 | Q17: 633 | R17: 0 | S17: 1 | T17: N | U17: N | V17: 150
A18: VOUCHER.2026.5161404 | B18: tipo indirizzo != 1 | C18: =VLOOKUP(A18,esito_ANPR_31AGO!C:G,5,FALSE()) -> tipo indirizzo = 11 | D18: 1 | E18: EL HIBARI | F18: SAMYA | G18: LHBSMY91E45Z3P0L | H18: EL HIBARI | I18: SAMYA | J18: LHBSMY91E45Z3P0L | K18: samyaelhibari425@gmail.com | L18: 00393516366295 | M18: ABDELKRIM | N18: AMIR | O18: BDLMRA15S20Z330F | P18: 633 | Q18: 633 | R18: 0 | S18: 1 | T18: N | U18: N | V18: 150
A19: VOUCHER.2026.1396880 | B19: tipo indirizzo != 1 | C19: =VLOOKUP(A19,esito_ANPR_31AGO!C:G,5,FALSE()) -> tipo indirizzo = 11 | D19: 1 | E19: MARTINS DOS SANTOS | F19: FABIO HENRIQUE | G19: MRTFHN88C11Z602G | H19: MARTINS DOS SANTOS | I19: FABIO HENRIQUE | J19: MRTFHN88C11Z602G | K19: fhm.santos2819@gmail.com | L19: 00393517644693 | M19: ERNANI MARTINS DOS SANTOS | N19: NICOLLE | O19: RNNNLL11M68Z602C | P19: 773 | Q19: 773 | R19: 0 | S19: 2 | T19: N | U19: N | V19: 300
A20: VOUCHER.2026.6570059 | B20: EN122 Soggetto non registrato in ANPR | C20: =VLOOKUP(A20,esito_ANPR_31AGO!C:G,5,FALSE()) -> #N/A | D20: 1 | E20: ABANTO DEJO | F20: MEIRY GUADALUPE | G20: BNTMYG93D54Z611Z | H20: ABANTO DEJO | I20: MEIRY GUADALUPE | J20: BNTMYG93D54Z611Z | K20: dejomeiry@gmail.com | L20: 00393511549893 | M20: ABANTO DEJO | N20: JAVIERA AINARA | O20: BNTJRN17D48Z603L | P20: 330 | Q20: 330 | R20: 0 | S20: 1 | T20: N | U20: N | V20: 150
A21: VOUCHER.2026.3247558 | B21: EN122 Soggetto non registrato in ANPR | C21: =VLOOKUP(A21,esito_ANPR_31AGO!C:G,5,FALSE()) -> #N/A | D21: 3 | E21: GIACHETTI | F21: DANIELE | G21: GCHDNL58D27I701K | H21: GIACHETTI | I21: DANIELE | J21: GCHDNL58D27I701K | K21: daniele.giachetti1958@gmail.com | L21: 00393356403596 | M21: ELBAGOURY | N21: MOHAMED RASHAD NASR ELMORSHDY | O21: LBGMMD10C10Z330S | P21: 594 | Q21: 478 | R21: 0 | S21: 5 | T21: N | U21: N | V21: 500
A22: VOUCHER.2026.4340454 | B22: tipo indirizzo != 1 | C22: =VLOOKUP(A22,esito_ANPR_31AGO!C:G,5,FALSE()) -> tipo indirizzo = 10 | D22: 1 | E22: CANGA | F22: FAIK | G22: CNGFKA88R17Z100P | H22: CANGA | I22: FAIK | J22: CNGFKA88R17Z100P | K22: fati88@virgilio.it | L22: 393662766327 | M22: CANGA | N22: MASSIMO | O22: CNGMSM17S08L219P | P22: 330 | Q22: 330 | R22: 0 | S22: 1 | T22: N | U22: N | V22: 150
A23: VOUCHER.2026.2297535 | B23: EN122 Soggetto cancellato da ANPR | C23: =VLOOKUP(A23,esito_ANPR_31AGO!C:G,5,FALSE()) -> #N/A | D23: 1 | E23: BOUMAL | F23: KARIMA | G23: BMLKRM88S55Z330J | H23: BOUMAL | I23: KARIMA | J23: BMLKRM88S55Z330J | K23: karimaboumal88@hotmail.com | L23: 393532012324 | M23: RAZAK | N23: AMIRA | O23: RZKMRA11D44Z330I | P23: 1889 | Q23: 1889 | R23: 0 | S23: 3 | T23: N | U23: N | V23: 500
A24: VOUCHER.2026.1584288 | B24: EN122 Soggetto non registrato in ANPR | C24: =VLOOKUP(A24,esito_ANPR_31AGO!C:G,5,FALSE()) -> #N/A | D24: 1 | E24: KASA | F24: NERTILA | G24: KSANTL87D68Z100N | H24: KASA | I24: NERTILA | J24: KSANTL87D68Z100N | K24: nesidamarsikorra@gmail.com | L24: 00393513709991 | M24: KORRA | N24: NESIDA | O24: KRRNSD17M45Z100T | P24: 948 | Q24: 948 | R24: 0 | S24: 1 | T24: N | U24: N | V24: 150
A25: VOUCHER.2026.3316371 | B25: tipo indirizzo != 1 | C25: =VLOOKUP(A25,esito_ANPR_31AGO!C:G,5,FALSE()) -> tipo indirizzo = 4 | D25: 1 | E25: SOUZA QUEIROZ RAMOS | F25: DAHIANY | G25: SZQDNY91D59Z602I | H25: SOUZA QUEIROZ RAMOS | I25: DAHIANY | J25: SZQDNY91D59Z602I | K25: dahianysouza@gmail.com | L25: 00393445210793 | M25: RAMOS QUEIROZ | N25: STELLA | O25: RMSSLL18C66Z602O | P25: 455 | Q25: 455 | R25: 0 | S25: 1 | T25: N | U25: N | V25: 150
A26: VOUCHER.2026.5792392 | B26: EN122 Soggetto non registrato in ANPR | C26: =VLOOKUP(A26,esito_ANPR_31AGO!C:G,5,FALSE()) -> #N/A | D26: 1 | E26: KASA | F26: NERTILA | G26: KSANTL87D68Z100N | H26: KASA | I26: NERTILA | J26: KSANTL87D68Z100N | K26: nesidamarsikorra@gmail.com | L26: 00393513709991 | M26: KORRA | N26: MARSELINA | O26: KRRMSL15C59Z100U | P26: 948 | Q26: 948 | R26: 0 | S26: 2 | T26: N | U26: N | V26: 300
A27: VOUCHER.2026.9554620 | B27: EN122 Soggetto cancellato da ANPR | C27: =VLOOKUP(A27,esito_ANPR_31AGO!C:G,5,FALSE()) -> #N/A | D27: 1 | E27: BOUMAL | F27: KARIMA | G27: BMLKRM88S55Z330J | H27: BOUMAL | I27: KARIMA | J27: BMLKRM88S55Z330J | K27: karimaboumal88@hotmail.com | L27: 393532012324 | M27: RAZAK | N27: MOUSTAPHA | O27: RZKMTP15L13L219B | P27: 1889 | Q27: 1889 | R27: 0 | S27: 2 | T27: N | U27: N | V27: 300
A28: VOUCHER.2026.1160268 | B28: tipo indirizzo != 1 | C28: =VLOOKUP(A28,esito_ANPR_31AGO!C:G,5,FALSE()) -> tipo indirizzo = 10 | D28: 1 | E28: AFYF | F28: BOUZEKRI | G28: FYFBKR77A01Z330B | H28: AFYF | I28: BOUZEKRI | J28: FYFBKR77A01Z330B | K28: afyfzakka@gmail.com | L28: 00393474277748 | M28: AFYF | N28: KAWTAR | O28: FYFKTR19T56E379R | P28: 428 | Q28: 428 | R28: 0 | S28: 1 | T28: N | U28: N | V28: 150
... A97: VOUCHER.2026.7762908 | B97: tipo indirizzo != 1 | C97: =VLOOKUP(A97,esito_ANPR_31AGO!C:G,5,FALSE()) -> tipo indirizzo = 11 | D97: 4 | E97: EL ZIANI | F97: JAMILA | G97: LZNJML69A41Z330W | H97: BARHAZ | I97: IMANE | J97: BRHMNI88L42Z330U | K97: Abderrazakelfa@gmail.com | L97: 00393520151225 | M97: EL FAKIR | N97: ROAYA | O97: LFKRYO18M71Z330F | P97: 62049 | Q97: 62049 | R97: 0 | S97: 1 | T97: N | U97: N | V97: 150
A98: VOUCHER.2026.1281938 | B98: tipo indirizzo != 1 | C98: =VLOOKUP(A98,esito_ANPR_31AGO!C:G,5,FALSE()) -> tipo indirizzo = 11 | D98: 1 | E98: TAOUI | F98: FATIMA ZAHRA | G98: TAOFMZ92A67Z330A | H98: TAOUI | I98: FATIMA ZAHRA | J98: TAOFMZ92A67Z330A | K98: fatimazahrataoui92@gmail.com | L98: 393381223010 | M98: ABDELHAQ | N98: MOHAMED | O98: BDLMMD15H27L2M9A | P98: 330 | Q98: 330 | R98: 0 | S98: 2 | T98: N | U98: S | V98: 300 | W98: =V98*30% -> 90
A99: VOUCHER.2026.1622714 | B99: tipo indirizzo != 1 | C99: =VLOOKUP(A99,esito_ANPR_31AGO!C:G,5,FALSE()) -> tipo indirizzo = 11 | D99: 4 | E99: EL ZIANI | F99: JAMILA | G99: LZNJML69A41Z330W | H99: BARHAZ | I99: IMANE | J99: BRHMNI88L42Z330U | K99: Abderrazakelfa@gmail.com | L99: 00393520151225 | M99: EL FAKIR | N99: RIM | O99: LFKRMI14M48Z330F | P99: 62049 | Q99: 62049 | R99: 0 | S99: 2 | T99: N | U99: N | V99: 300
A100: VOUCHER.2026.8630789 | B100: tipo indirizzo != 1 | C100: =VLOOKUP(A100,esito_ANPR_31AGO!C:G,5,FALSE()) -> tipo indirizzo = 11 | D100: 1 | E100: MARTINS DOS SANTOS | F100: FABIO HENRIQUE | G100: MRTFHN88C11Z602G | H100: MARTINS DOS SANTOS | I100: FABIO HENRIQUE | J100: MRTFHN88C11Z602G | K100: fhm.santos2819@gmail.com | L100: 00393517644693 | M100: ERNANI MARTINS DOS SANTOS | N100: TAFERSON HENRIQUE | O100: RNNTRS14E19Z602K | P100: 773 | Q100: 773 | R100: 0 | S100: 2 | T100: N | U100: N | V100: 300
A101: VOUCHER.2026.7881901 | B101: tipo indirizzo != 1 | C101: =VLOOKUP(A101,esito_ANPR_31AGO!C:G,5,FALSE()) -> tipo indirizzo = 11 | D101: 1 | E101: TAOUI | F101: FATIMA ZAHRA | G101: TAOFMZ92A67Z330A | H101: TAOUI | I101: FATIMA ZAHRA | J101: TAOFMZ92A67Z330A | K101: fatimazahrataoui92@gmail.com | L101: 393381223010 | M101: ABDELHAQ | N101: ISLAM | O101: BDLSLM19A08L219E | P101: 330 | Q101: 330 | R101: 0 | S101: 1 | T101: N | U101: N | V101: 150
A102: VOUCHER.2026.5486550 | B102: tipo indirizzo != 1 | C102: =VLOOKUP(A102,esito_ANPR_31AGO!C:G,5,FALSE()) -> tipo indirizzo = 10 | D102: 1 | E102: EDOS | F102: FAITH | G102: DSEFTH84M71Z335A | H102: EDOS | I102: FAITH | J102: DSEFTH84M71Z335A | K102: faith.edos31@gmail.com | L102: 00393384434465 | M102: AJAYI | N102: TRACY OVBDKHIAN | O102: JYATCY14A59Z335R | P102: 595 | Q102: 595 | R102: 0 | S102: 2 | T102: N | U102: N | V102: 300
A103: VOUCHER.2026.2794772 | B103: tipo indirizzo != 1 | C103: =VLOOKUP(A103,esito_ANPR_31AGO!C:G,5,FALSE()) -> tipo indirizzo = 10 | D103: 1 | E103: EDOS | F103: FAITH | G103: DSEFTH84M71Z335A | H103: EDOS | I103: FAITH | J103: DSEFTH84M71Z335A | K103: faith.edos31@gmail.com | L103: 00393384434465 | M103: AJAYI | N103: TREASURE ODION | O103: JYATSR14A59Z335R | P103: 595 | Q103: 595 | R103: 0 | S103: 2 | T103: N | U103: N | V103: 300
A104: VOUCHER.2026.9458802 | B104: tipo indirizzo != 1 | C104: =VLOOKUP(A104,esito_ANPR_31AGO!C:G,5,FALSE()) -> tipo indirizzo = 11 | D104: 1 | E104: CESAR MARIOTTO | F104: THIAGO | G104: CSRTHG80M15Z602N | H104: CESAR MARIOTTO | I104: THIAGO | J104: CSRTHG80M15Z602N | K104: tcmariotto@gmail.com | L104: 00393933395737 | M104: ENGLER MARIOTTO | N104: DAVI | O104: NGLDVA12P28Z602K | P104: 455 | Q104: 455 | R104: 0 | S104: 3 | T104: N | U104: N | V104: 500
A105: VOUCHER.2026.2590740 | B105: tipo indirizzo != 1 | C105: =VLOOKUP(A105,esito_ANPR_31AGO!C:G,5,FALSE()) -> tipo indirizzo = 11 | D105: 1 | E105: MAYORGA MORAN | F105: KATIA JEANNETTE | G105: MYRKJN87H63Z506V | H105: MAYORGA MORAN | I105: KATIA JEANNETTE | J105: MYRKJN87H63Z506V | K105: jeannettemayorga87@gmail.com | L105: 00393516951250 | M105: GUILLEN MAYORGA | N105: ANDERSON MOISES | O105: GLLNRS11M04Z506U | P105: 330 | Q105: 330 | R105: 0 | S105: 5 | T105: N | U105: N | V105: 500
A106: VOUCHER.2026.3572604 | B106: tipo indirizzo != 1 | C106: =VLOOKUP(A106,esito_ANPR_31AGO!C:G,5,FALSE()) -> tipo indirizzo = 11 | D106: 1 | E106: AYACH | F106: MOSTAFA | G106: YCHMTF71A01Z330Z | H106: AYACH | I106: MOSTAFA | J106: YCHMTF71A01Z330Z | K106: ayachmostafa147@gmail.com | L106: 00393270426463 | M106: AYACH | N106: ANAS | O106: YCHNSA17L14Z330V | P106: 848 | Q106: 848 | R106: 0 | S106: 1 | T106: N | U106: N | V106: 150
A107: VOUCHER.2026.6030432 | B107: tipo indirizzo != 1 | C107: =VLOOKUP(A107,esito_ANPR_31AGO!C:G,5,FALSE()) -> tipo indirizzo = 11 | D107: 1 | E107: MABROUK | F107: HAIFA | G107: MBRHFA93H65Z352T | H107: MABROUK | I107: HAIFA | J107: MBRHFA93H65Z352T | K107: mabroukhaifa111@gmail.com | L107: 00393509860607 | M107: HAZGUI | N107: YOUSSEF | O107: HZGYSF20S12Z352H | P107: 1808 | Q107: 1808 | R107: 0 | S107: 1 | T107: N | U107: N | V107: 150
A108: VOUCHER.2026.8389418 | B108: tipo indirizzo != 1 | C108: =VLOOKUP(A108,esito_ANPR_31AGO!C:G,5,FALSE()) -> tipo indirizzo = 11 | D108: 1 | E108: RODRIGUEZ LOPEZ | F108: OSCARINA GABRIELA | G108: RDRSRN94S59Z614P | H108: RODRIGUEZ LOPEZ | I108: OSCARINA GABRIELA | J108: RDRSRN94S59Z614P | K108: karina24918@gmail.com | L108: 3792221994 | M108: MARTINEZ RODRIGUEZ | N108: JOEL GABRIEL | O108: MRTJGB10D09Z614W | P108: 330 | Q108: 330 | R108: 0 | S108: 3 | T108: N | U108: N | V108: 500
...

Sheet sql
A1: SELECT atd.DOMANDA_ID_MODAST , ata.NOTE, atd.ID_TIPO_RICHIEDENTE , atd.RICHIEDENTE_COGNOME , atd.RICHIEDENTE_NOME , atd.RICHIEDENTE_CODFISC ,atd.BENEFICIARIO_COGNOME , atd.BENEFICIARIO_NOME, atd.BENEFICIARIO_CODFISC, atd.RICHIEDENTE_EMAIL , atd.RICHIEDENTE_TELEFONO2 , atd.STUDENTE_COGNOME , atd.STUDENTE_NOME, atd.STUDENTE_CODFISC , atd.RICHIEDENTE_IDCOMUNERESID , atd.STUDENTE_IDCOMUNERESID , atd.ISEEVALORE , ads.ID_ORDINE_SCUOLA, atd.FLAG_STUDCERTIF104 , atd.FLAG_STUDCERTIFDSA FROM ASTUGD_T_DOM_GRAD_NA atdgn , ASTUMU_T_DOMANDA atd , ASTUMU_D_SCUOLA ads , ASTUMU_T_ANPR ata WHERE atdgn.DOMANDA_NUMPROG = atd.DOMANDA_NUMPROG AND atd.SCUOLAATTUALE_ID = ads.ID_SCUOLA AND atd.STUDENTE_CODFISC = ata.STUDENTE_CODFISC AND atd.DATA_FINE IS NULL AND atd.ID_ANNOSCOLASTICO =19 AND atdgn.ID_ANNOSCOLASTICO = 19 AND atdgn.ID_GRADUATORIA = 16 AND atdgn.note = 'Residenza studente non confermata in Anagrafe Nazionale' AND atdgn.ID_TIPO_CONTRIBUTO = 5 ORDER BY atd.ISEEVALORE

Sheet esito_ANPR_31AGO
A1: STUDENTE_CODFISC | B1: ID_ANNOSCOLASTICO | C1: DOMANDA_ID_MODAST | D1: FLAG_INTERROGAZIONE | E1: RESID_COD_ISTAT_COMUNE | F1: RESID_COD_ISTAT_REGIONE | G1: NOTE | H1: DATA_MODIFICA
A2: BCHMVC12E71A124U | B2: 19 | C2: VOUCHER.2026.4114909 | D2: S | E2: 005053 | F2: 01 | G2: tipo indirizzo = 10 | H2: 2026-08-31 12:07:32.000
A3: BCHNSR11H28F351N | B3: 19 | C3: VOUCHER.2026.7291291 | D3: S | E3: 001272 | F3: 01 | G3: tipo indirizzo = 10 | H3: 2026-08-31 12:07:33.000
A4: BCHRYN09P05F351M | B4: 19 | C4: VOUCHER.2026.2478489 | D4: S | E4: 001272 | F4: 01 | G4: tipo indirizzo = 10 | H4: 2026-08-31 12:07:33.000
A5: BBKKLD18R63H163R | B5: 19 | C5: VOUCHER.2026.4295664 | D5: S | E5: 006174 | F5: 01 | G5: tipo indirizzo = 11 | H5: 2026-08-31 12:07:33.000
A6: BBKYAA20L43M088K | B6: 19 | C6: VOUCHER.2026.3073590 | D6: S | E6: 006174 | F6: 01 | G6: tipo indirizzo = 11 | H6: 2026-08-31 12:07:33.000
A7: BBNFMZ18S64C665K | B7: 19 | C7: VOUCHER.2026.2549753 | D7: S | E7: 001265 | F7: 01 | G7: tipo indirizzo = 10 | H7: 2026-08-31 12:07:33.000
A8: BBNLAI12E23Z330T | B8: 19 | C8: VOUCHER.2026.9571910 | D8: S | E8: 001265 | F8: 01 | G8: tipo indirizzo = 10 | H8: 2026-08-31 12:07:33.000
A9: BBNYMN16R50F952C | B9: 19 | C9: VOUCHER.2026.3022148 | D9: S | E9: 003106 | F9: 01 | G9: tipo indirizzo = 10 | H9: 2026-08-31 12:07:34.000
A10: BCCLNZ15S06D969Q | B10: 19 | C10: VOUCHER.2026.8879918 | D10: S | E10: 006081 | F10: 01 | G10: tipo indirizzo = 10 | H10: 2026-08-31 12:07:34.000
A11: BGHRTJ16A41Z330G | B11: 19 | C11: VOUCHER.2026.2380896 | D11: S | E11: 006174 | F11: 01 | G11: tipo indirizzo = 11 | H11: 2026-08-31 12:07:34.000
A12: BGTJNN14P55I470I | B12: 19 | C12: VOUCHER.2026.9320951 | D12: S | E12: 004215 | F12: 01 | G12: tipo indirizzo = 11 | H12: 2026-08-31 12:07:34.000
... A92: BSSJSH12L24L219J | B92: 19 | C92: VOUCHER.2026.7387735 | D92: S | E92: 001265 | F92: 01 | G92: tipo indirizzo = 10 | H92: 2026-08-31 12:07:44.000
A93: BSSYBA12A20Z330S | B93: 19 | C93: VOUCHER.2026.6496936 | D93: S | G93: tipo indirizzo = 4 | H93: 2026-08-31 12:07:44.000
A94: BSTLXA20D14L219Y | B94: 19 | C94: VOUCHER.2026.8567273 | D94: S | E94: 001272 | F94: 01 | G94: tipo indirizzo = 10 | H94: 2026-08-31 12:07:45.000
A95: BRRCLO18P43C722P | B95: 19 | C95: VOUCHER.2026.9266400 | D95: S | E95: 001033 | F95: 01 | G95: tipo indirizzo = 11 | H95: 2026-08-31 12:07:45.000
A96: BRRGRT14P70L219H | B96: 19 | C96: VOUCHER.2026.1244956 | D96: S | E96: 001120 | F96: 01 | G96: tipo indirizzo = 11 | H96: 2026-08-31 12:07:45.000
A97: BRRLCA09L51I470H | B97: 19 | C97: VOUCHER.2026.3029557 | D97: S | E97: 004085 | F97: 01 | G97: tipo indirizzo = 11 | H97: 2026-08-31 12:07:45.000
A98: BRRLHE16E67L219D | B98: 19 | C98: VOUCHER.2026.5202125 | D98: S | E98: 001265 | F98: 01 | G98: tipo indirizzo = 10 | H98: 2026-08-31 12:07:45.000
A99: BRRRNY14M14H355U | B99: 19 | C99: VOUCHER.2026.4201301 | D99: S | E99: 001120 | F99: 01 | G99: tipo indirizzo = 11 | H99: 2026-08-31 12:07:45.000
A100: BVOMHS20B09E379O | B100: 19 | C100: VOUCHER.2026.9853951 | D100: S | E100: 001266 | F100: 01 | G100: tipo indirizzo = 10 | H100: 2026-08-31 12:07:45.000
A101: BVOMIA15S70E379X | B101: 19 | C101: VOUCHER.2026.9733263 | D101: S | E101: 001266 | F101: 01 | G101: tipo indirizzo = 10 | H101: 2026-08-31 12:07:45.000
A102: BZZDKN16C19H355B | B102: 19 | C102: VOUCHER.2026.2871249 | D102: S | E102: 001120 | F102: 01 | G102: tipo indirizzo = 11 | H102: 2026-08-31 12:07:46.000
A103: BZZDLN13D28H355B | B103: 19 | C103: VOUCHER.2026.9767376 | D103: S | E103: 001120 | F103: 01 | G103: tipo indirizzo = 11 | H103: 2026-08-31 12:07:46.000
A104: BRTCRS15A57Z318J | B104: 19 | C104: VOUCHER.2026.9732126 | D104: S | E104: 001120 | F104: 01 | G104: tipo indirizzo = 11 | H104: 2026-08-31 12:07:46.000
A105: BRTGLI08T64A479U | B105: 19 | C105: VOUCHER.2026.8227060 | D105: S | E105: 005053 | F105: 01 | G105: tipo indirizzo = 10 | H105: 2026-08-31 12:07:46.000
... A255: DMANNF12L50C722S | B255: 19 | C255: VOUCHER.2026.5907845 | D255: S | E255: 001128 | F255: 01 | G255: tipo indirizzo = 10 | H255: 2026-08-31 12:08:06.000
A256: DLMVTR08S26Z602P | B256: 19 | C256: VOUCHER.2026.7774595 | D256: S | G256: tipo indirizzo = 4 | H256: 2026-08-31 12:08:06.000
A257: DLPGRL15P28I470W | B257: 19 | C257: VOUCHER.2026.2555112 | D257: S | E257: 001156 | F257: 01 | G257: tipo indirizzo = 11 | H257: 2026-08-31 12:08:06.000
A258: DLPMGH19E53A479S | B258: 19 | C258: VOUCHER.2026.5890819 | D258: S | E258: 005005 | F258: 01 | G258: tipo indirizzo = 11 | H258: 2026-08-31 12:08:07.000
A259: DLPSLG17P03A479Z | B259: 19 | C259: VOUCHER.2026.2412777 | D259: S | E259: 005005 | F259: 01 | G259: tipo indirizzo = 11 | H259: 2026-08-31 12:08:07.000
A260: DMBMMM13R58Z313G | B260: 19 | C260: VOUCHER.2026.5187963 | D260: S | E260: 001024 | F260: 01 | G260: tipo indirizzo = 11 | H260: 2026-08-31 12:08:07.000
A261: DRNTMS16D09Z602W | B261: 19 | C261: VOUCHER.2026.6402276 | D261: S | E261: 001191 | F261: 01 | G261: tipo indirizzo = 11 | H261: 2026-08-31 12:08:07.000
A262: DLLSML07C22F952V | B262: 19 | C262: VOUCHER.2026.7103459 | D262: S | E262: 003106 | F262: 01 | G262: tipo indirizzo = 10 | H262: 2026-08-31 12:08:07.000
A263: FLXNEO20M43F335R | B263: 19 | C263: VOUCHER.2026.8319888 | D263: S | E263: 001265 | F263: 01 | G263: tipo indirizzo = 11 | H263: 2026-08-31 12:08:07.000
A264: FMGRCL15B45C751P | B264: 19 | C264: VOUCHER.2026.1420903 | D264: S | E264: 003154 | F264: 01 | G264: tipo indirizzo = 10 | H264: 2026-08-31 12:08:07.000
A265: FNABSM09D42L219M | B265: 19 | C265: VOUCHER.2026.8017018 | D265: S | E265: 001272 | F265: 01 | G265: tipo indirizzo = 11 | H265: 2026-08-31 12:08:07.000
A266: FNAMHD10R21L219D | B266: 19 | C266: VOUCHER.2026.5092501 | D266: S | E266: 001272 | F266: 01 | G266: tipo indirizzo = 11 | H266: 2026-08-31 12:08:07.000
A267: FRBGRG11C59L219Q | B267: 19 | C267: VOUCHER.2026.2200042 | D267: S | E267: 001120 | F267: 01 | G267: tipo indirizzo = 11 | H267: 2026-08-31 12:08:08.000
A268: FRCBRC18C41L219X | B268: 19 | C268: VOUCHER.2026.5115107 | D268: S | E268: 001217 | F268: 01 | G268: tipo indirizzo = 10 | H268: 2026-08-31 12:08:08.000
...

Sheet Foglio2
A1: ID_DOMANDA | B1: DOMANDA_ID_MODAST | C1: IMPORTO_CONTRIBUTO | D1: ID_TIPO_CONTRIBUTO | E1: ID_STATO_CONTRIBUTO
A2: 1520245 | B2: VOUCHER.2026.8812883 | C2: 100 | D2: 6 | E2: 4
A3: 1520252 | B3: VOUCHER.2026.4866255 | C3: 300 | D3: 6 | E3: 4
A4: 1534765 | B4: VOUCHER.2026.2478489 | C4: 500 | D4: 6 | E4: 4
A5: 1534816 | B5: VOUCHER.2026.1498882 | C5: 300 | D5: 6 | E5: 4
A6: 1534962 | B6: VOUCHER.2026.5863018 | C6: 1000 | D6: 5 | E6: 4
A7: 1535018 | B7: VOUCHER.2026.6434684 | C7: 300 | D7: 6 | E7: 4
A8: 1540859 | B8: VOUCHER.2026.2550258 | C8: 300 | D8: 6 | E8: 4
A9: 1540914 | B9: VOUCHER.2026.3490052 | C9: 200 | D9: 6 | E9: 4
A10: 1540915 | B10: VOUCHER.2026.8796050 | C10: 100 | D10: 6 | E10: 4
A11: 1541010 | B11: VOUCHER.2026.2393542 | C11: 300 | D11: 6 | E11: 4
A12: 1541019 | B12: VOUCHER.2026.6207890 | C12: 300 | D12: 6 | E12: 4
... A204: 1533505 | B204: VOUCHER.2026.6185980 | C204: 150 | D204: 6 | E204: 4
A205: 1537057 | B205: VOUCHER.2026.1108148 | D205: 6 | E205: 4
A206: 1537087 | B206: VOUCHER.2026.3120214 | C206: 50 | D206: 6 | E206: 4
A207: 1537101 | B207: VOUCHER.2026.5613571 | C207: 100 | D207: 6 | E207: 4
A208: 1537131 | B208: VOUCHER.2026.2048374 | C208: 300 | D208: 6 | E208: 4
A209: 1537139 | B209: VOUCHER.2026.8074573 | C209: 300 | D209: 6 | E209: 4
A210: 1537165 | B210: VOUCHER.2026.7738192 | C210: 100 | D210: 6 | E210: 4
A211: 1537185 | B211: VOUCHER.2026.1645412 | C211: 150 | D211: 6 | E211: 4
A212: 1537205 | B212: VOUCHER.2026.2368298 | C212: 200 | D212: 6 | E212: 4
A213: 1537241 | B213: VOUCHER.2026.4283751 | C213: 50 | D213: 6 | E213: 4
A214: 1537286 | B214: VOUCHER.2026.3348914 | C214: 100 | D214: 6 | E214: 4
A215: 1537299 | B215: VOUCHER.2026.6268780 | C215: 200 | D215: 6 | E215: 4
A216: 1537344 | B216: VOUCHER.2026.4619061 | C216: 450 | D216: 6 | E216: 4
A217: 1537354 | B217: VOUCHER.2026.4498067 | C217: 100 | D217: 6 | E217: 4
... A234: 1516765 | B234: VOUCHER.2026.4012914 | C234: 200 | D234: 6 | E234: 4
A235: 1516783 | B235: VOUCHER.2026.2301327 | D235: 6 | E235: 4
A236: 1516791 | B236: VOUCHER.2026.1123007 | C236: 450 | D236: 6 | E236: 4
A237: 1516825 | B237: VOUCHER.2026.7566836 | C237: 200 | D237: 6 | E237: 4
A238: 1516830 | B238: VOUCHER.2026.3153625 | C238: 100 | D238: 6 | E238: 4
A239: 1537494 | B239: VOUCHER.2026.6538887 | C239: 150 | D239: 6 | E239: 4
A240: 1537530 | B240: VOUCHER.2026.9943314 | C240: 100 | D240: 6 | E240: 4
A241: 1537550 | B241: VOUCHER.2026.7802319 | C241: 300 | D241: 6 | E241: 4
A242: 1537562 | B242: VOUCHER.2026.2554313 | C242: 300 | D242: 6 | E242: 4
A243: 1537641 | B243: VOUCHER.2026.3239474 | C243: 1400 | D243: 5 | E243: 4
A244: 1537690 | B244: VOUCHER.2026.8643284 | C244: 150 | D244: 6 | E244: 4
A245: 1537740 | B245: VOUCHER.2026.4959299 | C245: 150 | D245: 6 | E245: 4
A246: 1511259 | B246: VOUCHER.2026.8393372 | C246: 50 | D246: 6 | E246: 4
A247: 1511362 | B247: VOUCHER.2026.7108115 | C247: 50 | D247: 6 | E247: 4
...

Sheet Foglio3
B1: contributo_calcolato | C1: DOMANDA_ID_MODAST | D1: SCUOLAATTUALE_ID | E1: ID_ORDINE_SCUOLA | F1: ID_TIPO_SCUOLA | G1: ISEEVALORE | H1: FLAG_STUDCERTIF104
A2: VOUCHER.2026.1108148 | B2: 500 | C2: VOUCHER.2026.1108148 | D2: 54690 | E2: 3 | F2: 1 | G2: 2260 | H2: N
A3: VOUCHER.2026.2301327 | B3: 300 | C3: VOUCHER.2026.2301327 | D3: 55640 | E3: 3 | F3: 1 | G3: 8967.48 | H3: N
A4: VOUCHER.2026.2752148 | B4: 300 | C4: VOUCHER.2026.2752148 | D4: 54698 | E4: 3 | F4: 1 | G4: 7074.81 | H4: N
A5: VOUCHER.2026.3862642 | B5: 150 | C5: VOUCHER.2026.3862642 | D5: 55778 | E5: 1 | F5: 1 | G5: 889.71 | H5: N
A6: VOUCHER.2026.5361201 | B6: 100 | C6: VOUCHER.2026.5361201 | D6: 54581 | E6: 1 | F6: 1 | G6: 5653.86 | H6: N
A7: VOUCHER.2026.8121846 | B7: 200 | C7: VOUCHER.2026.8121846 | D7: 55800 | E7: 2 | F7: 1 | G7: 7976.42 | H7: N
